BEGIN:VCALENDAR
VERSION:2.0
PRODID:-//CATERINA - ECPv5.16.4//NONSGML v1.0//EN
CALSCALE:GREGORIAN
METHOD:PUBLISH
X-ORIGINAL-URL:https://caterinaproducciones.com
X-WR-CALDESC:Eventos para CATERINA
REFRESH-INTERVAL;VALUE=DURATION:PT1H
X-Robots-Tag:noindex
X-PUBLISHED-TTL:PT1H
BEGIN:VTIMEZONE
TZID:Europe/Madrid
BEGIN:DAYLIGHT
TZOFFSETFROM:+0100
TZOFFSETTO:+0200
TZNAME:CEST
DTSTART:20230326T010000
END:DAYLIGHT
BEGIN:STANDARD
TZOFFSETFROM:+0200
TZOFFSETTO:+0100
TZNAME:CET
DTSTART:20231029T010000
END:STANDARD
END:VTIMEZONE
BEGIN:VEVENT
DTSTART;VALUE=DATE:20230609
DTEND;VALUE=DATE:20230611
DTSTAMP:20260424T200554
CREATED:20221229T202232Z
LAST-MODIFIED:20230103T205609Z
UID:7307-1686272400-1686358799@caterinaproducciones.com
SUMMARY:Finlandia
DESCRIPTION:
URL:https://caterinaproducciones.com/evento/finlandia-10/
LOCATION:TEATRO PALACIO VALDÉS\, Avilés\, Avilés\, Asturias\, España
CATEGORIES:Finlandia
ATTACH;FMTTYPE=image/jpeg:https://caterinaproducciones.com/wp-content/uploads/2017/06/finlandia-1.jpg
END:VEVENT
BEGIN:VEVENT
DTSTART;VALUE=DATE:20230603
DTEND;VALUE=DATE:20230605
DTSTAMP:20260424T200554
CREATED:20221229T202232Z
LAST-MODIFIED:20230103T205529Z
UID:7305-1685754000-1685840399@caterinaproducciones.com
SUMMARY:Finlandia
DESCRIPTION:
URL:https://caterinaproducciones.com/evento/finlandia-9/
LOCATION:TEATRO FRANCISCO ROJAS\, Toledo\, Toledo\, España
CATEGORIES:Finlandia
ATTACH;FMTTYPE=image/jpeg:https://caterinaproducciones.com/wp-content/uploads/2017/06/finlandia-1.jpg
END:VEVENT
BEGIN:VEVENT
DTSTART;VALUE=DATE:20230521
DTEND;VALUE=DATE:20230523
DTSTAMP:20260424T200554
CREATED:20221229T202232Z
LAST-MODIFIED:20230103T210140Z
UID:7314-1684630800-1684717199@caterinaproducciones.com
SUMMARY:Finlandia
DESCRIPTION:
URL:https://caterinaproducciones.com/evento/finlandia-16/
LOCATION:TEATRE MUNICIPAL\, Benicàssim\, Benicássim\, Castellón\, España
CATEGORIES:Finlandia
ATTACH;FMTTYPE=image/jpeg:https://caterinaproducciones.com/wp-content/uploads/2017/06/finlandia-1.jpg
END:VEVENT
BEGIN:VEVENT
DTSTART;VALUE=DATE:20230513
DTEND;VALUE=DATE:20230515
DTSTAMP:20260424T200554
CREATED:20221230T163933Z
LAST-MODIFIED:20221230T164459Z
UID:6285-1683939600-1684025999@caterinaproducciones.com
SUMMARY:La voluntad de creer
DESCRIPTION:
URL:https://caterinaproducciones.com/evento/la-voluntad-de-creer-8/
LOCATION:TEATRO FRANCISCO RABAL\, Pinto\, Pinto\, Madrid
CATEGORIES:La voluntad de creer
ATTACH;FMTTYPE=image/jpeg:https://caterinaproducciones.com/wp-content/uploads/2017/06/la-voluntad-de-creer-1.jpg
END:VEVENT
BEGIN:VEVENT
DTSTART;VALUE=DATE:20230513
DTEND;VALUE=DATE:20230515
DTSTAMP:20260424T200554
CREATED:20221229T202232Z
LAST-MODIFIED:20230103T210118Z
UID:7309-1683939600-1684025999@caterinaproducciones.com
SUMMARY:Finlandia
DESCRIPTION:
URL:https://caterinaproducciones.com/evento/finlandia-15/
LOCATION:ESPAI CULTURAL CAN VENTOSA\, Ibiza\, Ibiza\, Islas Baleares\, España
CATEGORIES:Finlandia
ATTACH;FMTTYPE=image/jpeg:https://caterinaproducciones.com/wp-content/uploads/2017/06/finlandia-1.jpg
END:VEVENT
BEGIN:VEVENT
DTSTART;VALUE=DATE:20230506
DTEND;VALUE=DATE:20230508
DTSTAMP:20260424T200554
CREATED:20221229T202232Z
LAST-MODIFIED:20230103T210101Z
UID:7310-1683334800-1683421199@caterinaproducciones.com
SUMMARY:Finlandia
DESCRIPTION:
URL:https://caterinaproducciones.com/evento/finlandia-14/
LOCATION:NUEVO TEATRO DE LA FELGUERA\, Langreo\, Langreo\, Asturias\, España
CATEGORIES:Finlandia
ATTACH;FMTTYPE=image/jpeg:https://caterinaproducciones.com/wp-content/uploads/2017/06/finlandia-1.jpg
END:VEVENT
BEGIN:VEVENT
DTSTART;VALUE=DATE:20230325
DTEND;VALUE=DATE:20230327
DTSTAMP:20260424T200554
CREATED:20221229T195520Z
LAST-MODIFIED:20221229T195520Z
UID:5403-1679706000-1679792399@caterinaproducciones.com
SUMMARY:El mal de la montaña
DESCRIPTION:
URL:https://caterinaproducciones.com/evento/el-mal-de-la-montana-4/2023-03-25/
LOCATION:TEATRO ALHAMBRA\, Granada\, Granada\, Granada\, España
CATEGORIES:El mal de la montaña
ATTACH;FMTTYPE=image/jpeg:https://caterinaproducciones.com/wp-content/uploads/2017/06/el-mal-de-la-montana-1.jpg
END:VEVENT
BEGIN:VEVENT
DTSTART;VALUE=DATE:20230325
DTEND;VALUE=DATE:20230327
DTSTAMP:20260424T200554
CREATED:20221230T163933Z
LAST-MODIFIED:20230103T210818Z
UID:7324-1679706000-1679792399@caterinaproducciones.com
SUMMARY:La voluntad de creer
DESCRIPTION:
URL:https://caterinaproducciones.com/evento/la-voluntad-de-creer-10/
LOCATION:TEATRO CIRCO\, Murcia\, Murcia\, Murcia\, España
CATEGORIES:La voluntad de creer
ATTACH;FMTTYPE=image/jpeg:https://caterinaproducciones.com/wp-content/uploads/2017/06/la-voluntad-de-creer-1.jpg
END:VEVENT
BEGIN:VEVENT
DTSTART;VALUE=DATE:20230324
DTEND;VALUE=DATE:20230326
DTSTAMP:20260424T200554
CREATED:20221229T195520Z
LAST-MODIFIED:20221229T195520Z
UID:5401-1679619600-1679705999@caterinaproducciones.com
SUMMARY:El mal de la montaña
DESCRIPTION:
URL:https://caterinaproducciones.com/evento/el-mal-de-la-montana-4/2023-03-24/
LOCATION:TEATRO ALHAMBRA\, Granada\, Granada\, Granada\, España
CATEGORIES:El mal de la montaña
ATTACH;FMTTYPE=image/jpeg:https://caterinaproducciones.com/wp-content/uploads/2017/06/el-mal-de-la-montana-1.jpg
END:VEVENT
BEGIN:VEVENT
DTSTART;VALUE=DATE:20230304
DTEND;VALUE=DATE:20230306
DTSTAMP:20260424T200554
CREATED:20221230T163933Z
LAST-MODIFIED:20221230T164436Z
UID:6286-1677891600-1677977999@caterinaproducciones.com
SUMMARY:La voluntad de creer
DESCRIPTION:
URL:https://caterinaproducciones.com/evento/la-voluntad-de-creer-7/
LOCATION:TEATRO BARAKALDO\, Barakaldo\, Barakaldo\, Vizcaya\, España
CATEGORIES:La voluntad de creer
ATTACH;FMTTYPE=image/jpeg:https://caterinaproducciones.com/wp-content/uploads/2017/06/la-voluntad-de-creer-1.jpg
END:VEVENT
BEGIN:VEVENT
DTSTART;VALUE=DATE:20230303
DTEND;VALUE=DATE:20230305
DTSTAMP:20260424T200554
CREATED:20221230T163933Z
LAST-MODIFIED:20230103T210724Z
UID:6288-1677805200-1677891599@caterinaproducciones.com
SUMMARY:La voluntad de creer
DESCRIPTION:
URL:https://caterinaproducciones.com/evento/la-voluntad-de-creer-5/
LOCATION:TEATRO PRINCIPAL\, Zamora\, Zamora\, Zamora\, España
CATEGORIES:La voluntad de creer
ATTACH;FMTTYPE=image/jpeg:https://caterinaproducciones.com/wp-content/uploads/2017/06/la-voluntad-de-creer-1.jpg
END:VEVENT
BEGIN:VEVENT
DTSTART;VALUE=DATE:20230211
DTEND;VALUE=DATE:20230213
DTSTAMP:20260424T200554
CREATED:20221230T163933Z
LAST-MODIFIED:20221230T163933Z
UID:6295-1676077200-1676163599@caterinaproducciones.com
SUMMARY:La voluntad de creer
DESCRIPTION:
URL:https://caterinaproducciones.com/evento/la-voluntad-de-creer-6/2023-02-11/
LOCATION:TEATRO CENTRAL\, Sevilla\, Sevilla\, Sevilla\, España
CATEGORIES:La voluntad de creer
ATTACH;FMTTYPE=image/jpeg:https://caterinaproducciones.com/wp-content/uploads/2017/06/la-voluntad-de-creer-1.jpg
END:VEVENT
BEGIN:VEVENT
DTSTART;VALUE=DATE:20230210
DTEND;VALUE=DATE:20230212
DTSTAMP:20260424T200554
CREATED:20221230T163933Z
LAST-MODIFIED:20221230T164413Z
UID:6287-1675990800-1676077199@caterinaproducciones.com
SUMMARY:La voluntad de creer
DESCRIPTION:
URL:https://caterinaproducciones.com/evento/la-voluntad-de-creer-6/2023-02-10/
LOCATION:TEATRO CENTRAL\, Sevilla\, Sevilla\, Sevilla\, España
CATEGORIES:La voluntad de creer
ATTACH;FMTTYPE=image/jpeg:https://caterinaproducciones.com/wp-content/uploads/2017/06/la-voluntad-de-creer-1.jpg
END:VEVENT
BEGIN:VEVENT
DTSTART;VALUE=DATE:20230204
DTEND;VALUE=DATE:20230206
DTSTAMP:20260424T200554
CREATED:20221229T195351Z
LAST-MODIFIED:20221229T195351Z
UID:5400-1675472400-1675558799@caterinaproducciones.com
SUMMARY:El mal de la montaña
DESCRIPTION:
URL:https://caterinaproducciones.com/evento/el-mal-de-la-montana-3/2023-02-04/
LOCATION:TEATRO CENTRAL\, Sevilla\, Sevilla\, Sevilla\, España
CATEGORIES:El mal de la montaña
ATTACH;FMTTYPE=image/jpeg:https://caterinaproducciones.com/wp-content/uploads/2017/06/el-mal-de-la-montana-1.jpg
END:VEVENT
BEGIN:VEVENT
DTSTART;VALUE=DATE:20230203
DTEND;VALUE=DATE:20230205
DTSTAMP:20260424T200554
CREATED:20221229T195351Z
LAST-MODIFIED:20221229T195434Z
UID:5398-1675386000-1675472399@caterinaproducciones.com
SUMMARY:El mal de la montaña
DESCRIPTION:
URL:https://caterinaproducciones.com/evento/el-mal-de-la-montana-3/2023-02-03/
LOCATION:TEATRO CENTRAL\, Sevilla\, Sevilla\, Sevilla\, España
CATEGORIES:El mal de la montaña
ATTACH;FMTTYPE=image/jpeg:https://caterinaproducciones.com/wp-content/uploads/2017/06/el-mal-de-la-montana-1.jpg
END:VEVENT
BEGIN:VEVENT
DTSTART;VALUE=DATE:20230128
DTEND;VALUE=DATE:20230130
DTSTAMP:20260424T200554
CREATED:20221230T163933Z
LAST-MODIFIED:20221230T163933Z
UID:6292-1674867600-1674953999@caterinaproducciones.com
SUMMARY:La voluntad de creer
DESCRIPTION:
URL:https://caterinaproducciones.com/evento/la-voluntad-de-creer-4/2023-01-28/
LOCATION:TEATRO ROSALÍA DE CASTRO\, A Coruña\, A Coruña\, A Coruña\, España
CATEGORIES:La voluntad de creer
ATTACH;FMTTYPE=image/jpeg:https://caterinaproducciones.com/wp-content/uploads/2017/06/la-voluntad-de-creer-1.jpg
END:VEVENT
BEGIN:VEVENT
DTSTART;VALUE=DATE:20230128
DTEND;VALUE=DATE:20230130
DTSTAMP:20260424T200554
CREATED:20221229T202232Z
LAST-MODIFIED:20221229T202232Z
UID:7319-1674867600-1674953999@caterinaproducciones.com
SUMMARY:Finlandia
DESCRIPTION:
URL:https://caterinaproducciones.com/evento/finlandia-13/2023-01-28/
LOCATION:TEATRO CENTRAL\, Sevilla\, Sevilla\, Sevilla\, España
CATEGORIES:Finlandia
ATTACH;FMTTYPE=image/jpeg:https://caterinaproducciones.com/wp-content/uploads/2017/06/finlandia-1.jpg
END:VEVENT
BEGIN:VEVENT
DTSTART;VALUE=DATE:20230128
DTEND;VALUE=DATE:20230130
DTSTAMP:20260424T200554
CREATED:20230103T112147Z
LAST-MODIFIED:20230103T113252Z
UID:6405-1674867600-1674953999@caterinaproducciones.com
SUMMARY:Los farsantes
DESCRIPTION:
URL:https://caterinaproducciones.com/evento/los-farsantes-18/
LOCATION:TEATRO ROMEA\, Murcia\, Murcia\, Murcia\, España
CATEGORIES:Los farsantes
ATTACH;FMTTYPE=image/jpeg:https://caterinaproducciones.com/wp-content/uploads/2017/06/los-farsantes-1b.jpg
END:VEVENT
BEGIN:VEVENT
DTSTART;VALUE=DATE:20230127
DTEND;VALUE=DATE:20230129
DTSTAMP:20260424T200554
CREATED:20221230T163933Z
LAST-MODIFIED:20221230T164332Z
UID:6289-1674781200-1674867599@caterinaproducciones.com
SUMMARY:La voluntad de creer
DESCRIPTION:
URL:https://caterinaproducciones.com/evento/la-voluntad-de-creer-4/2023-01-27/
LOCATION:TEATRO ROSALÍA DE CASTRO\, A Coruña\, A Coruña\, A Coruña\, España
CATEGORIES:La voluntad de creer
ATTACH;FMTTYPE=image/jpeg:https://caterinaproducciones.com/wp-content/uploads/2017/06/la-voluntad-de-creer-1.jpg
END:VEVENT
BEGIN:VEVENT
DTSTART;VALUE=DATE:20230127
DTEND;VALUE=DATE:20230129
DTSTAMP:20260424T200554
CREATED:20221229T202232Z
LAST-MODIFIED:20230103T210012Z
UID:7311-1674781200-1674867599@caterinaproducciones.com
SUMMARY:Finlandia
DESCRIPTION:
URL:https://caterinaproducciones.com/evento/finlandia-13/2023-01-27/
LOCATION:TEATRO CENTRAL\, Sevilla\, Sevilla\, Sevilla\, España
CATEGORIES:Finlandia
ATTACH;FMTTYPE=image/jpeg:https://caterinaproducciones.com/wp-content/uploads/2017/06/finlandia-1.jpg
END:VEVENT
BEGIN:VEVENT
DTSTART;VALUE=DATE:20230127
DTEND;VALUE=DATE:20230129
DTSTAMP:20260424T200554
CREATED:20221229T195351Z
LAST-MODIFIED:20221229T195351Z
UID:5365-1674781200-1674867599@caterinaproducciones.com
SUMMARY:El mal de la montaña
DESCRIPTION:
URL:https://caterinaproducciones.com/evento/el-mal-de-la-montana-2/
LOCATION:TEATRO ARNICHES\, Alicante\, Alicante\, Alicante\, España
CATEGORIES:El mal de la montaña
ATTACH;FMTTYPE=image/jpeg:https://caterinaproducciones.com/wp-content/uploads/2017/06/el-mal-de-la-montana-1.jpg
END:VEVENT
BEGIN:VEVENT
DTSTART;VALUE=DATE:20230121
DTEND;VALUE=DATE:20230123
DTSTAMP:20260424T200554
CREATED:20230103T112147Z
LAST-MODIFIED:20230103T113233Z
UID:6399-1674262800-1674349199@caterinaproducciones.com
SUMMARY:Los farsantes
DESCRIPTION:
URL:https://caterinaproducciones.com/evento/los-farsantes-17/
LOCATION:TEATRO NUEVO COSLADA\, Coslada\, Coslada\, Madrid\, España
CATEGORIES:Los farsantes
ATTACH;FMTTYPE=image/jpeg:https://caterinaproducciones.com/wp-content/uploads/2017/06/los-farsantes-1b.jpg
END:VEVENT
BEGIN:VEVENT
DTSTART;VALUE=DATE:20230121
DTEND;VALUE=DATE:20230123
DTSTAMP:20260424T200554
CREATED:20221229T202232Z
LAST-MODIFIED:20230103T205944Z
UID:7312-1674262800-1674349199@caterinaproducciones.com
SUMMARY:Finlandia
DESCRIPTION:
URL:https://caterinaproducciones.com/evento/finlandia-12/
LOCATION:TEATRO MUNICIPAL MARCELO GRANDE\, Tomelloso\, Tomelloso\, Ciudad Real\, España
CATEGORIES:Finlandia
ATTACH;FMTTYPE=image/jpeg:https://caterinaproducciones.com/wp-content/uploads/2017/06/finlandia-1.jpg
END:VEVENT
BEGIN:VEVENT
DTSTART;VALUE=DATE:20230116
DTEND;VALUE=DATE:20230118
DTSTAMP:20260424T200554
CREATED:20230103T112147Z
LAST-MODIFIED:20230103T112147Z
UID:7304-1673830800-1673917199@caterinaproducciones.com
SUMMARY:Los farsantes
DESCRIPTION:
URL:https://caterinaproducciones.com/evento/los-farsantes-16/2023-01-16/
LOCATION:TEATRO GAYARRE\, Pamplona\, Pamplona\, Navarra\, España
CATEGORIES:Los farsantes
ATTACH;FMTTYPE=image/jpeg:https://caterinaproducciones.com/wp-content/uploads/2017/06/los-farsantes-1b.jpg
END:VEVENT
BEGIN:VEVENT
DTSTART;VALUE=DATE:20230115
DTEND;VALUE=DATE:20230117
DTSTAMP:20260424T200554
CREATED:20221230T163933Z
LAST-MODIFIED:20221230T163933Z
UID:6284-1673744400-1673830799@caterinaproducciones.com
SUMMARY:La voluntad de creer
DESCRIPTION:
URL:https://caterinaproducciones.com/evento/la-voluntad-de-creer-3/2023-01-15/
LOCATION:TEATRE LLIURE\, Barcelona\, Barcelona\, Barcelona\, España
CATEGORIES:La voluntad de creer
ATTACH;FMTTYPE=image/jpeg:https://caterinaproducciones.com/wp-content/uploads/2017/06/la-voluntad-de-creer-1.jpg
END:VEVENT
BEGIN:VEVENT
DTSTART;VALUE=DATE:20230115
DTEND;VALUE=DATE:20230117
DTSTAMP:20260424T200554
CREATED:20230103T112147Z
LAST-MODIFIED:20230103T203749Z
UID:6400-1673744400-1673830799@caterinaproducciones.com
SUMMARY:Los farsantes
DESCRIPTION:
URL:https://caterinaproducciones.com/evento/los-farsantes-16/2023-01-15/
LOCATION:TEATRO GAYARRE\, Pamplona\, Pamplona\, Navarra\, España
CATEGORIES:Los farsantes
ATTACH;FMTTYPE=image/jpeg:https://caterinaproducciones.com/wp-content/uploads/2017/06/los-farsantes-1b.jpg
END:VEVENT
BEGIN:VEVENT
DTSTART;VALUE=DATE:20230114
DTEND;VALUE=DATE:20230116
DTSTAMP:20260424T200554
CREATED:20221230T163933Z
LAST-MODIFIED:20221230T163933Z
UID:6283-1673658000-1673744399@caterinaproducciones.com
SUMMARY:La voluntad de creer
DESCRIPTION:
URL:https://caterinaproducciones.com/evento/la-voluntad-de-creer-3/2023-01-14/
LOCATION:TEATRE LLIURE\, Barcelona\, Barcelona\, Barcelona\, España
CATEGORIES:La voluntad de creer
ATTACH;FMTTYPE=image/jpeg:https://caterinaproducciones.com/wp-content/uploads/2017/06/la-voluntad-de-creer-1.jpg
END:VEVENT
BEGIN:VEVENT
DTSTART;VALUE=DATE:20230114
DTEND;VALUE=DATE:20230116
DTSTAMP:20260424T200554
CREATED:20221229T202232Z
LAST-MODIFIED:20230103T205846Z
UID:7313-1673658000-1673744399@caterinaproducciones.com
SUMMARY:Finlandia
DESCRIPTION:
URL:https://caterinaproducciones.com/evento/finlandia-11/
LOCATION:TEATRO PRINCIPAL\, Ourense\, Ourense\, Ourense\, España
CATEGORIES:Finlandia
ATTACH;FMTTYPE=image/jpeg:https://caterinaproducciones.com/wp-content/uploads/2017/06/finlandia-1.jpg
END:VEVENT
BEGIN:VEVENT
DTSTART;VALUE=DATE:20230113
DTEND;VALUE=DATE:20230115
DTSTAMP:20260424T200554
CREATED:20230103T112147Z
LAST-MODIFIED:20230103T112147Z
UID:6414-1673571600-1673657999@caterinaproducciones.com
SUMMARY:Los farsantes
DESCRIPTION:
URL:https://caterinaproducciones.com/evento/los-farsantes-15/2023-01-13/
LOCATION:TEATRO BRETÓN\, Logroño\, Logroño\, Logroño\, España
CATEGORIES:Los farsantes
ATTACH;FMTTYPE=image/jpeg:https://caterinaproducciones.com/wp-content/uploads/2017/06/los-farsantes-1b.jpg
END:VEVENT
BEGIN:VEVENT
DTSTART;VALUE=DATE:20230113
DTEND;VALUE=DATE:20230115
DTSTAMP:20260424T200554
CREATED:20221230T163933Z
LAST-MODIFIED:20221230T163933Z
UID:6282-1673571600-1673657999@caterinaproducciones.com
SUMMARY:La voluntad de creer
DESCRIPTION:
URL:https://caterinaproducciones.com/evento/la-voluntad-de-creer-3/2023-01-13/
LOCATION:TEATRE LLIURE\, Barcelona\, Barcelona\, Barcelona\, España
CATEGORIES:La voluntad de creer
ATTACH;FMTTYPE=image/jpeg:https://caterinaproducciones.com/wp-content/uploads/2017/06/la-voluntad-de-creer-1.jpg
END:VEVENT
END:VCALENDAR