BEGIN:VCALENDAR
VERSION:2.0
PRODID:-//CATERINA - ECPv5.16.4//NONSGML v1.0//EN
CALSCALE:GREGORIAN
METHOD:PUBLISH
X-WR-CALNAME:CATERINA
X-ORIGINAL-URL:https://caterinaproducciones.com
X-WR-CALDESC:Eventos para CATERINA
REFRESH-INTERVAL;VALUE=DURATION:PT1H
X-Robots-Tag:noindex
X-PUBLISHED-TTL:PT1H
BEGIN:VTIMEZONE
TZID:Europe/Madrid
BEGIN:DAYLIGHT
TZOFFSETFROM:+0100
TZOFFSETTO:+0200
TZNAME:CEST
DTSTART:20170326T010000
END:DAYLIGHT
BEGIN:STANDARD
TZOFFSETFROM:+0200
TZOFFSETTO:+0100
TZNAME:CET
DTSTART:20171029T010000
END:STANDARD
BEGIN:DAYLIGHT
TZOFFSETFROM:+0100
TZOFFSETTO:+0200
TZNAME:CEST
DTSTART:20180325T010000
END:DAYLIGHT
BEGIN:STANDARD
TZOFFSETFROM:+0200
TZOFFSETTO:+0100
TZNAME:CET
DTSTART:20181028T010000
END:STANDARD
BEGIN:DAYLIGHT
TZOFFSETFROM:+0100
TZOFFSETTO:+0200
TZNAME:CEST
DTSTART:20190331T010000
END:DAYLIGHT
BEGIN:STANDARD
TZOFFSETFROM:+0200
TZOFFSETTO:+0100
TZNAME:CET
DTSTART:20191027T010000
END:STANDARD
BEGIN:DAYLIGHT
TZOFFSETFROM:+0100
TZOFFSETTO:+0200
TZNAME:CEST
DTSTART:20200329T010000
END:DAYLIGHT
BEGIN:STANDARD
TZOFFSETFROM:+0200
TZOFFSETTO:+0100
TZNAME:CET
DTSTART:20201025T010000
END:STANDARD
BEGIN:DAYLIGHT
TZOFFSETFROM:+0100
TZOFFSETTO:+0200
TZNAME:CEST
DTSTART:20210328T010000
END:DAYLIGHT
BEGIN:STANDARD
TZOFFSETFROM:+0200
TZOFFSETTO:+0100
TZNAME:CET
DTSTART:20211031T010000
END:STANDARD
END:VTIMEZONE
BEGIN:VEVENT
DTSTART;VALUE=DATE:20170203
DTEND;VALUE=DATE:20170205
DTSTAMP:20260425T174209
CREATED:20230103T143029Z
LAST-MODIFIED:20230103T172611Z
UID:7065-1486083600-1486169999@caterinaproducciones.com
SUMMARY:Yo\, Feuerbach
DESCRIPTION:
URL:https://caterinaproducciones.com/evento/yo-feuerbach-8/2017-02-03/
LOCATION:CORRAL DE COMEDIAS\, Alcalá de Henares\, Alcalá de Henares\, Madrid\, España
CATEGORIES:Yo, Feuerbach
ATTACH;FMTTYPE=image/jpeg:https://caterinaproducciones.com/wp-content/uploads/2017/06/feuerbach-1.jpg
END:VEVENT
BEGIN:VEVENT
DTSTART;VALUE=DATE:20170204
DTEND;VALUE=DATE:20170206
DTSTAMP:20260425T174209
CREATED:20230103T143029Z
LAST-MODIFIED:20230103T143029Z
UID:7081-1486170000-1486256399@caterinaproducciones.com
SUMMARY:Yo\, Feuerbach
DESCRIPTION:
URL:https://caterinaproducciones.com/evento/yo-feuerbach-8/2017-02-04/
LOCATION:CORRAL DE COMEDIAS\, Alcalá de Henares\, Alcalá de Henares\, Madrid\, España
CATEGORIES:Yo, Feuerbach
ATTACH;FMTTYPE=image/jpeg:https://caterinaproducciones.com/wp-content/uploads/2017/06/feuerbach-1.jpg
END:VEVENT
BEGIN:VEVENT
DTSTART;VALUE=DATE:20180210
DTEND;VALUE=DATE:20180212
DTSTAMP:20260425T174209
CREATED:20230103T105914Z
LAST-MODIFIED:20230103T111045Z
UID:6314-1518224400-1518310799@caterinaproducciones.com
SUMMARY:Leyendo Lorca
DESCRIPTION:
URL:https://caterinaproducciones.com/evento/leyendo-lorca-9/2018-02-10/
LOCATION:CORRAL DE COMEDIAS\, Alcalá de Henares\, Alcalá de Henares\, Madrid\, España
CATEGORIES:Leyendo Lorca
ATTACH;FMTTYPE=image/jpeg:https://caterinaproducciones.com/wp-content/uploads/2017/06/leyendo-lorca-1.jpg
END:VEVENT
BEGIN:VEVENT
DTSTART;VALUE=DATE:20180211
DTEND;VALUE=DATE:20180213
DTSTAMP:20260425T174209
CREATED:20230103T105914Z
LAST-MODIFIED:20230103T105914Z
UID:6329-1518310800-1518397199@caterinaproducciones.com
SUMMARY:Leyendo Lorca
DESCRIPTION:
URL:https://caterinaproducciones.com/evento/leyendo-lorca-9/2018-02-11/
LOCATION:CORRAL DE COMEDIAS\, Alcalá de Henares\, Alcalá de Henares\, Madrid\, España
CATEGORIES:Leyendo Lorca
ATTACH;FMTTYPE=image/jpeg:https://caterinaproducciones.com/wp-content/uploads/2017/06/leyendo-lorca-1.jpg
END:VEVENT
BEGIN:VEVENT
DTSTART;VALUE=DATE:20180427
DTEND;VALUE=DATE:20180429
DTSTAMP:20260425T174209
CREATED:20221229T184920Z
LAST-MODIFIED:20221229T185914Z
UID:5180-1524790800-1524877199@caterinaproducciones.com
SUMMARY:Barbados\, etcétera
DESCRIPTION:
URL:https://caterinaproducciones.com/evento/barbados-etcetera-8/2018-04-27/
LOCATION:CORRAL DE COMEDIAS\, Alcalá de Henares\, Alcalá de Henares\, Madrid\, España
CATEGORIES:Barbados, etcétera
ATTACH;FMTTYPE=image/jpeg:https://caterinaproducciones.com/wp-content/uploads/2022/07/barbados-etcetera-1.jpg
END:VEVENT
BEGIN:VEVENT
DTSTART;VALUE=DATE:20180428
DTEND;VALUE=DATE:20180430
DTSTAMP:20260425T174209
CREATED:20221229T184920Z
LAST-MODIFIED:20221229T184920Z
UID:5192-1524877200-1524963599@caterinaproducciones.com
SUMMARY:Barbados\, etcétera
DESCRIPTION:
URL:https://caterinaproducciones.com/evento/barbados-etcetera-8/2018-04-28/
LOCATION:CORRAL DE COMEDIAS\, Alcalá de Henares\, Alcalá de Henares\, Madrid\, España
CATEGORIES:Barbados, etcétera
ATTACH;FMTTYPE=image/jpeg:https://caterinaproducciones.com/wp-content/uploads/2022/07/barbados-etcetera-1.jpg
END:VEVENT
BEGIN:VEVENT
DTSTART;VALUE=DATE:20181011
DTEND;VALUE=DATE:20181013
DTSTAMP:20260425T174209
CREATED:20230103T174952Z
LAST-MODIFIED:20230103T175036Z
UID:7114-1539219600-1539305999@caterinaproducciones.com
SUMMARY:Quijotes y Sanchos
DESCRIPTION:
URL:https://caterinaproducciones.com/evento/quijotes-y-sanchos-2/2018-10-11/
LOCATION:CORRAL DE COMEDIAS\, Alcalá de Henares\, Alcalá de Henares\, Madrid\, España
CATEGORIES:Quijotes y Sanchos
ATTACH;FMTTYPE=image/jpeg:https://caterinaproducciones.com/wp-content/uploads/2017/06/quijotes-y-sanchos-6.jpg
END:VEVENT
BEGIN:VEVENT
DTSTART;VALUE=DATE:20181012
DTEND;VALUE=DATE:20181014
DTSTAMP:20260425T174209
CREATED:20230103T174952Z
LAST-MODIFIED:20230103T174952Z
UID:7124-1539306000-1539392399@caterinaproducciones.com
SUMMARY:Quijotes y Sanchos
DESCRIPTION:
URL:https://caterinaproducciones.com/evento/quijotes-y-sanchos-2/2018-10-12/
LOCATION:CORRAL DE COMEDIAS\, Alcalá de Henares\, Alcalá de Henares\, Madrid\, España
CATEGORIES:Quijotes y Sanchos
ATTACH;FMTTYPE=image/jpeg:https://caterinaproducciones.com/wp-content/uploads/2017/06/quijotes-y-sanchos-6.jpg
END:VEVENT
BEGIN:VEVENT
DTSTART;VALUE=DATE:20181013
DTEND;VALUE=DATE:20181015
DTSTAMP:20260425T174209
CREATED:20230103T174952Z
LAST-MODIFIED:20230103T174952Z
UID:7125-1539392400-1539478799@caterinaproducciones.com
SUMMARY:Quijotes y Sanchos
DESCRIPTION:
URL:https://caterinaproducciones.com/evento/quijotes-y-sanchos-2/2018-10-13/
LOCATION:CORRAL DE COMEDIAS\, Alcalá de Henares\, Alcalá de Henares\, Madrid\, España
CATEGORIES:Quijotes y Sanchos
ATTACH;FMTTYPE=image/jpeg:https://caterinaproducciones.com/wp-content/uploads/2017/06/quijotes-y-sanchos-6.jpg
END:VEVENT
BEGIN:VEVENT
DTSTART;VALUE=DATE:20190222
DTEND;VALUE=DATE:20190224
DTSTAMP:20260425T174209
CREATED:20221229T203442Z
LAST-MODIFIED:20221229T203537Z
UID:5597-1550797200-1550883599@caterinaproducciones.com
SUMMARY:Hermanas (Bárbara e Irene)
DESCRIPTION:
URL:https://caterinaproducciones.com/evento/hermanas-barbara-e-irene-4/2019-02-22/
LOCATION:CORRAL DE COMEDIAS\, Alcalá de Henares\, Alcalá de Henares\, Madrid\, España
CATEGORIES:Hermanas (Bárbara e Irene)
ATTACH;FMTTYPE=image/jpeg:https://caterinaproducciones.com/wp-content/uploads/2017/06/hermanas-1.jpg
END:VEVENT
BEGIN:VEVENT
DTSTART;VALUE=DATE:20190223
DTEND;VALUE=DATE:20190225
DTSTAMP:20260425T174209
CREATED:20221229T203442Z
LAST-MODIFIED:20221229T203442Z
UID:5599-1550883600-1550969999@caterinaproducciones.com
SUMMARY:Hermanas (Bárbara e Irene)
DESCRIPTION:
URL:https://caterinaproducciones.com/evento/hermanas-barbara-e-irene-4/2019-02-23/
LOCATION:CORRAL DE COMEDIAS\, Alcalá de Henares\, Alcalá de Henares\, Madrid\, España
CATEGORIES:Hermanas (Bárbara e Irene)
ATTACH;FMTTYPE=image/jpeg:https://caterinaproducciones.com/wp-content/uploads/2017/06/hermanas-1.jpg
END:VEVENT
BEGIN:VEVENT
DTSTART;VALUE=DATE:20190226
DTEND;VALUE=DATE:20190228
DTSTAMP:20260425T174209
CREATED:20230103T115941Z
LAST-MODIFIED:20230103T120113Z
UID:6478-1551142800-1551229199@caterinaproducciones.com
SUMMARY:Peregrinos
DESCRIPTION:
URL:https://caterinaproducciones.com/evento/peregrinos-4/2019-02-26/
LOCATION:CORRAL DE COMEDIAS\, Alcalá de Henares\, Alcalá de Henares\, Madrid\, España
CATEGORIES:Peregrinos
ATTACH;FMTTYPE=image/jpeg:https://caterinaproducciones.com/wp-content/uploads/2017/06/peregrinos-1.jpg
END:VEVENT
BEGIN:VEVENT
DTSTART;VALUE=DATE:20190227
DTEND;VALUE=DATE:20190301
DTSTAMP:20260425T174209
CREATED:20230103T115941Z
LAST-MODIFIED:20230103T115941Z
UID:6480-1551229200-1551315599@caterinaproducciones.com
SUMMARY:Peregrinos
DESCRIPTION:
URL:https://caterinaproducciones.com/evento/peregrinos-4/2019-02-27/
LOCATION:CORRAL DE COMEDIAS\, Alcalá de Henares\, Alcalá de Henares\, Madrid\, España
CATEGORIES:Peregrinos
ATTACH;FMTTYPE=image/jpeg:https://caterinaproducciones.com/wp-content/uploads/2017/06/peregrinos-1.jpg
END:VEVENT
BEGIN:VEVENT
DTSTART;VALUE=DATE:20190228
DTEND;VALUE=DATE:20190302
DTSTAMP:20260425T174209
CREATED:20230103T115941Z
LAST-MODIFIED:20230103T115941Z
UID:6481-1551315600-1551401999@caterinaproducciones.com
SUMMARY:Peregrinos
DESCRIPTION:
URL:https://caterinaproducciones.com/evento/peregrinos-4/2019-02-28/
LOCATION:CORRAL DE COMEDIAS\, Alcalá de Henares\, Alcalá de Henares\, Madrid\, España
CATEGORIES:Peregrinos
ATTACH;FMTTYPE=image/jpeg:https://caterinaproducciones.com/wp-content/uploads/2017/06/peregrinos-1.jpg
END:VEVENT
BEGIN:VEVENT
DTSTART;VALUE=DATE:20190531
DTEND;VALUE=DATE:20190602
DTSTAMP:20260425T174209
CREATED:20221229T190755Z
LAST-MODIFIED:20221229T191825Z
UID:5231-1559264400-1559350799@caterinaproducciones.com
SUMMARY:Blackbird
DESCRIPTION:
URL:https://caterinaproducciones.com/evento/blackbird-9/2019-05-31/
LOCATION:CORRAL DE COMEDIAS\, Alcalá de Henares\, Alcalá de Henares\, Madrid\, España
CATEGORIES:Blackbird
ATTACH;FMTTYPE=image/jpeg:https://caterinaproducciones.com/wp-content/uploads/2017/06/blackbird-1.jpg
END:VEVENT
BEGIN:VEVENT
DTSTART;VALUE=DATE:20190601
DTEND;VALUE=DATE:20190603
DTSTAMP:20260425T174209
CREATED:20221229T190755Z
LAST-MODIFIED:20221229T190755Z
UID:5248-1559350800-1559437199@caterinaproducciones.com
SUMMARY:Blackbird
DESCRIPTION:
URL:https://caterinaproducciones.com/evento/blackbird-9/2019-06-01/
LOCATION:CORRAL DE COMEDIAS\, Alcalá de Henares\, Alcalá de Henares\, Madrid\, España
CATEGORIES:Blackbird
ATTACH;FMTTYPE=image/jpeg:https://caterinaproducciones.com/wp-content/uploads/2017/06/blackbird-1.jpg
END:VEVENT
BEGIN:VEVENT
DTSTART;VALUE=DATE:20200124
DTEND;VALUE=DATE:20200126
DTSTAMP:20260425T174209
CREATED:20221217T134926Z
LAST-MODIFIED:20221217T143059Z
UID:4866-1579827600-1579913999@caterinaproducciones.com
SUMMARY:Sueños y visiones de Rodrigo Rato
DESCRIPTION:
URL:https://caterinaproducciones.com/evento/suenos-y-visiones-de-rodrigo-rato-27/2020-01-24/
LOCATION:CORRAL DE COMEDIAS\, Alcalá de Henares\, Alcalá de Henares\, Madrid\, España
CATEGORIES:Sueños y visiones de Rodrigo Rato
ATTACH;FMTTYPE=image/jpeg:https://caterinaproducciones.com/wp-content/uploads/2017/06/suenos-visiones-rodrigo-rato-7.jpeg
END:VEVENT
BEGIN:VEVENT
DTSTART;VALUE=DATE:20200125
DTEND;VALUE=DATE:20200127
DTSTAMP:20260425T174209
CREATED:20221217T134926Z
LAST-MODIFIED:20221217T134926Z
UID:4870-1579914000-1580000399@caterinaproducciones.com
SUMMARY:Sueños y visiones de Rodrigo Rato
DESCRIPTION:
URL:https://caterinaproducciones.com/evento/suenos-y-visiones-de-rodrigo-rato-27/2020-01-25/
LOCATION:CORRAL DE COMEDIAS\, Alcalá de Henares\, Alcalá de Henares\, Madrid\, España
CATEGORIES:Sueños y visiones de Rodrigo Rato
ATTACH;FMTTYPE=image/jpeg:https://caterinaproducciones.com/wp-content/uploads/2017/06/suenos-visiones-rodrigo-rato-7.jpeg
END:VEVENT
BEGIN:VEVENT
DTSTART;VALUE=DATE:20211008
DTEND;VALUE=DATE:20211010
DTSTAMP:20260425T174209
CREATED:20230103T174952Z
LAST-MODIFIED:20230103T175829Z
UID:7119-1633654800-1633741199@caterinaproducciones.com
SUMMARY:Quijotes y Sanchos
DESCRIPTION:
URL:https://caterinaproducciones.com/evento/quijotes-y-sanchos-7/2021-10-08/
LOCATION:CORRAL DE COMEDIAS\, Alcalá de Henares\, Alcalá de Henares\, Madrid\, España
CATEGORIES:Quijotes y Sanchos
ATTACH;FMTTYPE=image/jpeg:https://caterinaproducciones.com/wp-content/uploads/2017/06/quijotes-y-sanchos-6.jpg
END:VEVENT
BEGIN:VEVENT
DTSTART;VALUE=DATE:20211009
DTEND;VALUE=DATE:20211011
DTSTAMP:20260425T174209
CREATED:20230103T174952Z
LAST-MODIFIED:20230103T174952Z
UID:7189-1633741200-1633827599@caterinaproducciones.com
SUMMARY:Quijotes y Sanchos
DESCRIPTION:
URL:https://caterinaproducciones.com/evento/quijotes-y-sanchos-7/2021-10-09/
LOCATION:CORRAL DE COMEDIAS\, Alcalá de Henares\, Alcalá de Henares\, Madrid\, España
CATEGORIES:Quijotes y Sanchos
ATTACH;FMTTYPE=image/jpeg:https://caterinaproducciones.com/wp-content/uploads/2017/06/quijotes-y-sanchos-6.jpg
END:VEVENT
BEGIN:VEVENT
DTSTART;VALUE=DATE:20211010
DTEND;VALUE=DATE:20211012
DTSTAMP:20260425T174209
CREATED:20230103T174952Z
LAST-MODIFIED:20230103T174952Z
UID:7190-1633827600-1633913999@caterinaproducciones.com
SUMMARY:Quijotes y Sanchos
DESCRIPTION:
URL:https://caterinaproducciones.com/evento/quijotes-y-sanchos-7/2021-10-10/
LOCATION:CORRAL DE COMEDIAS\, Alcalá de Henares\, Alcalá de Henares\, Madrid\, España
CATEGORIES:Quijotes y Sanchos
ATTACH;FMTTYPE=image/jpeg:https://caterinaproducciones.com/wp-content/uploads/2017/06/quijotes-y-sanchos-6.jpg
END:VEVENT
BEGIN:VEVENT
DTSTART;VALUE=DATE:20211011
DTEND;VALUE=DATE:20211013
DTSTAMP:20260425T174209
CREATED:20230103T174952Z
LAST-MODIFIED:20230103T174952Z
UID:7191-1633914000-1634000399@caterinaproducciones.com
SUMMARY:Quijotes y Sanchos
DESCRIPTION:
URL:https://caterinaproducciones.com/evento/quijotes-y-sanchos-7/2021-10-11/
LOCATION:CORRAL DE COMEDIAS\, Alcalá de Henares\, Alcalá de Henares\, Madrid\, España
CATEGORIES:Quijotes y Sanchos
ATTACH;FMTTYPE=image/jpeg:https://caterinaproducciones.com/wp-content/uploads/2017/06/quijotes-y-sanchos-6.jpg
END:VEVENT
BEGIN:VEVENT
DTSTART;VALUE=DATE:20211012
DTEND;VALUE=DATE:20211014
DTSTAMP:20260425T174209
CREATED:20230103T174952Z
LAST-MODIFIED:20230103T174952Z
UID:7192-1634000400-1634086799@caterinaproducciones.com
SUMMARY:Quijotes y Sanchos
DESCRIPTION:
URL:https://caterinaproducciones.com/evento/quijotes-y-sanchos-7/2021-10-12/
LOCATION:CORRAL DE COMEDIAS\, Alcalá de Henares\, Alcalá de Henares\, Madrid\, España
CATEGORIES:Quijotes y Sanchos
ATTACH;FMTTYPE=image/jpeg:https://caterinaproducciones.com/wp-content/uploads/2017/06/quijotes-y-sanchos-6.jpg
END:VEVENT
BEGIN:VEVENT
DTSTART;VALUE=DATE:20211120
DTEND;VALUE=DATE:20211122
DTSTAMP:20260425T174209
CREATED:20230103T180307Z
LAST-MODIFIED:20230103T180357Z
UID:7209-1637370000-1637456399@caterinaproducciones.com
SUMMARY:El encanto de una hora
DESCRIPTION:
URL:https://caterinaproducciones.com/evento/el-encanto-de-una-hora-2/2021-11-20/
LOCATION:CORRAL DE COMEDIAS\, Alcalá de Henares\, Alcalá de Henares\, Madrid\, España
CATEGORIES:El encanto de una hora
ATTACH;FMTTYPE=image/jpeg:https://caterinaproducciones.com/wp-content/uploads/2021/08/el-encanto-de-una-hora-3.jpeg
END:VEVENT
BEGIN:VEVENT
DTSTART;VALUE=DATE:20211121
DTEND;VALUE=DATE:20211123
DTSTAMP:20260425T174209
CREATED:20230103T180307Z
LAST-MODIFIED:20230103T180307Z
UID:7211-1637456400-1637542799@caterinaproducciones.com
SUMMARY:El encanto de una hora
DESCRIPTION:
URL:https://caterinaproducciones.com/evento/el-encanto-de-una-hora-2/2021-11-21/
LOCATION:CORRAL DE COMEDIAS\, Alcalá de Henares\, Alcalá de Henares\, Madrid\, España
CATEGORIES:El encanto de una hora
ATTACH;FMTTYPE=image/jpeg:https://caterinaproducciones.com/wp-content/uploads/2021/08/el-encanto-de-una-hora-3.jpeg
END:VEVENT
END:VCALENDAR