BEGIN:VCALENDAR
VERSION:2.0
PRODID:-//CATERINA - ECPv5.16.4//NONSGML v1.0//EN
CALSCALE:GREGORIAN
METHOD:PUBLISH
X-WR-CALNAME:CATERINA
X-ORIGINAL-URL:https://caterinaproducciones.com
X-WR-CALDESC:Eventos para CATERINA
REFRESH-INTERVAL;VALUE=DURATION:PT1H
X-Robots-Tag:noindex
X-PUBLISHED-TTL:PT1H
BEGIN:VTIMEZONE
TZID:Europe/Madrid
BEGIN:DAYLIGHT
TZOFFSETFROM:+0100
TZOFFSETTO:+0200
TZNAME:CEST
DTSTART:20210328T010000
END:DAYLIGHT
BEGIN:STANDARD
TZOFFSETFROM:+0200
TZOFFSETTO:+0100
TZNAME:CET
DTSTART:20211031T010000
END:STANDARD
END:VTIMEZONE
BEGIN:VEVENT
DTSTART;VALUE=DATE:20211121
DTEND;VALUE=DATE:20211123
DTSTAMP:20260425T193052
CREATED:20230103T180307Z
LAST-MODIFIED:20230103T180307Z
UID:7211-1637456400-1637542799@caterinaproducciones.com
SUMMARY:El encanto de una hora
DESCRIPTION:
URL:https://caterinaproducciones.com/evento/el-encanto-de-una-hora-2/2021-11-21/
LOCATION:CORRAL DE COMEDIAS\, Alcalá de Henares\, Alcalá de Henares\, Madrid\, España
CATEGORIES:El encanto de una hora
ATTACH;FMTTYPE=image/jpeg:https://caterinaproducciones.com/wp-content/uploads/2021/08/el-encanto-de-una-hora-3.jpeg
END:VEVENT
END:VCALENDAR