BEGIN:VCALENDAR
VERSION:2.0
PRODID:-//CATERINA - ECPv5.16.4//NONSGML v1.0//EN
CALSCALE:GREGORIAN
METHOD:PUBLISH
X-WR-CALNAME:CATERINA
X-ORIGINAL-URL:https://caterinaproducciones.com
X-WR-CALDESC:Eventos para CATERINA
REFRESH-INTERVAL;VALUE=DURATION:PT1H
X-Robots-Tag:noindex
X-PUBLISHED-TTL:PT1H
BEGIN:VTIMEZONE
TZID:Europe/Madrid
BEGIN:DAYLIGHT
TZOFFSETFROM:+0100
TZOFFSETTO:+0200
TZNAME:CEST
DTSTART:20160327T010000
END:DAYLIGHT
BEGIN:STANDARD
TZOFFSETFROM:+0200
TZOFFSETTO:+0100
TZNAME:CET
DTSTART:20161030T010000
END:STANDARD
END:VTIMEZONE
BEGIN:VEVENT
DTSTART;VALUE=DATE:20160827
DTEND;VALUE=DATE:20160829
DTSTAMP:20260424T234341
CREATED:20221229T205130Z
LAST-MODIFIED:20221229T205130Z
UID:5618-1472259600-1472345999@caterinaproducciones.com
SUMMARY:Idiota
DESCRIPTION:
URL:https://caterinaproducciones.com/evento/idiota/2016-08-27/
LOCATION:EL PAVÓN TEATRO KAMIKAZE\, Madrid\, Madrid\, Madrid\, España
CATEGORIES:Idiota
ATTACH;FMTTYPE=image/jpeg:https://caterinaproducciones.com/wp-content/uploads/2017/06/idiota-1.jpg
END:VEVENT
BEGIN:VEVENT
DTSTART;VALUE=DATE:20160828
DTEND;VALUE=DATE:20160830
DTSTAMP:20260424T234341
CREATED:20221229T205130Z
LAST-MODIFIED:20221229T205130Z
UID:5620-1472346000-1472432399@caterinaproducciones.com
SUMMARY:Idiota
DESCRIPTION:
URL:https://caterinaproducciones.com/evento/idiota/2016-08-28/
LOCATION:EL PAVÓN TEATRO KAMIKAZE\, Madrid\, Madrid\, Madrid\, España
CATEGORIES:Idiota
ATTACH;FMTTYPE=image/jpeg:https://caterinaproducciones.com/wp-content/uploads/2017/06/idiota-1.jpg
END:VEVENT
BEGIN:VEVENT
DTSTART;VALUE=DATE:20160831
DTEND;VALUE=DATE:20160902
DTSTAMP:20260424T234341
CREATED:20221229T205130Z
LAST-MODIFIED:20221229T205130Z
UID:5621-1472605200-1472691599@caterinaproducciones.com
SUMMARY:Idiota
DESCRIPTION:
URL:https://caterinaproducciones.com/evento/idiota/2016-08-31/
LOCATION:EL PAVÓN TEATRO KAMIKAZE\, Madrid\, Madrid\, Madrid\, España
CATEGORIES:Idiota
ATTACH;FMTTYPE=image/jpeg:https://caterinaproducciones.com/wp-content/uploads/2017/06/idiota-1.jpg
END:VEVENT
BEGIN:VEVENT
DTSTART;VALUE=DATE:20160901
DTEND;VALUE=DATE:20160903
DTSTAMP:20260424T234341
CREATED:20221229T205130Z
LAST-MODIFIED:20221229T205130Z
UID:5622-1472691600-1472777999@caterinaproducciones.com
SUMMARY:Idiota
DESCRIPTION:
URL:https://caterinaproducciones.com/evento/idiota/2016-09-01/
LOCATION:EL PAVÓN TEATRO KAMIKAZE\, Madrid\, Madrid\, Madrid\, España
CATEGORIES:Idiota
ATTACH;FMTTYPE=image/jpeg:https://caterinaproducciones.com/wp-content/uploads/2017/06/idiota-1.jpg
END:VEVENT
BEGIN:VEVENT
DTSTART;VALUE=DATE:20160902
DTEND;VALUE=DATE:20160904
DTSTAMP:20260424T234341
CREATED:20221229T205130Z
LAST-MODIFIED:20221229T205130Z
UID:5623-1472778000-1472864399@caterinaproducciones.com
SUMMARY:Idiota
DESCRIPTION:
URL:https://caterinaproducciones.com/evento/idiota/2016-09-02/
LOCATION:EL PAVÓN TEATRO KAMIKAZE\, Madrid\, Madrid\, Madrid\, España
CATEGORIES:Idiota
ATTACH;FMTTYPE=image/jpeg:https://caterinaproducciones.com/wp-content/uploads/2017/06/idiota-1.jpg
END:VEVENT
BEGIN:VEVENT
DTSTART;VALUE=DATE:20160903
DTEND;VALUE=DATE:20160905
DTSTAMP:20260424T234341
CREATED:20221229T205130Z
LAST-MODIFIED:20221229T205130Z
UID:5624-1472864400-1472950799@caterinaproducciones.com
SUMMARY:Idiota
DESCRIPTION:
URL:https://caterinaproducciones.com/evento/idiota/2016-09-03/
LOCATION:EL PAVÓN TEATRO KAMIKAZE\, Madrid\, Madrid\, Madrid\, España
CATEGORIES:Idiota
ATTACH;FMTTYPE=image/jpeg:https://caterinaproducciones.com/wp-content/uploads/2017/06/idiota-1.jpg
END:VEVENT
BEGIN:VEVENT
DTSTART;VALUE=DATE:20160904
DTEND;VALUE=DATE:20160906
DTSTAMP:20260424T234341
CREATED:20221229T205130Z
LAST-MODIFIED:20221229T205130Z
UID:5625-1472950800-1473037199@caterinaproducciones.com
SUMMARY:Idiota
DESCRIPTION:
URL:https://caterinaproducciones.com/evento/idiota/2016-09-04/
LOCATION:EL PAVÓN TEATRO KAMIKAZE\, Madrid\, Madrid\, Madrid\, España
CATEGORIES:Idiota
ATTACH;FMTTYPE=image/jpeg:https://caterinaproducciones.com/wp-content/uploads/2017/06/idiota-1.jpg
END:VEVENT
BEGIN:VEVENT
DTSTART;VALUE=DATE:20160907
DTEND;VALUE=DATE:20160909
DTSTAMP:20260424T234341
CREATED:20221229T205130Z
LAST-MODIFIED:20221229T205130Z
UID:5626-1473210000-1473296399@caterinaproducciones.com
SUMMARY:Idiota
DESCRIPTION:
URL:https://caterinaproducciones.com/evento/idiota/2016-09-07/
LOCATION:EL PAVÓN TEATRO KAMIKAZE\, Madrid\, Madrid\, Madrid\, España
CATEGORIES:Idiota
ATTACH;FMTTYPE=image/jpeg:https://caterinaproducciones.com/wp-content/uploads/2017/06/idiota-1.jpg
END:VEVENT
BEGIN:VEVENT
DTSTART;VALUE=DATE:20160908
DTEND;VALUE=DATE:20160910
DTSTAMP:20260424T234341
CREATED:20221229T205256Z
LAST-MODIFIED:20221229T205256Z
UID:5627-1473296400-1473382799@caterinaproducciones.com
SUMMARY:Idiota
DESCRIPTION:
URL:https://caterinaproducciones.com/evento/idiota-2/2016-09-08/
LOCATION:EL PAVÓN TEATRO KAMIKAZE\, Madrid\, Madrid\, Madrid\, España
CATEGORIES:Idiota
ATTACH;FMTTYPE=image/jpeg:https://caterinaproducciones.com/wp-content/uploads/2017/06/idiota-1.jpg
END:VEVENT
BEGIN:VEVENT
DTSTART;VALUE=DATE:20160909
DTEND;VALUE=DATE:20160911
DTSTAMP:20260424T234341
CREATED:20221229T205256Z
LAST-MODIFIED:20221229T205256Z
UID:5629-1473382800-1473469199@caterinaproducciones.com
SUMMARY:Idiota
DESCRIPTION:
URL:https://caterinaproducciones.com/evento/idiota-2/2016-09-09/
LOCATION:EL PAVÓN TEATRO KAMIKAZE\, Madrid\, Madrid\, Madrid\, España
CATEGORIES:Idiota
ATTACH;FMTTYPE=image/jpeg:https://caterinaproducciones.com/wp-content/uploads/2017/06/idiota-1.jpg
END:VEVENT
BEGIN:VEVENT
DTSTART;VALUE=DATE:20160910
DTEND;VALUE=DATE:20160912
DTSTAMP:20260424T234341
CREATED:20221229T205256Z
LAST-MODIFIED:20221229T205256Z
UID:5630-1473469200-1473555599@caterinaproducciones.com
SUMMARY:Idiota
DESCRIPTION:
URL:https://caterinaproducciones.com/evento/idiota-2/2016-09-10/
LOCATION:EL PAVÓN TEATRO KAMIKAZE\, Madrid\, Madrid\, Madrid\, España
CATEGORIES:Idiota
ATTACH;FMTTYPE=image/jpeg:https://caterinaproducciones.com/wp-content/uploads/2017/06/idiota-1.jpg
END:VEVENT
BEGIN:VEVENT
DTSTART;VALUE=DATE:20160911
DTEND;VALUE=DATE:20160913
DTSTAMP:20260424T234341
CREATED:20221229T205256Z
LAST-MODIFIED:20221229T205256Z
UID:5631-1473555600-1473641999@caterinaproducciones.com
SUMMARY:Idiota
DESCRIPTION:
URL:https://caterinaproducciones.com/evento/idiota-2/2016-09-11/
LOCATION:EL PAVÓN TEATRO KAMIKAZE\, Madrid\, Madrid\, Madrid\, España
CATEGORIES:Idiota
ATTACH;FMTTYPE=image/jpeg:https://caterinaproducciones.com/wp-content/uploads/2017/06/idiota-1.jpg
END:VEVENT
BEGIN:VEVENT
DTSTART;VALUE=DATE:20160914
DTEND;VALUE=DATE:20160916
DTSTAMP:20260424T234341
CREATED:20221229T205256Z
LAST-MODIFIED:20221229T205256Z
UID:5632-1473814800-1473901199@caterinaproducciones.com
SUMMARY:Idiota
DESCRIPTION:
URL:https://caterinaproducciones.com/evento/idiota-2/2016-09-14/
LOCATION:EL PAVÓN TEATRO KAMIKAZE\, Madrid\, Madrid\, Madrid\, España
CATEGORIES:Idiota
ATTACH;FMTTYPE=image/jpeg:https://caterinaproducciones.com/wp-content/uploads/2017/06/idiota-1.jpg
END:VEVENT
BEGIN:VEVENT
DTSTART;VALUE=DATE:20160915
DTEND;VALUE=DATE:20160917
DTSTAMP:20260424T234341
CREATED:20221229T205256Z
LAST-MODIFIED:20221229T205256Z
UID:5633-1473901200-1473987599@caterinaproducciones.com
SUMMARY:Idiota
DESCRIPTION:
URL:https://caterinaproducciones.com/evento/idiota-2/2016-09-15/
LOCATION:EL PAVÓN TEATRO KAMIKAZE\, Madrid\, Madrid\, Madrid\, España
CATEGORIES:Idiota
ATTACH;FMTTYPE=image/jpeg:https://caterinaproducciones.com/wp-content/uploads/2017/06/idiota-1.jpg
END:VEVENT
BEGIN:VEVENT
DTSTART;VALUE=DATE:20160916
DTEND;VALUE=DATE:20160918
DTSTAMP:20260424T234341
CREATED:20221229T205256Z
LAST-MODIFIED:20221229T205256Z
UID:5634-1473987600-1474073999@caterinaproducciones.com
SUMMARY:Idiota
DESCRIPTION:
URL:https://caterinaproducciones.com/evento/idiota-2/2016-09-16/
LOCATION:EL PAVÓN TEATRO KAMIKAZE\, Madrid\, Madrid\, Madrid\, España
CATEGORIES:Idiota
ATTACH;FMTTYPE=image/jpeg:https://caterinaproducciones.com/wp-content/uploads/2017/06/idiota-1.jpg
END:VEVENT
BEGIN:VEVENT
DTSTART;VALUE=DATE:20160917
DTEND;VALUE=DATE:20160919
DTSTAMP:20260424T234341
CREATED:20221229T205256Z
LAST-MODIFIED:20221229T205256Z
UID:5635-1474074000-1474160399@caterinaproducciones.com
SUMMARY:Idiota
DESCRIPTION:
URL:https://caterinaproducciones.com/evento/idiota-2/2016-09-17/
LOCATION:EL PAVÓN TEATRO KAMIKAZE\, Madrid\, Madrid\, Madrid\, España
CATEGORIES:Idiota
ATTACH;FMTTYPE=image/jpeg:https://caterinaproducciones.com/wp-content/uploads/2017/06/idiota-1.jpg
END:VEVENT
BEGIN:VEVENT
DTSTART;VALUE=DATE:20160918
DTEND;VALUE=DATE:20160920
DTSTAMP:20260424T234341
CREATED:20221229T205256Z
LAST-MODIFIED:20221229T205256Z
UID:5637-1474160400-1474246799@caterinaproducciones.com
SUMMARY:Idiota
DESCRIPTION:
URL:https://caterinaproducciones.com/evento/idiota-2/2016-09-18/
LOCATION:EL PAVÓN TEATRO KAMIKAZE\, Madrid\, Madrid\, Madrid\, España
CATEGORIES:Idiota
ATTACH;FMTTYPE=image/jpeg:https://caterinaproducciones.com/wp-content/uploads/2017/06/idiota-1.jpg
END:VEVENT
BEGIN:VEVENT
DTSTART;VALUE=DATE:20160921
DTEND;VALUE=DATE:20160923
DTSTAMP:20260424T234341
CREATED:20221229T205256Z
LAST-MODIFIED:20221229T205256Z
UID:5638-1474419600-1474505999@caterinaproducciones.com
SUMMARY:Idiota
DESCRIPTION:
URL:https://caterinaproducciones.com/evento/idiota-2/2016-09-21/
LOCATION:EL PAVÓN TEATRO KAMIKAZE\, Madrid\, Madrid\, Madrid\, España
CATEGORIES:Idiota
ATTACH;FMTTYPE=image/jpeg:https://caterinaproducciones.com/wp-content/uploads/2017/06/idiota-1.jpg
END:VEVENT
BEGIN:VEVENT
DTSTART;VALUE=DATE:20160922
DTEND;VALUE=DATE:20160924
DTSTAMP:20260424T234341
CREATED:20221229T205256Z
LAST-MODIFIED:20221229T205256Z
UID:5639-1474506000-1474592399@caterinaproducciones.com
SUMMARY:Idiota
DESCRIPTION:
URL:https://caterinaproducciones.com/evento/idiota-2/2016-09-22/
LOCATION:EL PAVÓN TEATRO KAMIKAZE\, Madrid\, Madrid\, Madrid\, España
CATEGORIES:Idiota
ATTACH;FMTTYPE=image/jpeg:https://caterinaproducciones.com/wp-content/uploads/2017/06/idiota-1.jpg
END:VEVENT
BEGIN:VEVENT
DTSTART;VALUE=DATE:20160923
DTEND;VALUE=DATE:20160925
DTSTAMP:20260424T234341
CREATED:20221229T205256Z
LAST-MODIFIED:20221229T205256Z
UID:5640-1474592400-1474678799@caterinaproducciones.com
SUMMARY:Idiota
DESCRIPTION:
URL:https://caterinaproducciones.com/evento/idiota-2/2016-09-23/
LOCATION:EL PAVÓN TEATRO KAMIKAZE\, Madrid\, Madrid\, Madrid\, España
CATEGORIES:Idiota
ATTACH;FMTTYPE=image/jpeg:https://caterinaproducciones.com/wp-content/uploads/2017/06/idiota-1.jpg
END:VEVENT
BEGIN:VEVENT
DTSTART;VALUE=DATE:20160924
DTEND;VALUE=DATE:20160926
DTSTAMP:20260424T234341
CREATED:20221229T205256Z
LAST-MODIFIED:20221229T205256Z
UID:5641-1474678800-1474765199@caterinaproducciones.com
SUMMARY:Idiota
DESCRIPTION:
URL:https://caterinaproducciones.com/evento/idiota-2/2016-09-24/
LOCATION:EL PAVÓN TEATRO KAMIKAZE\, Madrid\, Madrid\, Madrid\, España
CATEGORIES:Idiota
ATTACH;FMTTYPE=image/jpeg:https://caterinaproducciones.com/wp-content/uploads/2017/06/idiota-1.jpg
END:VEVENT
BEGIN:VEVENT
DTSTART;VALUE=DATE:20160925
DTEND;VALUE=DATE:20160927
DTSTAMP:20260424T234341
CREATED:20221229T205256Z
LAST-MODIFIED:20221229T205256Z
UID:5642-1474765200-1474851599@caterinaproducciones.com
SUMMARY:Idiota
DESCRIPTION:
URL:https://caterinaproducciones.com/evento/idiota-2/2016-09-25/
LOCATION:EL PAVÓN TEATRO KAMIKAZE\, Madrid\, Madrid\, Madrid\, España
CATEGORIES:Idiota
ATTACH;FMTTYPE=image/jpeg:https://caterinaproducciones.com/wp-content/uploads/2017/06/idiota-1.jpg
END:VEVENT
BEGIN:VEVENT
DTSTART;VALUE=DATE:20160928
DTEND;VALUE=DATE:20160930
DTSTAMP:20260424T234341
CREATED:20221229T205256Z
LAST-MODIFIED:20221229T205256Z
UID:5643-1475024400-1475110799@caterinaproducciones.com
SUMMARY:Idiota
DESCRIPTION:
URL:https://caterinaproducciones.com/evento/idiota-2/2016-09-28/
LOCATION:EL PAVÓN TEATRO KAMIKAZE\, Madrid\, Madrid\, Madrid\, España
CATEGORIES:Idiota
ATTACH;FMTTYPE=image/jpeg:https://caterinaproducciones.com/wp-content/uploads/2017/06/idiota-1.jpg
END:VEVENT
BEGIN:VEVENT
DTSTART;VALUE=DATE:20160929
DTEND;VALUE=DATE:20161001
DTSTAMP:20260424T234341
CREATED:20221229T205256Z
LAST-MODIFIED:20221229T205256Z
UID:5644-1475110800-1475197199@caterinaproducciones.com
SUMMARY:Idiota
DESCRIPTION:
URL:https://caterinaproducciones.com/evento/idiota-2/2016-09-29/
LOCATION:EL PAVÓN TEATRO KAMIKAZE\, Madrid\, Madrid\, Madrid\, España
CATEGORIES:Idiota
ATTACH;FMTTYPE=image/jpeg:https://caterinaproducciones.com/wp-content/uploads/2017/06/idiota-1.jpg
END:VEVENT
BEGIN:VEVENT
DTSTART;VALUE=DATE:20160930
DTEND;VALUE=DATE:20161002
DTSTAMP:20260424T234341
CREATED:20221229T205256Z
LAST-MODIFIED:20221229T205256Z
UID:5645-1475197200-1475283599@caterinaproducciones.com
SUMMARY:Idiota
DESCRIPTION:
URL:https://caterinaproducciones.com/evento/idiota-2/2016-09-30/
LOCATION:EL PAVÓN TEATRO KAMIKAZE\, Madrid\, Madrid\, Madrid\, España
CATEGORIES:Idiota
ATTACH;FMTTYPE=image/jpeg:https://caterinaproducciones.com/wp-content/uploads/2017/06/idiota-1.jpg
END:VEVENT
BEGIN:VEVENT
DTSTART;VALUE=DATE:20161001
DTEND;VALUE=DATE:20161003
DTSTAMP:20260424T234341
CREATED:20221229T205256Z
LAST-MODIFIED:20221229T205256Z
UID:5646-1475283600-1475369999@caterinaproducciones.com
SUMMARY:Idiota
DESCRIPTION:
URL:https://caterinaproducciones.com/evento/idiota-2/2016-10-01/
LOCATION:EL PAVÓN TEATRO KAMIKAZE\, Madrid\, Madrid\, Madrid\, España
CATEGORIES:Idiota
ATTACH;FMTTYPE=image/jpeg:https://caterinaproducciones.com/wp-content/uploads/2017/06/idiota-1.jpg
END:VEVENT
BEGIN:VEVENT
DTSTART;VALUE=DATE:20161002
DTEND;VALUE=DATE:20161004
DTSTAMP:20260424T234341
CREATED:20221229T205256Z
LAST-MODIFIED:20221229T205256Z
UID:5647-1475370000-1475456399@caterinaproducciones.com
SUMMARY:Idiota
DESCRIPTION:
URL:https://caterinaproducciones.com/evento/idiota-2/2016-10-02/
LOCATION:EL PAVÓN TEATRO KAMIKAZE\, Madrid\, Madrid\, Madrid\, España
CATEGORIES:Idiota
ATTACH;FMTTYPE=image/jpeg:https://caterinaproducciones.com/wp-content/uploads/2017/06/idiota-1.jpg
END:VEVENT
BEGIN:VEVENT
DTSTART;VALUE=DATE:20161005
DTEND;VALUE=DATE:20161007
DTSTAMP:20260424T234341
CREATED:20221229T205256Z
LAST-MODIFIED:20221229T205256Z
UID:5648-1475629200-1475715599@caterinaproducciones.com
SUMMARY:Idiota
DESCRIPTION:
URL:https://caterinaproducciones.com/evento/idiota-2/2016-10-05/
LOCATION:EL PAVÓN TEATRO KAMIKAZE\, Madrid\, Madrid\, Madrid\, España
CATEGORIES:Idiota
ATTACH;FMTTYPE=image/jpeg:https://caterinaproducciones.com/wp-content/uploads/2017/06/idiota-1.jpg
END:VEVENT
BEGIN:VEVENT
DTSTART;VALUE=DATE:20161006
DTEND;VALUE=DATE:20161008
DTSTAMP:20260424T234341
CREATED:20221229T205256Z
LAST-MODIFIED:20221229T205256Z
UID:5649-1475715600-1475801999@caterinaproducciones.com
SUMMARY:Idiota
DESCRIPTION:
URL:https://caterinaproducciones.com/evento/idiota-2/2016-10-06/
LOCATION:EL PAVÓN TEATRO KAMIKAZE\, Madrid\, Madrid\, Madrid\, España
CATEGORIES:Idiota
ATTACH;FMTTYPE=image/jpeg:https://caterinaproducciones.com/wp-content/uploads/2017/06/idiota-1.jpg
END:VEVENT
BEGIN:VEVENT
DTSTART;VALUE=DATE:20161007
DTEND;VALUE=DATE:20161009
DTSTAMP:20260424T234341
CREATED:20221229T205256Z
LAST-MODIFIED:20221229T205256Z
UID:5650-1475802000-1475888399@caterinaproducciones.com
SUMMARY:Idiota
DESCRIPTION:
URL:https://caterinaproducciones.com/evento/idiota-2/2016-10-07/
LOCATION:EL PAVÓN TEATRO KAMIKAZE\, Madrid\, Madrid\, Madrid\, España
CATEGORIES:Idiota
ATTACH;FMTTYPE=image/jpeg:https://caterinaproducciones.com/wp-content/uploads/2017/06/idiota-1.jpg
END:VEVENT
END:VCALENDAR