BEGIN:VCALENDAR
VERSION:2.0
PRODID:-//CATERINA - ECPv5.16.4//NONSGML v1.0//EN
CALSCALE:GREGORIAN
METHOD:PUBLISH
X-WR-CALNAME:CATERINA
X-ORIGINAL-URL:https://caterinaproducciones.com
X-WR-CALDESC:Eventos para CATERINA
REFRESH-INTERVAL;VALUE=DURATION:PT1H
X-Robots-Tag:noindex
X-PUBLISHED-TTL:PT1H
BEGIN:VTIMEZONE
TZID:Europe/Madrid
BEGIN:DAYLIGHT
TZOFFSETFROM:+0100
TZOFFSETTO:+0200
TZNAME:CEST
DTSTART:20170326T010000
END:DAYLIGHT
BEGIN:STANDARD
TZOFFSETFROM:+0200
TZOFFSETTO:+0100
TZNAME:CET
DTSTART:20171029T010000
END:STANDARD
END:VTIMEZONE
BEGIN:VEVENT
DTSTART;VALUE=DATE:20171130
DTEND;VALUE=DATE:20171202
DTSTAMP:20260425T212400
CREATED:20221229T182621Z
LAST-MODIFIED:20221229T182621Z
UID:5084-1512003600-1512089999@caterinaproducciones.com
SUMMARY:Arte
DESCRIPTION:
URL:https://caterinaproducciones.com/evento/arte-6/2017-11-30/
LOCATION:EL PAVÓN TEATRO KAMIKAZE\, Madrid\, Madrid\, Madrid\, España
CATEGORIES:Arte
ATTACH;FMTTYPE=image/jpeg:https://caterinaproducciones.com/wp-content/uploads/2017/06/arte-1.jpg
END:VEVENT
BEGIN:VEVENT
DTSTART;VALUE=DATE:20171201
DTEND;VALUE=DATE:20171203
DTSTAMP:20260425T212400
CREATED:20221229T182621Z
LAST-MODIFIED:20221229T182621Z
UID:5085-1512090000-1512176399@caterinaproducciones.com
SUMMARY:Arte
DESCRIPTION:
URL:https://caterinaproducciones.com/evento/arte-6/2017-12-01/
LOCATION:EL PAVÓN TEATRO KAMIKAZE\, Madrid\, Madrid\, Madrid\, España
CATEGORIES:Arte
ATTACH;FMTTYPE=image/jpeg:https://caterinaproducciones.com/wp-content/uploads/2017/06/arte-1.jpg
END:VEVENT
BEGIN:VEVENT
DTSTART;VALUE=DATE:20171202
DTEND;VALUE=DATE:20171204
DTSTAMP:20260425T212400
CREATED:20221229T182621Z
LAST-MODIFIED:20221229T182621Z
UID:5086-1512176400-1512262799@caterinaproducciones.com
SUMMARY:Arte
DESCRIPTION:
URL:https://caterinaproducciones.com/evento/arte-6/2017-12-02/
LOCATION:EL PAVÓN TEATRO KAMIKAZE\, Madrid\, Madrid\, Madrid\, España
CATEGORIES:Arte
ATTACH;FMTTYPE=image/jpeg:https://caterinaproducciones.com/wp-content/uploads/2017/06/arte-1.jpg
END:VEVENT
BEGIN:VEVENT
DTSTART;VALUE=DATE:20171203
DTEND;VALUE=DATE:20171205
DTSTAMP:20260425T212400
CREATED:20230103T124800Z
LAST-MODIFIED:20230103T124800Z
UID:6604-1512262800-1512349199@caterinaproducciones.com
SUMMARY:Tebas Land
DESCRIPTION:
URL:https://caterinaproducciones.com/evento/tebas-land-4/2017-12-03/
LOCATION:EL PAVÓN TEATRO KAMIKAZE\, Madrid\, Madrid\, Madrid\, España
CATEGORIES:Tebas Land
ATTACH;FMTTYPE=image/jpeg:https://caterinaproducciones.com/wp-content/uploads/2017/06/tebas-1.jpg
END:VEVENT
BEGIN:VEVENT
DTSTART;VALUE=DATE:20171203
DTEND;VALUE=DATE:20171205
DTSTAMP:20260425T212400
CREATED:20221229T182621Z
LAST-MODIFIED:20221229T182621Z
UID:5087-1512262800-1512349199@caterinaproducciones.com
SUMMARY:Arte
DESCRIPTION:
URL:https://caterinaproducciones.com/evento/arte-6/2017-12-03/
LOCATION:EL PAVÓN TEATRO KAMIKAZE\, Madrid\, Madrid\, Madrid\, España
CATEGORIES:Arte
ATTACH;FMTTYPE=image/jpeg:https://caterinaproducciones.com/wp-content/uploads/2017/06/arte-1.jpg
END:VEVENT
BEGIN:VEVENT
DTSTART;VALUE=DATE:20171204
DTEND;VALUE=DATE:20171206
DTSTAMP:20260425T212400
CREATED:20221229T212152Z
LAST-MODIFIED:20221230T143844Z
UID:5896-1512349200-1512435599@caterinaproducciones.com
SUMMARY:Iphigenia en Vallecas
DESCRIPTION:
URL:https://caterinaproducciones.com/evento/iphigenia-en-vallecas-47/2017-12-04/
LOCATION:EL PAVÓN TEATRO KAMIKAZE\, Madrid\, Madrid\, Madrid\, España
CATEGORIES:Iphigenia en Vallecas
ATTACH;FMTTYPE=image/jpeg:https://caterinaproducciones.com/wp-content/uploads/2017/06/iphigenia-en-vallecas-1.jpg
END:VEVENT
BEGIN:VEVENT
DTSTART;VALUE=DATE:20171204
DTEND;VALUE=DATE:20171206
DTSTAMP:20260425T212400
CREATED:20230103T124800Z
LAST-MODIFIED:20230103T124800Z
UID:6605-1512349200-1512435599@caterinaproducciones.com
SUMMARY:Tebas Land
DESCRIPTION:
URL:https://caterinaproducciones.com/evento/tebas-land-4/2017-12-04/
LOCATION:EL PAVÓN TEATRO KAMIKAZE\, Madrid\, Madrid\, Madrid\, España
CATEGORIES:Tebas Land
ATTACH;FMTTYPE=image/jpeg:https://caterinaproducciones.com/wp-content/uploads/2017/06/tebas-1.jpg
END:VEVENT
BEGIN:VEVENT
DTSTART;VALUE=DATE:20171205
DTEND;VALUE=DATE:20171207
DTSTAMP:20260425T212400
CREATED:20230103T124800Z
LAST-MODIFIED:20230103T124800Z
UID:6606-1512435600-1512521999@caterinaproducciones.com
SUMMARY:Tebas Land
DESCRIPTION:
URL:https://caterinaproducciones.com/evento/tebas-land-4/2017-12-05/
LOCATION:EL PAVÓN TEATRO KAMIKAZE\, Madrid\, Madrid\, Madrid\, España
CATEGORIES:Tebas Land
ATTACH;FMTTYPE=image/jpeg:https://caterinaproducciones.com/wp-content/uploads/2017/06/tebas-1.jpg
END:VEVENT
BEGIN:VEVENT
DTSTART;VALUE=DATE:20171205
DTEND;VALUE=DATE:20171207
DTSTAMP:20260425T212400
CREATED:20221229T212152Z
LAST-MODIFIED:20221229T212152Z
UID:5908-1512435600-1512521999@caterinaproducciones.com
SUMMARY:Iphigenia en Vallecas
DESCRIPTION:
URL:https://caterinaproducciones.com/evento/iphigenia-en-vallecas-47/2017-12-05/
LOCATION:EL PAVÓN TEATRO KAMIKAZE\, Madrid\, Madrid\, Madrid\, España
CATEGORIES:Iphigenia en Vallecas
ATTACH;FMTTYPE=image/jpeg:https://caterinaproducciones.com/wp-content/uploads/2017/06/iphigenia-en-vallecas-1.jpg
END:VEVENT
BEGIN:VEVENT
DTSTART;VALUE=DATE:20171206
DTEND;VALUE=DATE:20171208
DTSTAMP:20260425T212400
CREATED:20230103T124800Z
LAST-MODIFIED:20230103T124800Z
UID:6607-1512522000-1512608399@caterinaproducciones.com
SUMMARY:Tebas Land
DESCRIPTION:
URL:https://caterinaproducciones.com/evento/tebas-land-4/2017-12-06/
LOCATION:EL PAVÓN TEATRO KAMIKAZE\, Madrid\, Madrid\, Madrid\, España
CATEGORIES:Tebas Land
ATTACH;FMTTYPE=image/jpeg:https://caterinaproducciones.com/wp-content/uploads/2017/06/tebas-1.jpg
END:VEVENT
BEGIN:VEVENT
DTSTART;VALUE=DATE:20171206
DTEND;VALUE=DATE:20171208
DTSTAMP:20260425T212400
CREATED:20221229T182621Z
LAST-MODIFIED:20221229T182621Z
UID:5088-1512522000-1512608399@caterinaproducciones.com
SUMMARY:Arte
DESCRIPTION:
URL:https://caterinaproducciones.com/evento/arte-6/2017-12-06/
LOCATION:EL PAVÓN TEATRO KAMIKAZE\, Madrid\, Madrid\, Madrid\, España
CATEGORIES:Arte
ATTACH;FMTTYPE=image/jpeg:https://caterinaproducciones.com/wp-content/uploads/2017/06/arte-1.jpg
END:VEVENT
BEGIN:VEVENT
DTSTART;VALUE=DATE:20171207
DTEND;VALUE=DATE:20171209
DTSTAMP:20260425T212400
CREATED:20221229T212152Z
LAST-MODIFIED:20221229T212152Z
UID:5909-1512608400-1512694799@caterinaproducciones.com
SUMMARY:Iphigenia en Vallecas
DESCRIPTION:
URL:https://caterinaproducciones.com/evento/iphigenia-en-vallecas-47/2017-12-07/
LOCATION:EL PAVÓN TEATRO KAMIKAZE\, Madrid\, Madrid\, Madrid\, España
CATEGORIES:Iphigenia en Vallecas
ATTACH;FMTTYPE=image/jpeg:https://caterinaproducciones.com/wp-content/uploads/2017/06/iphigenia-en-vallecas-1.jpg
END:VEVENT
BEGIN:VEVENT
DTSTART;VALUE=DATE:20171207
DTEND;VALUE=DATE:20171209
DTSTAMP:20260425T212400
CREATED:20221229T182621Z
LAST-MODIFIED:20221229T182621Z
UID:5089-1512608400-1512694799@caterinaproducciones.com
SUMMARY:Arte
DESCRIPTION:
URL:https://caterinaproducciones.com/evento/arte-6/2017-12-07/
LOCATION:EL PAVÓN TEATRO KAMIKAZE\, Madrid\, Madrid\, Madrid\, España
CATEGORIES:Arte
ATTACH;FMTTYPE=image/jpeg:https://caterinaproducciones.com/wp-content/uploads/2017/06/arte-1.jpg
END:VEVENT
BEGIN:VEVENT
DTSTART;VALUE=DATE:20171208
DTEND;VALUE=DATE:20171210
DTSTAMP:20260425T212400
CREATED:20221229T182621Z
LAST-MODIFIED:20221229T182621Z
UID:5090-1512694800-1512781199@caterinaproducciones.com
SUMMARY:Arte
DESCRIPTION:
URL:https://caterinaproducciones.com/evento/arte-6/2017-12-08/
LOCATION:EL PAVÓN TEATRO KAMIKAZE\, Madrid\, Madrid\, Madrid\, España
CATEGORIES:Arte
ATTACH;FMTTYPE=image/jpeg:https://caterinaproducciones.com/wp-content/uploads/2017/06/arte-1.jpg
END:VEVENT
BEGIN:VEVENT
DTSTART;VALUE=DATE:20171209
DTEND;VALUE=DATE:20171211
DTSTAMP:20260425T212400
CREATED:20221229T182621Z
LAST-MODIFIED:20221229T182621Z
UID:5091-1512781200-1512867599@caterinaproducciones.com
SUMMARY:Arte
DESCRIPTION:
URL:https://caterinaproducciones.com/evento/arte-6/2017-12-09/
LOCATION:EL PAVÓN TEATRO KAMIKAZE\, Madrid\, Madrid\, Madrid\, España
CATEGORIES:Arte
ATTACH;FMTTYPE=image/jpeg:https://caterinaproducciones.com/wp-content/uploads/2017/06/arte-1.jpg
END:VEVENT
BEGIN:VEVENT
DTSTART;VALUE=DATE:20171210
DTEND;VALUE=DATE:20171212
DTSTAMP:20260425T212400
CREATED:20230103T124800Z
LAST-MODIFIED:20230103T124800Z
UID:6608-1512867600-1512953999@caterinaproducciones.com
SUMMARY:Tebas Land
DESCRIPTION:
URL:https://caterinaproducciones.com/evento/tebas-land-4/2017-12-10/
LOCATION:EL PAVÓN TEATRO KAMIKAZE\, Madrid\, Madrid\, Madrid\, España
CATEGORIES:Tebas Land
ATTACH;FMTTYPE=image/jpeg:https://caterinaproducciones.com/wp-content/uploads/2017/06/tebas-1.jpg
END:VEVENT
BEGIN:VEVENT
DTSTART;VALUE=DATE:20171210
DTEND;VALUE=DATE:20171212
DTSTAMP:20260425T212400
CREATED:20221229T182621Z
LAST-MODIFIED:20221229T182621Z
UID:5092-1512867600-1512953999@caterinaproducciones.com
SUMMARY:Arte
DESCRIPTION:
URL:https://caterinaproducciones.com/evento/arte-6/2017-12-10/
LOCATION:EL PAVÓN TEATRO KAMIKAZE\, Madrid\, Madrid\, Madrid\, España
CATEGORIES:Arte
ATTACH;FMTTYPE=image/jpeg:https://caterinaproducciones.com/wp-content/uploads/2017/06/arte-1.jpg
END:VEVENT
BEGIN:VEVENT
DTSTART;VALUE=DATE:20171211
DTEND;VALUE=DATE:20171213
DTSTAMP:20260425T212400
CREATED:20230103T124800Z
LAST-MODIFIED:20230103T124800Z
UID:6609-1512954000-1513040399@caterinaproducciones.com
SUMMARY:Tebas Land
DESCRIPTION:
URL:https://caterinaproducciones.com/evento/tebas-land-4/2017-12-11/
LOCATION:EL PAVÓN TEATRO KAMIKAZE\, Madrid\, Madrid\, Madrid\, España
CATEGORIES:Tebas Land
ATTACH;FMTTYPE=image/jpeg:https://caterinaproducciones.com/wp-content/uploads/2017/06/tebas-1.jpg
END:VEVENT
BEGIN:VEVENT
DTSTART;VALUE=DATE:20171211
DTEND;VALUE=DATE:20171213
DTSTAMP:20260425T212400
CREATED:20221229T212152Z
LAST-MODIFIED:20221229T212152Z
UID:5910-1512954000-1513040399@caterinaproducciones.com
SUMMARY:Iphigenia en Vallecas
DESCRIPTION:
URL:https://caterinaproducciones.com/evento/iphigenia-en-vallecas-47/2017-12-11/
LOCATION:EL PAVÓN TEATRO KAMIKAZE\, Madrid\, Madrid\, Madrid\, España
CATEGORIES:Iphigenia en Vallecas
ATTACH;FMTTYPE=image/jpeg:https://caterinaproducciones.com/wp-content/uploads/2017/06/iphigenia-en-vallecas-1.jpg
END:VEVENT
BEGIN:VEVENT
DTSTART;VALUE=DATE:20171212
DTEND;VALUE=DATE:20171214
DTSTAMP:20260425T212400
CREATED:20230103T124800Z
LAST-MODIFIED:20230103T124800Z
UID:6610-1513040400-1513126799@caterinaproducciones.com
SUMMARY:Tebas Land
DESCRIPTION:
URL:https://caterinaproducciones.com/evento/tebas-land-4/2017-12-12/
LOCATION:EL PAVÓN TEATRO KAMIKAZE\, Madrid\, Madrid\, Madrid\, España
CATEGORIES:Tebas Land
ATTACH;FMTTYPE=image/jpeg:https://caterinaproducciones.com/wp-content/uploads/2017/06/tebas-1.jpg
END:VEVENT
BEGIN:VEVENT
DTSTART;VALUE=DATE:20171212
DTEND;VALUE=DATE:20171214
DTSTAMP:20260425T212400
CREATED:20221229T212152Z
LAST-MODIFIED:20221229T212152Z
UID:5911-1513040400-1513126799@caterinaproducciones.com
SUMMARY:Iphigenia en Vallecas
DESCRIPTION:
URL:https://caterinaproducciones.com/evento/iphigenia-en-vallecas-47/2017-12-12/
LOCATION:EL PAVÓN TEATRO KAMIKAZE\, Madrid\, Madrid\, Madrid\, España
CATEGORIES:Iphigenia en Vallecas
ATTACH;FMTTYPE=image/jpeg:https://caterinaproducciones.com/wp-content/uploads/2017/06/iphigenia-en-vallecas-1.jpg
END:VEVENT
BEGIN:VEVENT
DTSTART;VALUE=DATE:20171213
DTEND;VALUE=DATE:20171215
DTSTAMP:20260425T212400
CREATED:20221229T212152Z
LAST-MODIFIED:20221229T212152Z
UID:5912-1513126800-1513213199@caterinaproducciones.com
SUMMARY:Iphigenia en Vallecas
DESCRIPTION:
URL:https://caterinaproducciones.com/evento/iphigenia-en-vallecas-47/2017-12-13/
LOCATION:EL PAVÓN TEATRO KAMIKAZE\, Madrid\, Madrid\, Madrid\, España
CATEGORIES:Iphigenia en Vallecas
ATTACH;FMTTYPE=image/jpeg:https://caterinaproducciones.com/wp-content/uploads/2017/06/iphigenia-en-vallecas-1.jpg
END:VEVENT
BEGIN:VEVENT
DTSTART;VALUE=DATE:20171213
DTEND;VALUE=DATE:20171215
DTSTAMP:20260425T212400
CREATED:20221229T182621Z
LAST-MODIFIED:20221229T182621Z
UID:5093-1513126800-1513213199@caterinaproducciones.com
SUMMARY:Arte
DESCRIPTION:
URL:https://caterinaproducciones.com/evento/arte-6/2017-12-13/
LOCATION:EL PAVÓN TEATRO KAMIKAZE\, Madrid\, Madrid\, Madrid\, España
CATEGORIES:Arte
ATTACH;FMTTYPE=image/jpeg:https://caterinaproducciones.com/wp-content/uploads/2017/06/arte-1.jpg
END:VEVENT
BEGIN:VEVENT
DTSTART;VALUE=DATE:20171214
DTEND;VALUE=DATE:20171216
DTSTAMP:20260425T212400
CREATED:20221229T212152Z
LAST-MODIFIED:20221229T212152Z
UID:5913-1513213200-1513299599@caterinaproducciones.com
SUMMARY:Iphigenia en Vallecas
DESCRIPTION:
URL:https://caterinaproducciones.com/evento/iphigenia-en-vallecas-47/2017-12-14/
LOCATION:EL PAVÓN TEATRO KAMIKAZE\, Madrid\, Madrid\, Madrid\, España
CATEGORIES:Iphigenia en Vallecas
ATTACH;FMTTYPE=image/jpeg:https://caterinaproducciones.com/wp-content/uploads/2017/06/iphigenia-en-vallecas-1.jpg
END:VEVENT
BEGIN:VEVENT
DTSTART;VALUE=DATE:20171214
DTEND;VALUE=DATE:20171216
DTSTAMP:20260425T212400
CREATED:20221229T182621Z
LAST-MODIFIED:20221229T182621Z
UID:5094-1513213200-1513299599@caterinaproducciones.com
SUMMARY:Arte
DESCRIPTION:
URL:https://caterinaproducciones.com/evento/arte-6/2017-12-14/
LOCATION:EL PAVÓN TEATRO KAMIKAZE\, Madrid\, Madrid\, Madrid\, España
CATEGORIES:Arte
ATTACH;FMTTYPE=image/jpeg:https://caterinaproducciones.com/wp-content/uploads/2017/06/arte-1.jpg
END:VEVENT
BEGIN:VEVENT
DTSTART;VALUE=DATE:20171215
DTEND;VALUE=DATE:20171217
DTSTAMP:20260425T212400
CREATED:20221229T182621Z
LAST-MODIFIED:20221229T182621Z
UID:5095-1513299600-1513385999@caterinaproducciones.com
SUMMARY:Arte
DESCRIPTION:
URL:https://caterinaproducciones.com/evento/arte-6/2017-12-15/
LOCATION:EL PAVÓN TEATRO KAMIKAZE\, Madrid\, Madrid\, Madrid\, España
CATEGORIES:Arte
ATTACH;FMTTYPE=image/jpeg:https://caterinaproducciones.com/wp-content/uploads/2017/06/arte-1.jpg
END:VEVENT
BEGIN:VEVENT
DTSTART;VALUE=DATE:20171216
DTEND;VALUE=DATE:20171218
DTSTAMP:20260425T212400
CREATED:20221229T182621Z
LAST-MODIFIED:20221229T182621Z
UID:5096-1513386000-1513472399@caterinaproducciones.com
SUMMARY:Arte
DESCRIPTION:
URL:https://caterinaproducciones.com/evento/arte-6/2017-12-16/
LOCATION:EL PAVÓN TEATRO KAMIKAZE\, Madrid\, Madrid\, Madrid\, España
CATEGORIES:Arte
ATTACH;FMTTYPE=image/jpeg:https://caterinaproducciones.com/wp-content/uploads/2017/06/arte-1.jpg
END:VEVENT
BEGIN:VEVENT
DTSTART;VALUE=DATE:20171217
DTEND;VALUE=DATE:20171219
DTSTAMP:20260425T212400
CREATED:20230103T124800Z
LAST-MODIFIED:20230103T124800Z
UID:6611-1513472400-1513558799@caterinaproducciones.com
SUMMARY:Tebas Land
DESCRIPTION:
URL:https://caterinaproducciones.com/evento/tebas-land-4/2017-12-17/
LOCATION:EL PAVÓN TEATRO KAMIKAZE\, Madrid\, Madrid\, Madrid\, España
CATEGORIES:Tebas Land
ATTACH;FMTTYPE=image/jpeg:https://caterinaproducciones.com/wp-content/uploads/2017/06/tebas-1.jpg
END:VEVENT
BEGIN:VEVENT
DTSTART;VALUE=DATE:20171217
DTEND;VALUE=DATE:20171219
DTSTAMP:20260425T212400
CREATED:20221229T182621Z
LAST-MODIFIED:20221229T182621Z
UID:5097-1513472400-1513558799@caterinaproducciones.com
SUMMARY:Arte
DESCRIPTION:
URL:https://caterinaproducciones.com/evento/arte-6/2017-12-17/
LOCATION:EL PAVÓN TEATRO KAMIKAZE\, Madrid\, Madrid\, Madrid\, España
CATEGORIES:Arte
ATTACH;FMTTYPE=image/jpeg:https://caterinaproducciones.com/wp-content/uploads/2017/06/arte-1.jpg
END:VEVENT
BEGIN:VEVENT
DTSTART;VALUE=DATE:20171218
DTEND;VALUE=DATE:20171220
DTSTAMP:20260425T212400
CREATED:20230103T124800Z
LAST-MODIFIED:20230103T124800Z
UID:6612-1513558800-1513645199@caterinaproducciones.com
SUMMARY:Tebas Land
DESCRIPTION:
URL:https://caterinaproducciones.com/evento/tebas-land-4/2017-12-18/
LOCATION:EL PAVÓN TEATRO KAMIKAZE\, Madrid\, Madrid\, Madrid\, España
CATEGORIES:Tebas Land
ATTACH;FMTTYPE=image/jpeg:https://caterinaproducciones.com/wp-content/uploads/2017/06/tebas-1.jpg
END:VEVENT
END:VCALENDAR