BEGIN:VCALENDAR
VERSION:2.0
PRODID:-//CATERINA - ECPv5.16.4//NONSGML v1.0//EN
CALSCALE:GREGORIAN
METHOD:PUBLISH
X-ORIGINAL-URL:https://caterinaproducciones.com
X-WR-CALDESC:Eventos para CATERINA
REFRESH-INTERVAL;VALUE=DURATION:PT1H
X-Robots-Tag:noindex
X-PUBLISHED-TTL:PT1H
BEGIN:VTIMEZONE
TZID:Europe/Madrid
BEGIN:DAYLIGHT
TZOFFSETFROM:+0100
TZOFFSETTO:+0200
TZNAME:CEST
DTSTART:20170326T010000
END:DAYLIGHT
BEGIN:STANDARD
TZOFFSETFROM:+0200
TZOFFSETTO:+0100
TZNAME:CET
DTSTART:20171029T010000
END:STANDARD
BEGIN:DAYLIGHT
TZOFFSETFROM:+0100
TZOFFSETTO:+0200
TZNAME:CEST
DTSTART:20180325T010000
END:DAYLIGHT
BEGIN:STANDARD
TZOFFSETFROM:+0200
TZOFFSETTO:+0100
TZNAME:CET
DTSTART:20181028T010000
END:STANDARD
END:VTIMEZONE
BEGIN:VEVENT
DTSTART;VALUE=DATE:20171214
DTEND;VALUE=DATE:20171216
DTSTAMP:20260425T231919
CREATED:20221229T182621Z
LAST-MODIFIED:20221229T182621Z
UID:5094-1513213200-1513299599@caterinaproducciones.com
SUMMARY:Arte
DESCRIPTION:
URL:https://caterinaproducciones.com/evento/arte-6/2017-12-14/
LOCATION:EL PAVÓN TEATRO KAMIKAZE\, Madrid\, Madrid\, Madrid\, España
CATEGORIES:Arte
ATTACH;FMTTYPE=image/jpeg:https://caterinaproducciones.com/wp-content/uploads/2017/06/arte-1.jpg
END:VEVENT
BEGIN:VEVENT
DTSTART;VALUE=DATE:20171215
DTEND;VALUE=DATE:20171217
DTSTAMP:20260425T231919
CREATED:20221229T182621Z
LAST-MODIFIED:20221229T182621Z
UID:5095-1513299600-1513385999@caterinaproducciones.com
SUMMARY:Arte
DESCRIPTION:
URL:https://caterinaproducciones.com/evento/arte-6/2017-12-15/
LOCATION:EL PAVÓN TEATRO KAMIKAZE\, Madrid\, Madrid\, Madrid\, España
CATEGORIES:Arte
ATTACH;FMTTYPE=image/jpeg:https://caterinaproducciones.com/wp-content/uploads/2017/06/arte-1.jpg
END:VEVENT
BEGIN:VEVENT
DTSTART;VALUE=DATE:20171216
DTEND;VALUE=DATE:20171218
DTSTAMP:20260425T231919
CREATED:20221229T182621Z
LAST-MODIFIED:20221229T182621Z
UID:5096-1513386000-1513472399@caterinaproducciones.com
SUMMARY:Arte
DESCRIPTION:
URL:https://caterinaproducciones.com/evento/arte-6/2017-12-16/
LOCATION:EL PAVÓN TEATRO KAMIKAZE\, Madrid\, Madrid\, Madrid\, España
CATEGORIES:Arte
ATTACH;FMTTYPE=image/jpeg:https://caterinaproducciones.com/wp-content/uploads/2017/06/arte-1.jpg
END:VEVENT
BEGIN:VEVENT
DTSTART;VALUE=DATE:20171217
DTEND;VALUE=DATE:20171219
DTSTAMP:20260425T231919
CREATED:20230103T124800Z
LAST-MODIFIED:20230103T124800Z
UID:6611-1513472400-1513558799@caterinaproducciones.com
SUMMARY:Tebas Land
DESCRIPTION:
URL:https://caterinaproducciones.com/evento/tebas-land-4/2017-12-17/
LOCATION:EL PAVÓN TEATRO KAMIKAZE\, Madrid\, Madrid\, Madrid\, España
CATEGORIES:Tebas Land
ATTACH;FMTTYPE=image/jpeg:https://caterinaproducciones.com/wp-content/uploads/2017/06/tebas-1.jpg
END:VEVENT
BEGIN:VEVENT
DTSTART;VALUE=DATE:20171217
DTEND;VALUE=DATE:20171219
DTSTAMP:20260425T231919
CREATED:20221229T182621Z
LAST-MODIFIED:20221229T182621Z
UID:5097-1513472400-1513558799@caterinaproducciones.com
SUMMARY:Arte
DESCRIPTION:
URL:https://caterinaproducciones.com/evento/arte-6/2017-12-17/
LOCATION:EL PAVÓN TEATRO KAMIKAZE\, Madrid\, Madrid\, Madrid\, España
CATEGORIES:Arte
ATTACH;FMTTYPE=image/jpeg:https://caterinaproducciones.com/wp-content/uploads/2017/06/arte-1.jpg
END:VEVENT
BEGIN:VEVENT
DTSTART;VALUE=DATE:20171218
DTEND;VALUE=DATE:20171220
DTSTAMP:20260425T231919
CREATED:20230103T124800Z
LAST-MODIFIED:20230103T124800Z
UID:6612-1513558800-1513645199@caterinaproducciones.com
SUMMARY:Tebas Land
DESCRIPTION:
URL:https://caterinaproducciones.com/evento/tebas-land-4/2017-12-18/
LOCATION:EL PAVÓN TEATRO KAMIKAZE\, Madrid\, Madrid\, Madrid\, España
CATEGORIES:Tebas Land
ATTACH;FMTTYPE=image/jpeg:https://caterinaproducciones.com/wp-content/uploads/2017/06/tebas-1.jpg
END:VEVENT
BEGIN:VEVENT
DTSTART;VALUE=DATE:20171218
DTEND;VALUE=DATE:20171220
DTSTAMP:20260425T231919
CREATED:20221229T212152Z
LAST-MODIFIED:20221229T212152Z
UID:5914-1513558800-1513645199@caterinaproducciones.com
SUMMARY:Iphigenia en Vallecas
DESCRIPTION:
URL:https://caterinaproducciones.com/evento/iphigenia-en-vallecas-47/2017-12-18/
LOCATION:EL PAVÓN TEATRO KAMIKAZE\, Madrid\, Madrid\, Madrid\, España
CATEGORIES:Iphigenia en Vallecas
ATTACH;FMTTYPE=image/jpeg:https://caterinaproducciones.com/wp-content/uploads/2017/06/iphigenia-en-vallecas-1.jpg
END:VEVENT
BEGIN:VEVENT
DTSTART;VALUE=DATE:20171219
DTEND;VALUE=DATE:20171221
DTSTAMP:20260425T231919
CREATED:20230103T124800Z
LAST-MODIFIED:20230103T124800Z
UID:6613-1513645200-1513731599@caterinaproducciones.com
SUMMARY:Tebas Land
DESCRIPTION:
URL:https://caterinaproducciones.com/evento/tebas-land-4/2017-12-19/
LOCATION:EL PAVÓN TEATRO KAMIKAZE\, Madrid\, Madrid\, Madrid\, España
CATEGORIES:Tebas Land
ATTACH;FMTTYPE=image/jpeg:https://caterinaproducciones.com/wp-content/uploads/2017/06/tebas-1.jpg
END:VEVENT
BEGIN:VEVENT
DTSTART;VALUE=DATE:20171219
DTEND;VALUE=DATE:20171221
DTSTAMP:20260425T231919
CREATED:20221229T212152Z
LAST-MODIFIED:20221229T212152Z
UID:5915-1513645200-1513731599@caterinaproducciones.com
SUMMARY:Iphigenia en Vallecas
DESCRIPTION:
URL:https://caterinaproducciones.com/evento/iphigenia-en-vallecas-47/2017-12-19/
LOCATION:EL PAVÓN TEATRO KAMIKAZE\, Madrid\, Madrid\, Madrid\, España
CATEGORIES:Iphigenia en Vallecas
ATTACH;FMTTYPE=image/jpeg:https://caterinaproducciones.com/wp-content/uploads/2017/06/iphigenia-en-vallecas-1.jpg
END:VEVENT
BEGIN:VEVENT
DTSTART;VALUE=DATE:20171220
DTEND;VALUE=DATE:20171222
DTSTAMP:20260425T231919
CREATED:20221229T212152Z
LAST-MODIFIED:20221229T212152Z
UID:5916-1513731600-1513817999@caterinaproducciones.com
SUMMARY:Iphigenia en Vallecas
DESCRIPTION:
URL:https://caterinaproducciones.com/evento/iphigenia-en-vallecas-47/2017-12-20/
LOCATION:EL PAVÓN TEATRO KAMIKAZE\, Madrid\, Madrid\, Madrid\, España
CATEGORIES:Iphigenia en Vallecas
ATTACH;FMTTYPE=image/jpeg:https://caterinaproducciones.com/wp-content/uploads/2017/06/iphigenia-en-vallecas-1.jpg
END:VEVENT
BEGIN:VEVENT
DTSTART;VALUE=DATE:20171220
DTEND;VALUE=DATE:20171222
DTSTAMP:20260425T231919
CREATED:20221229T182621Z
LAST-MODIFIED:20221229T182621Z
UID:5098-1513731600-1513817999@caterinaproducciones.com
SUMMARY:Arte
DESCRIPTION:
URL:https://caterinaproducciones.com/evento/arte-6/2017-12-20/
LOCATION:EL PAVÓN TEATRO KAMIKAZE\, Madrid\, Madrid\, Madrid\, España
CATEGORIES:Arte
ATTACH;FMTTYPE=image/jpeg:https://caterinaproducciones.com/wp-content/uploads/2017/06/arte-1.jpg
END:VEVENT
BEGIN:VEVENT
DTSTART;VALUE=DATE:20171221
DTEND;VALUE=DATE:20171223
DTSTAMP:20260425T231919
CREATED:20221229T212152Z
LAST-MODIFIED:20221229T212152Z
UID:5917-1513818000-1513904399@caterinaproducciones.com
SUMMARY:Iphigenia en Vallecas
DESCRIPTION:
URL:https://caterinaproducciones.com/evento/iphigenia-en-vallecas-47/2017-12-21/
LOCATION:EL PAVÓN TEATRO KAMIKAZE\, Madrid\, Madrid\, Madrid\, España
CATEGORIES:Iphigenia en Vallecas
ATTACH;FMTTYPE=image/jpeg:https://caterinaproducciones.com/wp-content/uploads/2017/06/iphigenia-en-vallecas-1.jpg
END:VEVENT
BEGIN:VEVENT
DTSTART;VALUE=DATE:20171221
DTEND;VALUE=DATE:20171223
DTSTAMP:20260425T231919
CREATED:20221229T182621Z
LAST-MODIFIED:20221229T182621Z
UID:5099-1513818000-1513904399@caterinaproducciones.com
SUMMARY:Arte
DESCRIPTION:
URL:https://caterinaproducciones.com/evento/arte-6/2017-12-21/
LOCATION:EL PAVÓN TEATRO KAMIKAZE\, Madrid\, Madrid\, Madrid\, España
CATEGORIES:Arte
ATTACH;FMTTYPE=image/jpeg:https://caterinaproducciones.com/wp-content/uploads/2017/06/arte-1.jpg
END:VEVENT
BEGIN:VEVENT
DTSTART;VALUE=DATE:20171222
DTEND;VALUE=DATE:20171224
DTSTAMP:20260425T231919
CREATED:20221229T182621Z
LAST-MODIFIED:20221229T182621Z
UID:5100-1513904400-1513990799@caterinaproducciones.com
SUMMARY:Arte
DESCRIPTION:
URL:https://caterinaproducciones.com/evento/arte-6/2017-12-22/
LOCATION:EL PAVÓN TEATRO KAMIKAZE\, Madrid\, Madrid\, Madrid\, España
CATEGORIES:Arte
ATTACH;FMTTYPE=image/jpeg:https://caterinaproducciones.com/wp-content/uploads/2017/06/arte-1.jpg
END:VEVENT
BEGIN:VEVENT
DTSTART;VALUE=DATE:20171223
DTEND;VALUE=DATE:20171225
DTSTAMP:20260425T231919
CREATED:20221229T182621Z
LAST-MODIFIED:20221229T182621Z
UID:5101-1513990800-1514077199@caterinaproducciones.com
SUMMARY:Arte
DESCRIPTION:
URL:https://caterinaproducciones.com/evento/arte-6/2017-12-23/
LOCATION:EL PAVÓN TEATRO KAMIKAZE\, Madrid\, Madrid\, Madrid\, España
CATEGORIES:Arte
ATTACH;FMTTYPE=image/jpeg:https://caterinaproducciones.com/wp-content/uploads/2017/06/arte-1.jpg
END:VEVENT
BEGIN:VEVENT
DTSTART;VALUE=DATE:20171225
DTEND;VALUE=DATE:20171227
DTSTAMP:20260425T231919
CREATED:20230103T124800Z
LAST-MODIFIED:20230103T124800Z
UID:6614-1514163600-1514249999@caterinaproducciones.com
SUMMARY:Tebas Land
DESCRIPTION:
URL:https://caterinaproducciones.com/evento/tebas-land-4/2017-12-25/
LOCATION:EL PAVÓN TEATRO KAMIKAZE\, Madrid\, Madrid\, Madrid\, España
CATEGORIES:Tebas Land
ATTACH;FMTTYPE=image/jpeg:https://caterinaproducciones.com/wp-content/uploads/2017/06/tebas-1.jpg
END:VEVENT
BEGIN:VEVENT
DTSTART;VALUE=DATE:20171226
DTEND;VALUE=DATE:20171228
DTSTAMP:20260425T231919
CREATED:20230103T124800Z
LAST-MODIFIED:20230103T124800Z
UID:6615-1514250000-1514336399@caterinaproducciones.com
SUMMARY:Tebas Land
DESCRIPTION:
URL:https://caterinaproducciones.com/evento/tebas-land-4/2017-12-26/
LOCATION:EL PAVÓN TEATRO KAMIKAZE\, Madrid\, Madrid\, Madrid\, España
CATEGORIES:Tebas Land
ATTACH;FMTTYPE=image/jpeg:https://caterinaproducciones.com/wp-content/uploads/2017/06/tebas-1.jpg
END:VEVENT
BEGIN:VEVENT
DTSTART;VALUE=DATE:20171227
DTEND;VALUE=DATE:20171229
DTSTAMP:20260425T231919
CREATED:20230103T124800Z
LAST-MODIFIED:20230103T124800Z
UID:6616-1514336400-1514422799@caterinaproducciones.com
SUMMARY:Tebas Land
DESCRIPTION:
URL:https://caterinaproducciones.com/evento/tebas-land-4/2017-12-27/
LOCATION:EL PAVÓN TEATRO KAMIKAZE\, Madrid\, Madrid\, Madrid\, España
CATEGORIES:Tebas Land
ATTACH;FMTTYPE=image/jpeg:https://caterinaproducciones.com/wp-content/uploads/2017/06/tebas-1.jpg
END:VEVENT
BEGIN:VEVENT
DTSTART;VALUE=DATE:20171227
DTEND;VALUE=DATE:20171229
DTSTAMP:20260425T231919
CREATED:20221229T182621Z
LAST-MODIFIED:20221229T182621Z
UID:5102-1514336400-1514422799@caterinaproducciones.com
SUMMARY:Arte
DESCRIPTION:
URL:https://caterinaproducciones.com/evento/arte-6/2017-12-27/
LOCATION:EL PAVÓN TEATRO KAMIKAZE\, Madrid\, Madrid\, Madrid\, España
CATEGORIES:Arte
ATTACH;FMTTYPE=image/jpeg:https://caterinaproducciones.com/wp-content/uploads/2017/06/arte-1.jpg
END:VEVENT
BEGIN:VEVENT
DTSTART;VALUE=DATE:20171228
DTEND;VALUE=DATE:20171230
DTSTAMP:20260425T231919
CREATED:20230103T124800Z
LAST-MODIFIED:20230103T124800Z
UID:6617-1514422800-1514509199@caterinaproducciones.com
SUMMARY:Tebas Land
DESCRIPTION:
URL:https://caterinaproducciones.com/evento/tebas-land-4/2017-12-28/
LOCATION:EL PAVÓN TEATRO KAMIKAZE\, Madrid\, Madrid\, Madrid\, España
CATEGORIES:Tebas Land
ATTACH;FMTTYPE=image/jpeg:https://caterinaproducciones.com/wp-content/uploads/2017/06/tebas-1.jpg
END:VEVENT
BEGIN:VEVENT
DTSTART;VALUE=DATE:20171228
DTEND;VALUE=DATE:20171230
DTSTAMP:20260425T231919
CREATED:20221229T182621Z
LAST-MODIFIED:20221229T182621Z
UID:5103-1514422800-1514509199@caterinaproducciones.com
SUMMARY:Arte
DESCRIPTION:
URL:https://caterinaproducciones.com/evento/arte-6/2017-12-28/
LOCATION:EL PAVÓN TEATRO KAMIKAZE\, Madrid\, Madrid\, Madrid\, España
CATEGORIES:Arte
ATTACH;FMTTYPE=image/jpeg:https://caterinaproducciones.com/wp-content/uploads/2017/06/arte-1.jpg
END:VEVENT
BEGIN:VEVENT
DTSTART;VALUE=DATE:20171229
DTEND;VALUE=DATE:20171231
DTSTAMP:20260425T231919
CREATED:20221229T182621Z
LAST-MODIFIED:20221229T182621Z
UID:5104-1514509200-1514595599@caterinaproducciones.com
SUMMARY:Arte
DESCRIPTION:
URL:https://caterinaproducciones.com/evento/arte-6/2017-12-29/
LOCATION:EL PAVÓN TEATRO KAMIKAZE\, Madrid\, Madrid\, Madrid\, España
CATEGORIES:Arte
ATTACH;FMTTYPE=image/jpeg:https://caterinaproducciones.com/wp-content/uploads/2017/06/arte-1.jpg
END:VEVENT
BEGIN:VEVENT
DTSTART;VALUE=DATE:20171230
DTEND;VALUE=DATE:20180101
DTSTAMP:20260425T231919
CREATED:20221229T182621Z
LAST-MODIFIED:20221229T182621Z
UID:5105-1514595600-1514681999@caterinaproducciones.com
SUMMARY:Arte
DESCRIPTION:
URL:https://caterinaproducciones.com/evento/arte-6/2017-12-30/
LOCATION:EL PAVÓN TEATRO KAMIKAZE\, Madrid\, Madrid\, Madrid\, España
CATEGORIES:Arte
ATTACH;FMTTYPE=image/jpeg:https://caterinaproducciones.com/wp-content/uploads/2017/06/arte-1.jpg
END:VEVENT
BEGIN:VEVENT
DTSTART;VALUE=DATE:20180102
DTEND;VALUE=DATE:20180104
DTSTAMP:20260425T231919
CREATED:20230103T124800Z
LAST-MODIFIED:20230103T124800Z
UID:6618-1514854800-1514941199@caterinaproducciones.com
SUMMARY:Tebas Land
DESCRIPTION:
URL:https://caterinaproducciones.com/evento/tebas-land-4/2018-01-02/
LOCATION:EL PAVÓN TEATRO KAMIKAZE\, Madrid\, Madrid\, Madrid\, España
CATEGORIES:Tebas Land
ATTACH;FMTTYPE=image/jpeg:https://caterinaproducciones.com/wp-content/uploads/2017/06/tebas-1.jpg
END:VEVENT
BEGIN:VEVENT
DTSTART;VALUE=DATE:20180103
DTEND;VALUE=DATE:20180105
DTSTAMP:20260425T231919
CREATED:20230103T124800Z
LAST-MODIFIED:20230103T124800Z
UID:6619-1514941200-1515027599@caterinaproducciones.com
SUMMARY:Tebas Land
DESCRIPTION:
URL:https://caterinaproducciones.com/evento/tebas-land-4/2018-01-03/
LOCATION:EL PAVÓN TEATRO KAMIKAZE\, Madrid\, Madrid\, Madrid\, España
CATEGORIES:Tebas Land
ATTACH;FMTTYPE=image/jpeg:https://caterinaproducciones.com/wp-content/uploads/2017/06/tebas-1.jpg
END:VEVENT
BEGIN:VEVENT
DTSTART;VALUE=DATE:20180103
DTEND;VALUE=DATE:20180105
DTSTAMP:20260425T231919
CREATED:20221229T182621Z
LAST-MODIFIED:20221229T182621Z
UID:5106-1514941200-1515027599@caterinaproducciones.com
SUMMARY:Arte
DESCRIPTION:
URL:https://caterinaproducciones.com/evento/arte-6/2018-01-03/
LOCATION:EL PAVÓN TEATRO KAMIKAZE\, Madrid\, Madrid\, Madrid\, España
CATEGORIES:Arte
ATTACH;FMTTYPE=image/jpeg:https://caterinaproducciones.com/wp-content/uploads/2017/06/arte-1.jpg
END:VEVENT
BEGIN:VEVENT
DTSTART;VALUE=DATE:20180104
DTEND;VALUE=DATE:20180106
DTSTAMP:20260425T231919
CREATED:20221229T182621Z
LAST-MODIFIED:20221229T182621Z
UID:5107-1515027600-1515113999@caterinaproducciones.com
SUMMARY:Arte
DESCRIPTION:
URL:https://caterinaproducciones.com/evento/arte-6/2018-01-04/
LOCATION:EL PAVÓN TEATRO KAMIKAZE\, Madrid\, Madrid\, Madrid\, España
CATEGORIES:Arte
ATTACH;FMTTYPE=image/jpeg:https://caterinaproducciones.com/wp-content/uploads/2017/06/arte-1.jpg
END:VEVENT
BEGIN:VEVENT
DTSTART;VALUE=DATE:20180105
DTEND;VALUE=DATE:20180107
DTSTAMP:20260425T231919
CREATED:20221229T182621Z
LAST-MODIFIED:20221229T182621Z
UID:5108-1515114000-1515200399@caterinaproducciones.com
SUMMARY:Arte
DESCRIPTION:
URL:https://caterinaproducciones.com/evento/arte-6/2018-01-05/
LOCATION:EL PAVÓN TEATRO KAMIKAZE\, Madrid\, Madrid\, Madrid\, España
CATEGORIES:Arte
ATTACH;FMTTYPE=image/jpeg:https://caterinaproducciones.com/wp-content/uploads/2017/06/arte-1.jpg
END:VEVENT
BEGIN:VEVENT
DTSTART;VALUE=DATE:20180106
DTEND;VALUE=DATE:20180108
DTSTAMP:20260425T231919
CREATED:20221229T182621Z
LAST-MODIFIED:20221229T182621Z
UID:5109-1515200400-1515286799@caterinaproducciones.com
SUMMARY:Arte
DESCRIPTION:
URL:https://caterinaproducciones.com/evento/arte-6/2018-01-06/
LOCATION:EL PAVÓN TEATRO KAMIKAZE\, Madrid\, Madrid\, Madrid\, España
CATEGORIES:Arte
ATTACH;FMTTYPE=image/jpeg:https://caterinaproducciones.com/wp-content/uploads/2017/06/arte-1.jpg
END:VEVENT
BEGIN:VEVENT
DTSTART;VALUE=DATE:20180107
DTEND;VALUE=DATE:20180109
DTSTAMP:20260425T231919
CREATED:20230103T124800Z
LAST-MODIFIED:20230103T124800Z
UID:6620-1515286800-1515373199@caterinaproducciones.com
SUMMARY:Tebas Land
DESCRIPTION:
URL:https://caterinaproducciones.com/evento/tebas-land-4/2018-01-07/
LOCATION:EL PAVÓN TEATRO KAMIKAZE\, Madrid\, Madrid\, Madrid\, España
CATEGORIES:Tebas Land
ATTACH;FMTTYPE=image/jpeg:https://caterinaproducciones.com/wp-content/uploads/2017/06/tebas-1.jpg
END:VEVENT
END:VCALENDAR