BEGIN:VCALENDAR
VERSION:2.0
PRODID:-//CATERINA - ECPv5.16.4//NONSGML v1.0//EN
CALSCALE:GREGORIAN
METHOD:PUBLISH
X-WR-CALNAME:CATERINA
X-ORIGINAL-URL:https://caterinaproducciones.com
X-WR-CALDESC:Eventos para CATERINA
REFRESH-INTERVAL;VALUE=DURATION:PT1H
X-Robots-Tag:noindex
X-PUBLISHED-TTL:PT1H
BEGIN:VTIMEZONE
TZID:Europe/Madrid
BEGIN:DAYLIGHT
TZOFFSETFROM:+0100
TZOFFSETTO:+0200
TZNAME:CEST
DTSTART:20180325T010000
END:DAYLIGHT
BEGIN:STANDARD
TZOFFSETFROM:+0200
TZOFFSETTO:+0100
TZNAME:CET
DTSTART:20181028T010000
END:STANDARD
END:VTIMEZONE
BEGIN:VEVENT
DTSTART;VALUE=DATE:20180121
DTEND;VALUE=DATE:20180123
DTSTAMP:20260426T024630
CREATED:20221229T212152Z
LAST-MODIFIED:20221229T212152Z
UID:5925-1516496400-1516582799@caterinaproducciones.com
SUMMARY:Iphigenia en Vallecas
DESCRIPTION:
URL:https://caterinaproducciones.com/evento/iphigenia-en-vallecas-48/2018-01-21/
LOCATION:EL PAVÓN TEATRO KAMIKAZE\, Madrid\, Madrid\, Madrid\, España
CATEGORIES:Iphigenia en Vallecas
ATTACH;FMTTYPE=image/jpeg:https://caterinaproducciones.com/wp-content/uploads/2017/06/iphigenia-en-vallecas-1.jpg
END:VEVENT
BEGIN:VEVENT
DTSTART;VALUE=DATE:20180122
DTEND;VALUE=DATE:20180124
DTSTAMP:20260426T024630
CREATED:20221229T212152Z
LAST-MODIFIED:20221229T212152Z
UID:5926-1516582800-1516669199@caterinaproducciones.com
SUMMARY:Iphigenia en Vallecas
DESCRIPTION:
URL:https://caterinaproducciones.com/evento/iphigenia-en-vallecas-48/2018-01-22/
LOCATION:EL PAVÓN TEATRO KAMIKAZE\, Madrid\, Madrid\, Madrid\, España
CATEGORIES:Iphigenia en Vallecas
ATTACH;FMTTYPE=image/jpeg:https://caterinaproducciones.com/wp-content/uploads/2017/06/iphigenia-en-vallecas-1.jpg
END:VEVENT
BEGIN:VEVENT
DTSTART;VALUE=DATE:20180124
DTEND;VALUE=DATE:20180126
DTSTAMP:20260426T024630
CREATED:20230103T131820Z
LAST-MODIFIED:20230103T131820Z
UID:6708-1516755600-1516841999@caterinaproducciones.com
SUMMARY:Todo el tiempo del mundo
DESCRIPTION:
URL:https://caterinaproducciones.com/evento/todo-el-tiempo-del-mundo-15/2018-01-24/
LOCATION:EL PAVÓN TEATRO KAMIKAZE\, Madrid\, Madrid\, Madrid\, España
CATEGORIES:Todo el tiempo del mundo
ATTACH;FMTTYPE=image/jpeg:https://caterinaproducciones.com/wp-content/uploads/2017/06/todo-el-tiempo-del-mundo-1.jpg
END:VEVENT
BEGIN:VEVENT
DTSTART;VALUE=DATE:20180124
DTEND;VALUE=DATE:20180126
DTSTAMP:20260426T024630
CREATED:20221229T212152Z
LAST-MODIFIED:20221229T212152Z
UID:5927-1516755600-1516841999@caterinaproducciones.com
SUMMARY:Iphigenia en Vallecas
DESCRIPTION:
URL:https://caterinaproducciones.com/evento/iphigenia-en-vallecas-48/2018-01-24/
LOCATION:EL PAVÓN TEATRO KAMIKAZE\, Madrid\, Madrid\, Madrid\, España
CATEGORIES:Iphigenia en Vallecas
ATTACH;FMTTYPE=image/jpeg:https://caterinaproducciones.com/wp-content/uploads/2017/06/iphigenia-en-vallecas-1.jpg
END:VEVENT
BEGIN:VEVENT
DTSTART;VALUE=DATE:20180125
DTEND;VALUE=DATE:20180127
DTSTAMP:20260426T024630
CREATED:20230103T131820Z
LAST-MODIFIED:20230103T131820Z
UID:6709-1516842000-1516928399@caterinaproducciones.com
SUMMARY:Todo el tiempo del mundo
DESCRIPTION:
URL:https://caterinaproducciones.com/evento/todo-el-tiempo-del-mundo-15/2018-01-25/
LOCATION:EL PAVÓN TEATRO KAMIKAZE\, Madrid\, Madrid\, Madrid\, España
CATEGORIES:Todo el tiempo del mundo
ATTACH;FMTTYPE=image/jpeg:https://caterinaproducciones.com/wp-content/uploads/2017/06/todo-el-tiempo-del-mundo-1.jpg
END:VEVENT
BEGIN:VEVENT
DTSTART;VALUE=DATE:20180125
DTEND;VALUE=DATE:20180127
DTSTAMP:20260426T024630
CREATED:20221229T212152Z
LAST-MODIFIED:20221229T212152Z
UID:5928-1516842000-1516928399@caterinaproducciones.com
SUMMARY:Iphigenia en Vallecas
DESCRIPTION:
URL:https://caterinaproducciones.com/evento/iphigenia-en-vallecas-48/2018-01-25/
LOCATION:EL PAVÓN TEATRO KAMIKAZE\, Madrid\, Madrid\, Madrid\, España
CATEGORIES:Iphigenia en Vallecas
ATTACH;FMTTYPE=image/jpeg:https://caterinaproducciones.com/wp-content/uploads/2017/06/iphigenia-en-vallecas-1.jpg
END:VEVENT
BEGIN:VEVENT
DTSTART;VALUE=DATE:20180126
DTEND;VALUE=DATE:20180128
DTSTAMP:20260426T024630
CREATED:20230103T131820Z
LAST-MODIFIED:20230103T131820Z
UID:6710-1516928400-1517014799@caterinaproducciones.com
SUMMARY:Todo el tiempo del mundo
DESCRIPTION:
URL:https://caterinaproducciones.com/evento/todo-el-tiempo-del-mundo-15/2018-01-26/
LOCATION:EL PAVÓN TEATRO KAMIKAZE\, Madrid\, Madrid\, Madrid\, España
CATEGORIES:Todo el tiempo del mundo
ATTACH;FMTTYPE=image/jpeg:https://caterinaproducciones.com/wp-content/uploads/2017/06/todo-el-tiempo-del-mundo-1.jpg
END:VEVENT
BEGIN:VEVENT
DTSTART;VALUE=DATE:20180127
DTEND;VALUE=DATE:20180129
DTSTAMP:20260426T024630
CREATED:20230103T131820Z
LAST-MODIFIED:20230103T131820Z
UID:6711-1517014800-1517101199@caterinaproducciones.com
SUMMARY:Todo el tiempo del mundo
DESCRIPTION:
URL:https://caterinaproducciones.com/evento/todo-el-tiempo-del-mundo-15/2018-01-27/
LOCATION:EL PAVÓN TEATRO KAMIKAZE\, Madrid\, Madrid\, Madrid\, España
CATEGORIES:Todo el tiempo del mundo
ATTACH;FMTTYPE=image/jpeg:https://caterinaproducciones.com/wp-content/uploads/2017/06/todo-el-tiempo-del-mundo-1.jpg
END:VEVENT
BEGIN:VEVENT
DTSTART;VALUE=DATE:20180127
DTEND;VALUE=DATE:20180129
DTSTAMP:20260426T024630
CREATED:20221229T212152Z
LAST-MODIFIED:20221229T212152Z
UID:5929-1517014800-1517101199@caterinaproducciones.com
SUMMARY:Iphigenia en Vallecas
DESCRIPTION:
URL:https://caterinaproducciones.com/evento/iphigenia-en-vallecas-48/2018-01-27/
LOCATION:EL PAVÓN TEATRO KAMIKAZE\, Madrid\, Madrid\, Madrid\, España
CATEGORIES:Iphigenia en Vallecas
ATTACH;FMTTYPE=image/jpeg:https://caterinaproducciones.com/wp-content/uploads/2017/06/iphigenia-en-vallecas-1.jpg
END:VEVENT
BEGIN:VEVENT
DTSTART;VALUE=DATE:20180128
DTEND;VALUE=DATE:20180130
DTSTAMP:20260426T024630
CREATED:20230103T131820Z
LAST-MODIFIED:20230103T131820Z
UID:6712-1517101200-1517187599@caterinaproducciones.com
SUMMARY:Todo el tiempo del mundo
DESCRIPTION:
URL:https://caterinaproducciones.com/evento/todo-el-tiempo-del-mundo-15/2018-01-28/
LOCATION:EL PAVÓN TEATRO KAMIKAZE\, Madrid\, Madrid\, Madrid\, España
CATEGORIES:Todo el tiempo del mundo
ATTACH;FMTTYPE=image/jpeg:https://caterinaproducciones.com/wp-content/uploads/2017/06/todo-el-tiempo-del-mundo-1.jpg
END:VEVENT
BEGIN:VEVENT
DTSTART;VALUE=DATE:20180314
DTEND;VALUE=DATE:20180316
DTSTAMP:20260426T024630
CREATED:20221229T195728Z
LAST-MODIFIED:20221229T200007Z
UID:5412-1520989200-1521075599@caterinaproducciones.com
SUMMARY:El tratamiento
DESCRIPTION:
URL:https://caterinaproducciones.com/evento/el-tratamiento-3/2018-03-14/
LOCATION:EL PAVÓN TEATRO KAMIKAZE\, Madrid\, Madrid\, Madrid\, España
CATEGORIES:El tratamiento
ATTACH;FMTTYPE=image/jpeg:https://caterinaproducciones.com/wp-content/uploads/2017/06/el-tratamiento-1.jpg
END:VEVENT
BEGIN:VEVENT
DTSTART;VALUE=DATE:20180315
DTEND;VALUE=DATE:20180317
DTSTAMP:20260426T024630
CREATED:20221229T195728Z
LAST-MODIFIED:20221229T195728Z
UID:5416-1521075600-1521161999@caterinaproducciones.com
SUMMARY:El tratamiento
DESCRIPTION:
URL:https://caterinaproducciones.com/evento/el-tratamiento-3/2018-03-15/
LOCATION:EL PAVÓN TEATRO KAMIKAZE\, Madrid\, Madrid\, Madrid\, España
CATEGORIES:El tratamiento
ATTACH;FMTTYPE=image/jpeg:https://caterinaproducciones.com/wp-content/uploads/2017/06/el-tratamiento-1.jpg
END:VEVENT
BEGIN:VEVENT
DTSTART;VALUE=DATE:20180316
DTEND;VALUE=DATE:20180318
DTSTAMP:20260426T024630
CREATED:20221229T195728Z
LAST-MODIFIED:20221229T195728Z
UID:5417-1521162000-1521248399@caterinaproducciones.com
SUMMARY:El tratamiento
DESCRIPTION:
URL:https://caterinaproducciones.com/evento/el-tratamiento-3/2018-03-16/
LOCATION:EL PAVÓN TEATRO KAMIKAZE\, Madrid\, Madrid\, Madrid\, España
CATEGORIES:El tratamiento
ATTACH;FMTTYPE=image/jpeg:https://caterinaproducciones.com/wp-content/uploads/2017/06/el-tratamiento-1.jpg
END:VEVENT
BEGIN:VEVENT
DTSTART;VALUE=DATE:20180317
DTEND;VALUE=DATE:20180319
DTSTAMP:20260426T024630
CREATED:20221229T195728Z
LAST-MODIFIED:20221229T195728Z
UID:5418-1521248400-1521334799@caterinaproducciones.com
SUMMARY:El tratamiento
DESCRIPTION:
URL:https://caterinaproducciones.com/evento/el-tratamiento-3/2018-03-17/
LOCATION:EL PAVÓN TEATRO KAMIKAZE\, Madrid\, Madrid\, Madrid\, España
CATEGORIES:El tratamiento
ATTACH;FMTTYPE=image/jpeg:https://caterinaproducciones.com/wp-content/uploads/2017/06/el-tratamiento-1.jpg
END:VEVENT
BEGIN:VEVENT
DTSTART;VALUE=DATE:20180318
DTEND;VALUE=DATE:20180320
DTSTAMP:20260426T024630
CREATED:20221229T195728Z
LAST-MODIFIED:20221229T195728Z
UID:5419-1521334800-1521421199@caterinaproducciones.com
SUMMARY:El tratamiento
DESCRIPTION:
URL:https://caterinaproducciones.com/evento/el-tratamiento-3/2018-03-18/
LOCATION:EL PAVÓN TEATRO KAMIKAZE\, Madrid\, Madrid\, Madrid\, España
CATEGORIES:El tratamiento
ATTACH;FMTTYPE=image/jpeg:https://caterinaproducciones.com/wp-content/uploads/2017/06/el-tratamiento-1.jpg
END:VEVENT
BEGIN:VEVENT
DTSTART;VALUE=DATE:20180321
DTEND;VALUE=DATE:20180323
DTSTAMP:20260426T024630
CREATED:20221229T195728Z
LAST-MODIFIED:20221229T195728Z
UID:5420-1521594000-1521680399@caterinaproducciones.com
SUMMARY:El tratamiento
DESCRIPTION:
URL:https://caterinaproducciones.com/evento/el-tratamiento-3/2018-03-21/
LOCATION:EL PAVÓN TEATRO KAMIKAZE\, Madrid\, Madrid\, Madrid\, España
CATEGORIES:El tratamiento
ATTACH;FMTTYPE=image/jpeg:https://caterinaproducciones.com/wp-content/uploads/2017/06/el-tratamiento-1.jpg
END:VEVENT
BEGIN:VEVENT
DTSTART;VALUE=DATE:20180322
DTEND;VALUE=DATE:20180324
DTSTAMP:20260426T024630
CREATED:20221229T195728Z
LAST-MODIFIED:20221229T195728Z
UID:5421-1521680400-1521766799@caterinaproducciones.com
SUMMARY:El tratamiento
DESCRIPTION:
URL:https://caterinaproducciones.com/evento/el-tratamiento-3/2018-03-22/
LOCATION:EL PAVÓN TEATRO KAMIKAZE\, Madrid\, Madrid\, Madrid\, España
CATEGORIES:El tratamiento
ATTACH;FMTTYPE=image/jpeg:https://caterinaproducciones.com/wp-content/uploads/2017/06/el-tratamiento-1.jpg
END:VEVENT
BEGIN:VEVENT
DTSTART;VALUE=DATE:20180323
DTEND;VALUE=DATE:20180325
DTSTAMP:20260426T024630
CREATED:20221229T195728Z
LAST-MODIFIED:20221229T195728Z
UID:5422-1521766800-1521853199@caterinaproducciones.com
SUMMARY:El tratamiento
DESCRIPTION:
URL:https://caterinaproducciones.com/evento/el-tratamiento-3/2018-03-23/
LOCATION:EL PAVÓN TEATRO KAMIKAZE\, Madrid\, Madrid\, Madrid\, España
CATEGORIES:El tratamiento
ATTACH;FMTTYPE=image/jpeg:https://caterinaproducciones.com/wp-content/uploads/2017/06/el-tratamiento-1.jpg
END:VEVENT
BEGIN:VEVENT
DTSTART;VALUE=DATE:20180324
DTEND;VALUE=DATE:20180326
DTSTAMP:20260426T024630
CREATED:20221229T195728Z
LAST-MODIFIED:20221229T195728Z
UID:5423-1521853200-1521939599@caterinaproducciones.com
SUMMARY:El tratamiento
DESCRIPTION:
URL:https://caterinaproducciones.com/evento/el-tratamiento-3/2018-03-24/
LOCATION:EL PAVÓN TEATRO KAMIKAZE\, Madrid\, Madrid\, Madrid\, España
CATEGORIES:El tratamiento
ATTACH;FMTTYPE=image/jpeg:https://caterinaproducciones.com/wp-content/uploads/2017/06/el-tratamiento-1.jpg
END:VEVENT
BEGIN:VEVENT
DTSTART;VALUE=DATE:20180325
DTEND;VALUE=DATE:20180327
DTSTAMP:20260426T024630
CREATED:20221229T195728Z
LAST-MODIFIED:20221229T195728Z
UID:5424-1521939600-1522025999@caterinaproducciones.com
SUMMARY:El tratamiento
DESCRIPTION:
URL:https://caterinaproducciones.com/evento/el-tratamiento-3/2018-03-25/
LOCATION:EL PAVÓN TEATRO KAMIKAZE\, Madrid\, Madrid\, Madrid\, España
CATEGORIES:El tratamiento
ATTACH;FMTTYPE=image/jpeg:https://caterinaproducciones.com/wp-content/uploads/2017/06/el-tratamiento-1.jpg
END:VEVENT
BEGIN:VEVENT
DTSTART;VALUE=DATE:20180328
DTEND;VALUE=DATE:20180330
DTSTAMP:20260426T024630
CREATED:20221229T195728Z
LAST-MODIFIED:20221229T195728Z
UID:5425-1522198800-1522285199@caterinaproducciones.com
SUMMARY:El tratamiento
DESCRIPTION:
URL:https://caterinaproducciones.com/evento/el-tratamiento-3/2018-03-28/
LOCATION:EL PAVÓN TEATRO KAMIKAZE\, Madrid\, Madrid\, Madrid\, España
CATEGORIES:El tratamiento
ATTACH;FMTTYPE=image/jpeg:https://caterinaproducciones.com/wp-content/uploads/2017/06/el-tratamiento-1.jpg
END:VEVENT
BEGIN:VEVENT
DTSTART;VALUE=DATE:20180329
DTEND;VALUE=DATE:20180331
DTSTAMP:20260426T024630
CREATED:20221229T195728Z
LAST-MODIFIED:20221229T195728Z
UID:5426-1522285200-1522371599@caterinaproducciones.com
SUMMARY:El tratamiento
DESCRIPTION:
URL:https://caterinaproducciones.com/evento/el-tratamiento-3/2018-03-29/
LOCATION:EL PAVÓN TEATRO KAMIKAZE\, Madrid\, Madrid\, Madrid\, España
CATEGORIES:El tratamiento
ATTACH;FMTTYPE=image/jpeg:https://caterinaproducciones.com/wp-content/uploads/2017/06/el-tratamiento-1.jpg
END:VEVENT
BEGIN:VEVENT
DTSTART;VALUE=DATE:20180330
DTEND;VALUE=DATE:20180401
DTSTAMP:20260426T024630
CREATED:20221229T195728Z
LAST-MODIFIED:20221229T195728Z
UID:5427-1522371600-1522457999@caterinaproducciones.com
SUMMARY:El tratamiento
DESCRIPTION:
URL:https://caterinaproducciones.com/evento/el-tratamiento-3/2018-03-30/
LOCATION:EL PAVÓN TEATRO KAMIKAZE\, Madrid\, Madrid\, Madrid\, España
CATEGORIES:El tratamiento
ATTACH;FMTTYPE=image/jpeg:https://caterinaproducciones.com/wp-content/uploads/2017/06/el-tratamiento-1.jpg
END:VEVENT
BEGIN:VEVENT
DTSTART;VALUE=DATE:20180331
DTEND;VALUE=DATE:20180402
DTSTAMP:20260426T024630
CREATED:20221229T195728Z
LAST-MODIFIED:20221229T195728Z
UID:5428-1522458000-1522544399@caterinaproducciones.com
SUMMARY:El tratamiento
DESCRIPTION:
URL:https://caterinaproducciones.com/evento/el-tratamiento-3/2018-03-31/
LOCATION:EL PAVÓN TEATRO KAMIKAZE\, Madrid\, Madrid\, Madrid\, España
CATEGORIES:El tratamiento
ATTACH;FMTTYPE=image/jpeg:https://caterinaproducciones.com/wp-content/uploads/2017/06/el-tratamiento-1.jpg
END:VEVENT
BEGIN:VEVENT
DTSTART;VALUE=DATE:20180401
DTEND;VALUE=DATE:20180403
DTSTAMP:20260426T024630
CREATED:20221229T195728Z
LAST-MODIFIED:20221229T195728Z
UID:5429-1522544400-1522630799@caterinaproducciones.com
SUMMARY:El tratamiento
DESCRIPTION:
URL:https://caterinaproducciones.com/evento/el-tratamiento-3/2018-04-01/
LOCATION:EL PAVÓN TEATRO KAMIKAZE\, Madrid\, Madrid\, Madrid\, España
CATEGORIES:El tratamiento
ATTACH;FMTTYPE=image/jpeg:https://caterinaproducciones.com/wp-content/uploads/2017/06/el-tratamiento-1.jpg
END:VEVENT
BEGIN:VEVENT
DTSTART;VALUE=DATE:20180404
DTEND;VALUE=DATE:20180406
DTSTAMP:20260426T024630
CREATED:20221229T195728Z
LAST-MODIFIED:20221229T195728Z
UID:5430-1522803600-1522889999@caterinaproducciones.com
SUMMARY:El tratamiento
DESCRIPTION:
URL:https://caterinaproducciones.com/evento/el-tratamiento-3/2018-04-04/
LOCATION:EL PAVÓN TEATRO KAMIKAZE\, Madrid\, Madrid\, Madrid\, España
CATEGORIES:El tratamiento
ATTACH;FMTTYPE=image/jpeg:https://caterinaproducciones.com/wp-content/uploads/2017/06/el-tratamiento-1.jpg
END:VEVENT
BEGIN:VEVENT
DTSTART;VALUE=DATE:20180405
DTEND;VALUE=DATE:20180407
DTSTAMP:20260426T024630
CREATED:20221229T195728Z
LAST-MODIFIED:20221229T195728Z
UID:5431-1522890000-1522976399@caterinaproducciones.com
SUMMARY:El tratamiento
DESCRIPTION:
URL:https://caterinaproducciones.com/evento/el-tratamiento-3/2018-04-05/
LOCATION:EL PAVÓN TEATRO KAMIKAZE\, Madrid\, Madrid\, Madrid\, España
CATEGORIES:El tratamiento
ATTACH;FMTTYPE=image/jpeg:https://caterinaproducciones.com/wp-content/uploads/2017/06/el-tratamiento-1.jpg
END:VEVENT
BEGIN:VEVENT
DTSTART;VALUE=DATE:20180406
DTEND;VALUE=DATE:20180408
DTSTAMP:20260426T024630
CREATED:20221229T195728Z
LAST-MODIFIED:20221229T195728Z
UID:5432-1522976400-1523062799@caterinaproducciones.com
SUMMARY:El tratamiento
DESCRIPTION:
URL:https://caterinaproducciones.com/evento/el-tratamiento-3/2018-04-06/
LOCATION:EL PAVÓN TEATRO KAMIKAZE\, Madrid\, Madrid\, Madrid\, España
CATEGORIES:El tratamiento
ATTACH;FMTTYPE=image/jpeg:https://caterinaproducciones.com/wp-content/uploads/2017/06/el-tratamiento-1.jpg
END:VEVENT
BEGIN:VEVENT
DTSTART;VALUE=DATE:20180407
DTEND;VALUE=DATE:20180409
DTSTAMP:20260426T024630
CREATED:20221229T195728Z
LAST-MODIFIED:20221229T195728Z
UID:5433-1523062800-1523149199@caterinaproducciones.com
SUMMARY:El tratamiento
DESCRIPTION:
URL:https://caterinaproducciones.com/evento/el-tratamiento-3/2018-04-07/
LOCATION:EL PAVÓN TEATRO KAMIKAZE\, Madrid\, Madrid\, Madrid\, España
CATEGORIES:El tratamiento
ATTACH;FMTTYPE=image/jpeg:https://caterinaproducciones.com/wp-content/uploads/2017/06/el-tratamiento-1.jpg
END:VEVENT
BEGIN:VEVENT
DTSTART;VALUE=DATE:20180408
DTEND;VALUE=DATE:20180410
DTSTAMP:20260426T024630
CREATED:20221229T195728Z
LAST-MODIFIED:20221229T195728Z
UID:5434-1523149200-1523235599@caterinaproducciones.com
SUMMARY:El tratamiento
DESCRIPTION:
URL:https://caterinaproducciones.com/evento/el-tratamiento-3/2018-04-08/
LOCATION:EL PAVÓN TEATRO KAMIKAZE\, Madrid\, Madrid\, Madrid\, España
CATEGORIES:El tratamiento
ATTACH;FMTTYPE=image/jpeg:https://caterinaproducciones.com/wp-content/uploads/2017/06/el-tratamiento-1.jpg
END:VEVENT
END:VCALENDAR