BEGIN:VCALENDAR
VERSION:2.0
PRODID:-//CATERINA - ECPv5.16.4//NONSGML v1.0//EN
CALSCALE:GREGORIAN
METHOD:PUBLISH
X-WR-CALNAME:CATERINA
X-ORIGINAL-URL:https://caterinaproducciones.com
X-WR-CALDESC:Eventos para CATERINA
REFRESH-INTERVAL;VALUE=DURATION:PT1H
X-Robots-Tag:noindex
X-PUBLISHED-TTL:PT1H
BEGIN:VTIMEZONE
TZID:Europe/Madrid
BEGIN:DAYLIGHT
TZOFFSETFROM:+0100
TZOFFSETTO:+0200
TZNAME:CEST
DTSTART:20160327T010000
END:DAYLIGHT
BEGIN:STANDARD
TZOFFSETFROM:+0200
TZOFFSETTO:+0100
TZNAME:CET
DTSTART:20161030T010000
END:STANDARD
END:VTIMEZONE
BEGIN:VEVENT
DTSTART;VALUE=DATE:20160930
DTEND;VALUE=DATE:20161002
DTSTAMP:20260425T013036
CREATED:20221229T205256Z
LAST-MODIFIED:20221229T205256Z
UID:5645-1475197200-1475283599@caterinaproducciones.com
SUMMARY:Idiota
DESCRIPTION:
URL:https://caterinaproducciones.com/evento/idiota-2/2016-09-30/
LOCATION:EL PAVÓN TEATRO KAMIKAZE\, Madrid\, Madrid\, Madrid\, España
CATEGORIES:Idiota
ATTACH;FMTTYPE=image/jpeg:https://caterinaproducciones.com/wp-content/uploads/2017/06/idiota-1.jpg
END:VEVENT
BEGIN:VEVENT
DTSTART;VALUE=DATE:20161001
DTEND;VALUE=DATE:20161003
DTSTAMP:20260425T013036
CREATED:20221229T205256Z
LAST-MODIFIED:20221229T205256Z
UID:5646-1475283600-1475369999@caterinaproducciones.com
SUMMARY:Idiota
DESCRIPTION:
URL:https://caterinaproducciones.com/evento/idiota-2/2016-10-01/
LOCATION:EL PAVÓN TEATRO KAMIKAZE\, Madrid\, Madrid\, Madrid\, España
CATEGORIES:Idiota
ATTACH;FMTTYPE=image/jpeg:https://caterinaproducciones.com/wp-content/uploads/2017/06/idiota-1.jpg
END:VEVENT
BEGIN:VEVENT
DTSTART;VALUE=DATE:20161002
DTEND;VALUE=DATE:20161004
DTSTAMP:20260425T013036
CREATED:20221229T205256Z
LAST-MODIFIED:20221229T205256Z
UID:5647-1475370000-1475456399@caterinaproducciones.com
SUMMARY:Idiota
DESCRIPTION:
URL:https://caterinaproducciones.com/evento/idiota-2/2016-10-02/
LOCATION:EL PAVÓN TEATRO KAMIKAZE\, Madrid\, Madrid\, Madrid\, España
CATEGORIES:Idiota
ATTACH;FMTTYPE=image/jpeg:https://caterinaproducciones.com/wp-content/uploads/2017/06/idiota-1.jpg
END:VEVENT
BEGIN:VEVENT
DTSTART;VALUE=DATE:20161005
DTEND;VALUE=DATE:20161007
DTSTAMP:20260425T013036
CREATED:20221229T205256Z
LAST-MODIFIED:20221229T205256Z
UID:5648-1475629200-1475715599@caterinaproducciones.com
SUMMARY:Idiota
DESCRIPTION:
URL:https://caterinaproducciones.com/evento/idiota-2/2016-10-05/
LOCATION:EL PAVÓN TEATRO KAMIKAZE\, Madrid\, Madrid\, Madrid\, España
CATEGORIES:Idiota
ATTACH;FMTTYPE=image/jpeg:https://caterinaproducciones.com/wp-content/uploads/2017/06/idiota-1.jpg
END:VEVENT
BEGIN:VEVENT
DTSTART;VALUE=DATE:20161006
DTEND;VALUE=DATE:20161008
DTSTAMP:20260425T013036
CREATED:20221229T205256Z
LAST-MODIFIED:20221229T205256Z
UID:5649-1475715600-1475801999@caterinaproducciones.com
SUMMARY:Idiota
DESCRIPTION:
URL:https://caterinaproducciones.com/evento/idiota-2/2016-10-06/
LOCATION:EL PAVÓN TEATRO KAMIKAZE\, Madrid\, Madrid\, Madrid\, España
CATEGORIES:Idiota
ATTACH;FMTTYPE=image/jpeg:https://caterinaproducciones.com/wp-content/uploads/2017/06/idiota-1.jpg
END:VEVENT
BEGIN:VEVENT
DTSTART;VALUE=DATE:20161007
DTEND;VALUE=DATE:20161009
DTSTAMP:20260425T013036
CREATED:20221229T205256Z
LAST-MODIFIED:20221229T205256Z
UID:5650-1475802000-1475888399@caterinaproducciones.com
SUMMARY:Idiota
DESCRIPTION:
URL:https://caterinaproducciones.com/evento/idiota-2/2016-10-07/
LOCATION:EL PAVÓN TEATRO KAMIKAZE\, Madrid\, Madrid\, Madrid\, España
CATEGORIES:Idiota
ATTACH;FMTTYPE=image/jpeg:https://caterinaproducciones.com/wp-content/uploads/2017/06/idiota-1.jpg
END:VEVENT
BEGIN:VEVENT
DTSTART;VALUE=DATE:20161008
DTEND;VALUE=DATE:20161010
DTSTAMP:20260425T013036
CREATED:20221229T205256Z
LAST-MODIFIED:20221229T205256Z
UID:5651-1475888400-1475974799@caterinaproducciones.com
SUMMARY:Idiota
DESCRIPTION:
URL:https://caterinaproducciones.com/evento/idiota-2/2016-10-08/
LOCATION:EL PAVÓN TEATRO KAMIKAZE\, Madrid\, Madrid\, Madrid\, España
CATEGORIES:Idiota
ATTACH;FMTTYPE=image/jpeg:https://caterinaproducciones.com/wp-content/uploads/2017/06/idiota-1.jpg
END:VEVENT
BEGIN:VEVENT
DTSTART;VALUE=DATE:20161009
DTEND;VALUE=DATE:20161011
DTSTAMP:20260425T013036
CREATED:20221229T205256Z
LAST-MODIFIED:20221229T205256Z
UID:5652-1475974800-1476061199@caterinaproducciones.com
SUMMARY:Idiota
DESCRIPTION:
URL:https://caterinaproducciones.com/evento/idiota-2/2016-10-09/
LOCATION:EL PAVÓN TEATRO KAMIKAZE\, Madrid\, Madrid\, Madrid\, España
CATEGORIES:Idiota
ATTACH;FMTTYPE=image/jpeg:https://caterinaproducciones.com/wp-content/uploads/2017/06/idiota-1.jpg
END:VEVENT
BEGIN:VEVENT
DTSTART;VALUE=DATE:20161012
DTEND;VALUE=DATE:20161014
DTSTAMP:20260425T013036
CREATED:20221229T205256Z
LAST-MODIFIED:20221229T205256Z
UID:5653-1476234000-1476320399@caterinaproducciones.com
SUMMARY:Idiota
DESCRIPTION:
URL:https://caterinaproducciones.com/evento/idiota-2/2016-10-12/
LOCATION:EL PAVÓN TEATRO KAMIKAZE\, Madrid\, Madrid\, Madrid\, España
CATEGORIES:Idiota
ATTACH;FMTTYPE=image/jpeg:https://caterinaproducciones.com/wp-content/uploads/2017/06/idiota-1.jpg
END:VEVENT
BEGIN:VEVENT
DTSTART;VALUE=DATE:20161013
DTEND;VALUE=DATE:20161015
DTSTAMP:20260425T013036
CREATED:20221229T205256Z
LAST-MODIFIED:20221229T205256Z
UID:5654-1476320400-1476406799@caterinaproducciones.com
SUMMARY:Idiota
DESCRIPTION:
URL:https://caterinaproducciones.com/evento/idiota-2/2016-10-13/
LOCATION:EL PAVÓN TEATRO KAMIKAZE\, Madrid\, Madrid\, Madrid\, España
CATEGORIES:Idiota
ATTACH;FMTTYPE=image/jpeg:https://caterinaproducciones.com/wp-content/uploads/2017/06/idiota-1.jpg
END:VEVENT
BEGIN:VEVENT
DTSTART;VALUE=DATE:20161014
DTEND;VALUE=DATE:20161016
DTSTAMP:20260425T013036
CREATED:20221229T205256Z
LAST-MODIFIED:20221229T205256Z
UID:5655-1476406800-1476493199@caterinaproducciones.com
SUMMARY:Idiota
DESCRIPTION:
URL:https://caterinaproducciones.com/evento/idiota-2/2016-10-14/
LOCATION:EL PAVÓN TEATRO KAMIKAZE\, Madrid\, Madrid\, Madrid\, España
CATEGORIES:Idiota
ATTACH;FMTTYPE=image/jpeg:https://caterinaproducciones.com/wp-content/uploads/2017/06/idiota-1.jpg
END:VEVENT
BEGIN:VEVENT
DTSTART;VALUE=DATE:20161015
DTEND;VALUE=DATE:20161017
DTSTAMP:20260425T013036
CREATED:20221229T205256Z
LAST-MODIFIED:20221229T205256Z
UID:5656-1476493200-1476579599@caterinaproducciones.com
SUMMARY:Idiota
DESCRIPTION:
URL:https://caterinaproducciones.com/evento/idiota-2/2016-10-15/
LOCATION:EL PAVÓN TEATRO KAMIKAZE\, Madrid\, Madrid\, Madrid\, España
CATEGORIES:Idiota
ATTACH;FMTTYPE=image/jpeg:https://caterinaproducciones.com/wp-content/uploads/2017/06/idiota-1.jpg
END:VEVENT
BEGIN:VEVENT
DTSTART;VALUE=DATE:20161016
DTEND;VALUE=DATE:20161018
DTSTAMP:20260425T013036
CREATED:20221229T205256Z
LAST-MODIFIED:20221229T205256Z
UID:5657-1476579600-1476665999@caterinaproducciones.com
SUMMARY:Idiota
DESCRIPTION:
URL:https://caterinaproducciones.com/evento/idiota-2/2016-10-16/
LOCATION:EL PAVÓN TEATRO KAMIKAZE\, Madrid\, Madrid\, Madrid\, España
CATEGORIES:Idiota
ATTACH;FMTTYPE=image/jpeg:https://caterinaproducciones.com/wp-content/uploads/2017/06/idiota-1.jpg
END:VEVENT
BEGIN:VEVENT
DTSTART;VALUE=DATE:20161019
DTEND;VALUE=DATE:20161021
DTSTAMP:20260425T013036
CREATED:20221229T205256Z
LAST-MODIFIED:20221229T205256Z
UID:5658-1476838800-1476925199@caterinaproducciones.com
SUMMARY:Idiota
DESCRIPTION:
URL:https://caterinaproducciones.com/evento/idiota-2/2016-10-19/
LOCATION:EL PAVÓN TEATRO KAMIKAZE\, Madrid\, Madrid\, Madrid\, España
CATEGORIES:Idiota
ATTACH;FMTTYPE=image/jpeg:https://caterinaproducciones.com/wp-content/uploads/2017/06/idiota-1.jpg
END:VEVENT
BEGIN:VEVENT
DTSTART;VALUE=DATE:20161020
DTEND;VALUE=DATE:20161022
DTSTAMP:20260425T013036
CREATED:20221229T205256Z
LAST-MODIFIED:20221229T205256Z
UID:5659-1476925200-1477011599@caterinaproducciones.com
SUMMARY:Idiota
DESCRIPTION:
URL:https://caterinaproducciones.com/evento/idiota-2/2016-10-20/
LOCATION:EL PAVÓN TEATRO KAMIKAZE\, Madrid\, Madrid\, Madrid\, España
CATEGORIES:Idiota
ATTACH;FMTTYPE=image/jpeg:https://caterinaproducciones.com/wp-content/uploads/2017/06/idiota-1.jpg
END:VEVENT
BEGIN:VEVENT
DTSTART;VALUE=DATE:20161021
DTEND;VALUE=DATE:20161023
DTSTAMP:20260425T013036
CREATED:20221229T205256Z
LAST-MODIFIED:20221229T205256Z
UID:5660-1477011600-1477097999@caterinaproducciones.com
SUMMARY:Idiota
DESCRIPTION:
URL:https://caterinaproducciones.com/evento/idiota-2/2016-10-21/
LOCATION:EL PAVÓN TEATRO KAMIKAZE\, Madrid\, Madrid\, Madrid\, España
CATEGORIES:Idiota
ATTACH;FMTTYPE=image/jpeg:https://caterinaproducciones.com/wp-content/uploads/2017/06/idiota-1.jpg
END:VEVENT
BEGIN:VEVENT
DTSTART;VALUE=DATE:20161022
DTEND;VALUE=DATE:20161024
DTSTAMP:20260425T013036
CREATED:20221229T205256Z
LAST-MODIFIED:20221229T205256Z
UID:5661-1477098000-1477184399@caterinaproducciones.com
SUMMARY:Idiota
DESCRIPTION:
URL:https://caterinaproducciones.com/evento/idiota-2/2016-10-22/
LOCATION:EL PAVÓN TEATRO KAMIKAZE\, Madrid\, Madrid\, Madrid\, España
CATEGORIES:Idiota
ATTACH;FMTTYPE=image/jpeg:https://caterinaproducciones.com/wp-content/uploads/2017/06/idiota-1.jpg
END:VEVENT
BEGIN:VEVENT
DTSTART;VALUE=DATE:20161023
DTEND;VALUE=DATE:20161025
DTSTAMP:20260425T013036
CREATED:20221229T205256Z
LAST-MODIFIED:20221229T205256Z
UID:5662-1477184400-1477270799@caterinaproducciones.com
SUMMARY:Idiota
DESCRIPTION:
URL:https://caterinaproducciones.com/evento/idiota-2/2016-10-23/
LOCATION:EL PAVÓN TEATRO KAMIKAZE\, Madrid\, Madrid\, Madrid\, España
CATEGORIES:Idiota
ATTACH;FMTTYPE=image/jpeg:https://caterinaproducciones.com/wp-content/uploads/2017/06/idiota-1.jpg
END:VEVENT
BEGIN:VEVENT
DTSTART;VALUE=DATE:20161026
DTEND;VALUE=DATE:20161028
DTSTAMP:20260425T013036
CREATED:20221229T205256Z
LAST-MODIFIED:20221229T205256Z
UID:5663-1477443600-1477529999@caterinaproducciones.com
SUMMARY:Idiota
DESCRIPTION:
URL:https://caterinaproducciones.com/evento/idiota-2/2016-10-26/
LOCATION:EL PAVÓN TEATRO KAMIKAZE\, Madrid\, Madrid\, Madrid\, España
CATEGORIES:Idiota
ATTACH;FMTTYPE=image/jpeg:https://caterinaproducciones.com/wp-content/uploads/2017/06/idiota-1.jpg
END:VEVENT
BEGIN:VEVENT
DTSTART;VALUE=DATE:20161027
DTEND;VALUE=DATE:20161029
DTSTAMP:20260425T013036
CREATED:20221229T205256Z
LAST-MODIFIED:20221229T205256Z
UID:5664-1477530000-1477616399@caterinaproducciones.com
SUMMARY:Idiota
DESCRIPTION:
URL:https://caterinaproducciones.com/evento/idiota-2/2016-10-27/
LOCATION:EL PAVÓN TEATRO KAMIKAZE\, Madrid\, Madrid\, Madrid\, España
CATEGORIES:Idiota
ATTACH;FMTTYPE=image/jpeg:https://caterinaproducciones.com/wp-content/uploads/2017/06/idiota-1.jpg
END:VEVENT
BEGIN:VEVENT
DTSTART;VALUE=DATE:20161028
DTEND;VALUE=DATE:20161030
DTSTAMP:20260425T013036
CREATED:20221229T205256Z
LAST-MODIFIED:20221229T205256Z
UID:5665-1477616400-1477702799@caterinaproducciones.com
SUMMARY:Idiota
DESCRIPTION:
URL:https://caterinaproducciones.com/evento/idiota-2/2016-10-28/
LOCATION:EL PAVÓN TEATRO KAMIKAZE\, Madrid\, Madrid\, Madrid\, España
CATEGORIES:Idiota
ATTACH;FMTTYPE=image/jpeg:https://caterinaproducciones.com/wp-content/uploads/2017/06/idiota-1.jpg
END:VEVENT
BEGIN:VEVENT
DTSTART;VALUE=DATE:20161029
DTEND;VALUE=DATE:20161031
DTSTAMP:20260425T013036
CREATED:20221229T205256Z
LAST-MODIFIED:20221229T205256Z
UID:5666-1477702800-1477789199@caterinaproducciones.com
SUMMARY:Idiota
DESCRIPTION:
URL:https://caterinaproducciones.com/evento/idiota-2/2016-10-29/
LOCATION:EL PAVÓN TEATRO KAMIKAZE\, Madrid\, Madrid\, Madrid\, España
CATEGORIES:Idiota
ATTACH;FMTTYPE=image/jpeg:https://caterinaproducciones.com/wp-content/uploads/2017/06/idiota-1.jpg
END:VEVENT
BEGIN:VEVENT
DTSTART;VALUE=DATE:20161030
DTEND;VALUE=DATE:20161101
DTSTAMP:20260425T013036
CREATED:20221229T205256Z
LAST-MODIFIED:20221229T205256Z
UID:5667-1477789200-1477875599@caterinaproducciones.com
SUMMARY:Idiota
DESCRIPTION:
URL:https://caterinaproducciones.com/evento/idiota-2/2016-10-30/
LOCATION:EL PAVÓN TEATRO KAMIKAZE\, Madrid\, Madrid\, Madrid\, España
CATEGORIES:Idiota
ATTACH;FMTTYPE=image/jpeg:https://caterinaproducciones.com/wp-content/uploads/2017/06/idiota-1.jpg
END:VEVENT
BEGIN:VEVENT
DTSTART;VALUE=DATE:20161102
DTEND;VALUE=DATE:20161104
DTSTAMP:20260425T013036
CREATED:20221229T205256Z
LAST-MODIFIED:20221229T205256Z
UID:5668-1478048400-1478134799@caterinaproducciones.com
SUMMARY:Idiota
DESCRIPTION:
URL:https://caterinaproducciones.com/evento/idiota-2/2016-11-02/
LOCATION:EL PAVÓN TEATRO KAMIKAZE\, Madrid\, Madrid\, Madrid\, España
CATEGORIES:Idiota
ATTACH;FMTTYPE=image/jpeg:https://caterinaproducciones.com/wp-content/uploads/2017/06/idiota-1.jpg
END:VEVENT
BEGIN:VEVENT
DTSTART;VALUE=DATE:20161103
DTEND;VALUE=DATE:20161105
DTSTAMP:20260425T013036
CREATED:20221229T205256Z
LAST-MODIFIED:20221229T205256Z
UID:5669-1478134800-1478221199@caterinaproducciones.com
SUMMARY:Idiota
DESCRIPTION:
URL:https://caterinaproducciones.com/evento/idiota-2/2016-11-03/
LOCATION:EL PAVÓN TEATRO KAMIKAZE\, Madrid\, Madrid\, Madrid\, España
CATEGORIES:Idiota
ATTACH;FMTTYPE=image/jpeg:https://caterinaproducciones.com/wp-content/uploads/2017/06/idiota-1.jpg
END:VEVENT
BEGIN:VEVENT
DTSTART;VALUE=DATE:20161104
DTEND;VALUE=DATE:20161106
DTSTAMP:20260425T013036
CREATED:20221229T205256Z
LAST-MODIFIED:20221229T205256Z
UID:5670-1478221200-1478307599@caterinaproducciones.com
SUMMARY:Idiota
DESCRIPTION:
URL:https://caterinaproducciones.com/evento/idiota-2/2016-11-04/
LOCATION:EL PAVÓN TEATRO KAMIKAZE\, Madrid\, Madrid\, Madrid\, España
CATEGORIES:Idiota
ATTACH;FMTTYPE=image/jpeg:https://caterinaproducciones.com/wp-content/uploads/2017/06/idiota-1.jpg
END:VEVENT
BEGIN:VEVENT
DTSTART;VALUE=DATE:20161105
DTEND;VALUE=DATE:20161107
DTSTAMP:20260425T013036
CREATED:20221229T205256Z
LAST-MODIFIED:20221229T205256Z
UID:5671-1478307600-1478393999@caterinaproducciones.com
SUMMARY:Idiota
DESCRIPTION:
URL:https://caterinaproducciones.com/evento/idiota-2/2016-11-05/
LOCATION:EL PAVÓN TEATRO KAMIKAZE\, Madrid\, Madrid\, Madrid\, España
CATEGORIES:Idiota
ATTACH;FMTTYPE=image/jpeg:https://caterinaproducciones.com/wp-content/uploads/2017/06/idiota-1.jpg
END:VEVENT
BEGIN:VEVENT
DTSTART;VALUE=DATE:20161106
DTEND;VALUE=DATE:20161108
DTSTAMP:20260425T013036
CREATED:20221229T205256Z
LAST-MODIFIED:20221229T205256Z
UID:5672-1478394000-1478480399@caterinaproducciones.com
SUMMARY:Idiota
DESCRIPTION:
URL:https://caterinaproducciones.com/evento/idiota-2/2016-11-06/
LOCATION:EL PAVÓN TEATRO KAMIKAZE\, Madrid\, Madrid\, Madrid\, España
CATEGORIES:Idiota
ATTACH;FMTTYPE=image/jpeg:https://caterinaproducciones.com/wp-content/uploads/2017/06/idiota-1.jpg
END:VEVENT
BEGIN:VEVENT
DTSTART;VALUE=DATE:20161109
DTEND;VALUE=DATE:20161111
DTSTAMP:20260425T013036
CREATED:20221229T205256Z
LAST-MODIFIED:20221229T205256Z
UID:5673-1478653200-1478739599@caterinaproducciones.com
SUMMARY:Idiota
DESCRIPTION:
URL:https://caterinaproducciones.com/evento/idiota-2/2016-11-09/
LOCATION:EL PAVÓN TEATRO KAMIKAZE\, Madrid\, Madrid\, Madrid\, España
CATEGORIES:Idiota
ATTACH;FMTTYPE=image/jpeg:https://caterinaproducciones.com/wp-content/uploads/2017/06/idiota-1.jpg
END:VEVENT
BEGIN:VEVENT
DTSTART;VALUE=DATE:20161110
DTEND;VALUE=DATE:20161112
DTSTAMP:20260425T013036
CREATED:20221229T205256Z
LAST-MODIFIED:20221229T205256Z
UID:5674-1478739600-1478825999@caterinaproducciones.com
SUMMARY:Idiota
DESCRIPTION:
URL:https://caterinaproducciones.com/evento/idiota-2/2016-11-10/
LOCATION:EL PAVÓN TEATRO KAMIKAZE\, Madrid\, Madrid\, Madrid\, España
CATEGORIES:Idiota
ATTACH;FMTTYPE=image/jpeg:https://caterinaproducciones.com/wp-content/uploads/2017/06/idiota-1.jpg
END:VEVENT
END:VCALENDAR