BEGIN:VCALENDAR
VERSION:2.0
PRODID:-//CATERINA - ECPv5.16.4//NONSGML v1.0//EN
CALSCALE:GREGORIAN
METHOD:PUBLISH
X-ORIGINAL-URL:https://caterinaproducciones.com
X-WR-CALDESC:Eventos para CATERINA
REFRESH-INTERVAL;VALUE=DURATION:PT1H
X-Robots-Tag:noindex
X-PUBLISHED-TTL:PT1H
BEGIN:VTIMEZONE
TZID:Europe/Madrid
BEGIN:DAYLIGHT
TZOFFSETFROM:+0100
TZOFFSETTO:+0200
TZNAME:CEST
DTSTART:20170326T010000
END:DAYLIGHT
BEGIN:STANDARD
TZOFFSETFROM:+0200
TZOFFSETTO:+0100
TZNAME:CET
DTSTART:20171029T010000
END:STANDARD
END:VTIMEZONE
BEGIN:VEVENT
DTSTART;VALUE=DATE:20170628
DTEND;VALUE=DATE:20170630
DTSTAMP:20260425T163917
CREATED:20221229T184920Z
LAST-MODIFIED:20221229T184920Z
UID:5164-1498611600-1498697999@caterinaproducciones.com
SUMMARY:Barbados\, etcétera
DESCRIPTION:
URL:https://caterinaproducciones.com/evento/barbados-etcetera-2/2017-06-28/
LOCATION:EL PAVÓN TEATRO KAMIKAZE\, Madrid\, Madrid\, Madrid\, España
CATEGORIES:Barbados, etcétera
ATTACH;FMTTYPE=image/jpeg:https://caterinaproducciones.com/wp-content/uploads/2022/07/barbados-etcetera-1.jpg
END:VEVENT
BEGIN:VEVENT
DTSTART;VALUE=DATE:20170628
DTEND;VALUE=DATE:20170630
DTSTAMP:20260425T163917
CREATED:20221229T181717Z
LAST-MODIFIED:20221229T181717Z
UID:5036-1498611600-1498697999@caterinaproducciones.com
SUMMARY:Arte
DESCRIPTION:
URL:https://caterinaproducciones.com/evento/arte/2017-06-28/
LOCATION:EL PAVÓN TEATRO KAMIKAZE\, Madrid\, Madrid\, Madrid\, España
CATEGORIES:Arte
ATTACH;FMTTYPE=image/jpeg:https://caterinaproducciones.com/wp-content/uploads/2017/06/arte-1.jpg
END:VEVENT
BEGIN:VEVENT
DTSTART;VALUE=DATE:20170629
DTEND;VALUE=DATE:20170701
DTSTAMP:20260425T163917
CREATED:20221229T184920Z
LAST-MODIFIED:20221229T184920Z
UID:5165-1498698000-1498784399@caterinaproducciones.com
SUMMARY:Barbados\, etcétera
DESCRIPTION:
URL:https://caterinaproducciones.com/evento/barbados-etcetera-2/2017-06-29/
LOCATION:EL PAVÓN TEATRO KAMIKAZE\, Madrid\, Madrid\, Madrid\, España
CATEGORIES:Barbados, etcétera
ATTACH;FMTTYPE=image/jpeg:https://caterinaproducciones.com/wp-content/uploads/2022/07/barbados-etcetera-1.jpg
END:VEVENT
BEGIN:VEVENT
DTSTART;VALUE=DATE:20170629
DTEND;VALUE=DATE:20170701
DTSTAMP:20260425T163917
CREATED:20221229T181717Z
LAST-MODIFIED:20221229T181717Z
UID:5037-1498698000-1498784399@caterinaproducciones.com
SUMMARY:Arte
DESCRIPTION:
URL:https://caterinaproducciones.com/evento/arte/2017-06-29/
LOCATION:EL PAVÓN TEATRO KAMIKAZE\, Madrid\, Madrid\, Madrid\, España
CATEGORIES:Arte
ATTACH;FMTTYPE=image/jpeg:https://caterinaproducciones.com/wp-content/uploads/2017/06/arte-1.jpg
END:VEVENT
BEGIN:VEVENT
DTSTART;VALUE=DATE:20170630
DTEND;VALUE=DATE:20170702
DTSTAMP:20260425T163917
CREATED:20221229T181717Z
LAST-MODIFIED:20221229T181717Z
UID:5038-1498784400-1498870799@caterinaproducciones.com
SUMMARY:Arte
DESCRIPTION:
URL:https://caterinaproducciones.com/evento/arte/2017-06-30/
LOCATION:EL PAVÓN TEATRO KAMIKAZE\, Madrid\, Madrid\, Madrid\, España
CATEGORIES:Arte
ATTACH;FMTTYPE=image/jpeg:https://caterinaproducciones.com/wp-content/uploads/2017/06/arte-1.jpg
END:VEVENT
BEGIN:VEVENT
DTSTART;VALUE=DATE:20170701
DTEND;VALUE=DATE:20170703
DTSTAMP:20260425T163917
CREATED:20221229T181717Z
LAST-MODIFIED:20221229T181717Z
UID:5039-1498870800-1498957199@caterinaproducciones.com
SUMMARY:Arte
DESCRIPTION:
URL:https://caterinaproducciones.com/evento/arte/2017-07-01/
LOCATION:EL PAVÓN TEATRO KAMIKAZE\, Madrid\, Madrid\, Madrid\, España
CATEGORIES:Arte
ATTACH;FMTTYPE=image/jpeg:https://caterinaproducciones.com/wp-content/uploads/2017/06/arte-1.jpg
END:VEVENT
BEGIN:VEVENT
DTSTART;VALUE=DATE:20170702
DTEND;VALUE=DATE:20170704
DTSTAMP:20260425T163917
CREATED:20221229T181717Z
LAST-MODIFIED:20221229T181717Z
UID:5040-1498957200-1499043599@caterinaproducciones.com
SUMMARY:Arte
DESCRIPTION:
URL:https://caterinaproducciones.com/evento/arte/2017-07-02/
LOCATION:EL PAVÓN TEATRO KAMIKAZE\, Madrid\, Madrid\, Madrid\, España
CATEGORIES:Arte
ATTACH;FMTTYPE=image/jpeg:https://caterinaproducciones.com/wp-content/uploads/2017/06/arte-1.jpg
END:VEVENT
BEGIN:VEVENT
DTSTART;VALUE=DATE:20170705
DTEND;VALUE=DATE:20170707
DTSTAMP:20260425T163917
CREATED:20221229T181717Z
LAST-MODIFIED:20221229T181717Z
UID:5041-1499216400-1499302799@caterinaproducciones.com
SUMMARY:Arte
DESCRIPTION:
URL:https://caterinaproducciones.com/evento/arte/2017-07-05/
LOCATION:EL PAVÓN TEATRO KAMIKAZE\, Madrid\, Madrid\, Madrid\, España
CATEGORIES:Arte
ATTACH;FMTTYPE=image/jpeg:https://caterinaproducciones.com/wp-content/uploads/2017/06/arte-1.jpg
END:VEVENT
BEGIN:VEVENT
DTSTART;VALUE=DATE:20170706
DTEND;VALUE=DATE:20170708
DTSTAMP:20260425T163917
CREATED:20221229T181717Z
LAST-MODIFIED:20221229T181717Z
UID:5042-1499302800-1499389199@caterinaproducciones.com
SUMMARY:Arte
DESCRIPTION:
URL:https://caterinaproducciones.com/evento/arte/2017-07-06/
LOCATION:EL PAVÓN TEATRO KAMIKAZE\, Madrid\, Madrid\, Madrid\, España
CATEGORIES:Arte
ATTACH;FMTTYPE=image/jpeg:https://caterinaproducciones.com/wp-content/uploads/2017/06/arte-1.jpg
END:VEVENT
BEGIN:VEVENT
DTSTART;VALUE=DATE:20170707
DTEND;VALUE=DATE:20170709
DTSTAMP:20260425T163917
CREATED:20221229T181717Z
LAST-MODIFIED:20221229T181717Z
UID:5043-1499389200-1499475599@caterinaproducciones.com
SUMMARY:Arte
DESCRIPTION:
URL:https://caterinaproducciones.com/evento/arte/2017-07-07/
LOCATION:EL PAVÓN TEATRO KAMIKAZE\, Madrid\, Madrid\, Madrid\, España
CATEGORIES:Arte
ATTACH;FMTTYPE=image/jpeg:https://caterinaproducciones.com/wp-content/uploads/2017/06/arte-1.jpg
END:VEVENT
BEGIN:VEVENT
DTSTART;VALUE=DATE:20170708
DTEND;VALUE=DATE:20170710
DTSTAMP:20260425T163917
CREATED:20221229T181717Z
LAST-MODIFIED:20221229T181717Z
UID:5044-1499475600-1499561999@caterinaproducciones.com
SUMMARY:Arte
DESCRIPTION:
URL:https://caterinaproducciones.com/evento/arte/2017-07-08/
LOCATION:EL PAVÓN TEATRO KAMIKAZE\, Madrid\, Madrid\, Madrid\, España
CATEGORIES:Arte
ATTACH;FMTTYPE=image/jpeg:https://caterinaproducciones.com/wp-content/uploads/2017/06/arte-1.jpg
END:VEVENT
BEGIN:VEVENT
DTSTART;VALUE=DATE:20170709
DTEND;VALUE=DATE:20170711
DTSTAMP:20260425T163917
CREATED:20221229T181717Z
LAST-MODIFIED:20221229T181717Z
UID:5045-1499562000-1499648399@caterinaproducciones.com
SUMMARY:Arte
DESCRIPTION:
URL:https://caterinaproducciones.com/evento/arte/2017-07-09/
LOCATION:EL PAVÓN TEATRO KAMIKAZE\, Madrid\, Madrid\, Madrid\, España
CATEGORIES:Arte
ATTACH;FMTTYPE=image/jpeg:https://caterinaproducciones.com/wp-content/uploads/2017/06/arte-1.jpg
END:VEVENT
BEGIN:VEVENT
DTSTART;VALUE=DATE:20170712
DTEND;VALUE=DATE:20170714
DTSTAMP:20260425T163917
CREATED:20221229T181717Z
LAST-MODIFIED:20221229T181717Z
UID:5046-1499821200-1499907599@caterinaproducciones.com
SUMMARY:Arte
DESCRIPTION:
URL:https://caterinaproducciones.com/evento/arte/2017-07-12/
LOCATION:EL PAVÓN TEATRO KAMIKAZE\, Madrid\, Madrid\, Madrid\, España
CATEGORIES:Arte
ATTACH;FMTTYPE=image/jpeg:https://caterinaproducciones.com/wp-content/uploads/2017/06/arte-1.jpg
END:VEVENT
BEGIN:VEVENT
DTSTART;VALUE=DATE:20170713
DTEND;VALUE=DATE:20170715
DTSTAMP:20260425T163917
CREATED:20221229T181717Z
LAST-MODIFIED:20221229T181717Z
UID:5047-1499907600-1499993999@caterinaproducciones.com
SUMMARY:Arte
DESCRIPTION:
URL:https://caterinaproducciones.com/evento/arte/2017-07-13/
LOCATION:EL PAVÓN TEATRO KAMIKAZE\, Madrid\, Madrid\, Madrid\, España
CATEGORIES:Arte
ATTACH;FMTTYPE=image/jpeg:https://caterinaproducciones.com/wp-content/uploads/2017/06/arte-1.jpg
END:VEVENT
BEGIN:VEVENT
DTSTART;VALUE=DATE:20170714
DTEND;VALUE=DATE:20170716
DTSTAMP:20260425T163917
CREATED:20221229T181717Z
LAST-MODIFIED:20221229T181717Z
UID:5048-1499994000-1500080399@caterinaproducciones.com
SUMMARY:Arte
DESCRIPTION:
URL:https://caterinaproducciones.com/evento/arte/2017-07-14/
LOCATION:EL PAVÓN TEATRO KAMIKAZE\, Madrid\, Madrid\, Madrid\, España
CATEGORIES:Arte
ATTACH;FMTTYPE=image/jpeg:https://caterinaproducciones.com/wp-content/uploads/2017/06/arte-1.jpg
END:VEVENT
BEGIN:VEVENT
DTSTART;VALUE=DATE:20170715
DTEND;VALUE=DATE:20170717
DTSTAMP:20260425T163917
CREATED:20221229T181717Z
LAST-MODIFIED:20221229T181717Z
UID:5049-1500080400-1500166799@caterinaproducciones.com
SUMMARY:Arte
DESCRIPTION:
URL:https://caterinaproducciones.com/evento/arte/2017-07-15/
LOCATION:EL PAVÓN TEATRO KAMIKAZE\, Madrid\, Madrid\, Madrid\, España
CATEGORIES:Arte
ATTACH;FMTTYPE=image/jpeg:https://caterinaproducciones.com/wp-content/uploads/2017/06/arte-1.jpg
END:VEVENT
BEGIN:VEVENT
DTSTART;VALUE=DATE:20170716
DTEND;VALUE=DATE:20170718
DTSTAMP:20260425T163917
CREATED:20221229T181717Z
LAST-MODIFIED:20221229T181717Z
UID:5050-1500166800-1500253199@caterinaproducciones.com
SUMMARY:Arte
DESCRIPTION:
URL:https://caterinaproducciones.com/evento/arte/2017-07-16/
LOCATION:EL PAVÓN TEATRO KAMIKAZE\, Madrid\, Madrid\, Madrid\, España
CATEGORIES:Arte
ATTACH;FMTTYPE=image/jpeg:https://caterinaproducciones.com/wp-content/uploads/2017/06/arte-1.jpg
END:VEVENT
BEGIN:VEVENT
DTSTART;VALUE=DATE:20170719
DTEND;VALUE=DATE:20170721
DTSTAMP:20260425T163917
CREATED:20221229T181717Z
LAST-MODIFIED:20221229T181717Z
UID:5051-1500426000-1500512399@caterinaproducciones.com
SUMMARY:Arte
DESCRIPTION:
URL:https://caterinaproducciones.com/evento/arte/2017-07-19/
LOCATION:EL PAVÓN TEATRO KAMIKAZE\, Madrid\, Madrid\, Madrid\, España
CATEGORIES:Arte
ATTACH;FMTTYPE=image/jpeg:https://caterinaproducciones.com/wp-content/uploads/2017/06/arte-1.jpg
END:VEVENT
BEGIN:VEVENT
DTSTART;VALUE=DATE:20170720
DTEND;VALUE=DATE:20170722
DTSTAMP:20260425T163917
CREATED:20221229T181717Z
LAST-MODIFIED:20221229T181717Z
UID:5052-1500512400-1500598799@caterinaproducciones.com
SUMMARY:Arte
DESCRIPTION:
URL:https://caterinaproducciones.com/evento/arte/2017-07-20/
LOCATION:EL PAVÓN TEATRO KAMIKAZE\, Madrid\, Madrid\, Madrid\, España
CATEGORIES:Arte
ATTACH;FMTTYPE=image/jpeg:https://caterinaproducciones.com/wp-content/uploads/2017/06/arte-1.jpg
END:VEVENT
BEGIN:VEVENT
DTSTART;VALUE=DATE:20170721
DTEND;VALUE=DATE:20170723
DTSTAMP:20260425T163917
CREATED:20221229T181717Z
LAST-MODIFIED:20221229T181717Z
UID:5053-1500598800-1500685199@caterinaproducciones.com
SUMMARY:Arte
DESCRIPTION:
URL:https://caterinaproducciones.com/evento/arte/2017-07-21/
LOCATION:EL PAVÓN TEATRO KAMIKAZE\, Madrid\, Madrid\, Madrid\, España
CATEGORIES:Arte
ATTACH;FMTTYPE=image/jpeg:https://caterinaproducciones.com/wp-content/uploads/2017/06/arte-1.jpg
END:VEVENT
BEGIN:VEVENT
DTSTART;VALUE=DATE:20170722
DTEND;VALUE=DATE:20170724
DTSTAMP:20260425T163917
CREATED:20221229T181717Z
LAST-MODIFIED:20221229T181717Z
UID:5054-1500685200-1500771599@caterinaproducciones.com
SUMMARY:Arte
DESCRIPTION:
URL:https://caterinaproducciones.com/evento/arte/2017-07-22/
LOCATION:EL PAVÓN TEATRO KAMIKAZE\, Madrid\, Madrid\, Madrid\, España
CATEGORIES:Arte
ATTACH;FMTTYPE=image/jpeg:https://caterinaproducciones.com/wp-content/uploads/2017/06/arte-1.jpg
END:VEVENT
BEGIN:VEVENT
DTSTART;VALUE=DATE:20170723
DTEND;VALUE=DATE:20170725
DTSTAMP:20260425T163917
CREATED:20221229T181717Z
LAST-MODIFIED:20221229T181717Z
UID:5055-1500771600-1500857999@caterinaproducciones.com
SUMMARY:Arte
DESCRIPTION:
URL:https://caterinaproducciones.com/evento/arte/2017-07-23/
LOCATION:EL PAVÓN TEATRO KAMIKAZE\, Madrid\, Madrid\, Madrid\, España
CATEGORIES:Arte
ATTACH;FMTTYPE=image/jpeg:https://caterinaproducciones.com/wp-content/uploads/2017/06/arte-1.jpg
END:VEVENT
BEGIN:VEVENT
DTSTART;VALUE=DATE:20170726
DTEND;VALUE=DATE:20170728
DTSTAMP:20260425T163917
CREATED:20221229T181717Z
LAST-MODIFIED:20221229T181717Z
UID:5056-1501030800-1501117199@caterinaproducciones.com
SUMMARY:Arte
DESCRIPTION:
URL:https://caterinaproducciones.com/evento/arte/2017-07-26/
LOCATION:EL PAVÓN TEATRO KAMIKAZE\, Madrid\, Madrid\, Madrid\, España
CATEGORIES:Arte
ATTACH;FMTTYPE=image/jpeg:https://caterinaproducciones.com/wp-content/uploads/2017/06/arte-1.jpg
END:VEVENT
BEGIN:VEVENT
DTSTART;VALUE=DATE:20170727
DTEND;VALUE=DATE:20170729
DTSTAMP:20260425T163917
CREATED:20221229T181717Z
LAST-MODIFIED:20221229T181717Z
UID:5057-1501117200-1501203599@caterinaproducciones.com
SUMMARY:Arte
DESCRIPTION:
URL:https://caterinaproducciones.com/evento/arte/2017-07-27/
LOCATION:EL PAVÓN TEATRO KAMIKAZE\, Madrid\, Madrid\, Madrid\, España
CATEGORIES:Arte
ATTACH;FMTTYPE=image/jpeg:https://caterinaproducciones.com/wp-content/uploads/2017/06/arte-1.jpg
END:VEVENT
BEGIN:VEVENT
DTSTART;VALUE=DATE:20170728
DTEND;VALUE=DATE:20170730
DTSTAMP:20260425T163917
CREATED:20221229T181717Z
LAST-MODIFIED:20221229T181717Z
UID:5058-1501203600-1501289999@caterinaproducciones.com
SUMMARY:Arte
DESCRIPTION:
URL:https://caterinaproducciones.com/evento/arte/2017-07-28/
LOCATION:EL PAVÓN TEATRO KAMIKAZE\, Madrid\, Madrid\, Madrid\, España
CATEGORIES:Arte
ATTACH;FMTTYPE=image/jpeg:https://caterinaproducciones.com/wp-content/uploads/2017/06/arte-1.jpg
END:VEVENT
BEGIN:VEVENT
DTSTART;VALUE=DATE:20170729
DTEND;VALUE=DATE:20170731
DTSTAMP:20260425T163917
CREATED:20221229T181717Z
LAST-MODIFIED:20221229T181717Z
UID:5059-1501290000-1501376399@caterinaproducciones.com
SUMMARY:Arte
DESCRIPTION:
URL:https://caterinaproducciones.com/evento/arte/2017-07-29/
LOCATION:EL PAVÓN TEATRO KAMIKAZE\, Madrid\, Madrid\, Madrid\, España
CATEGORIES:Arte
ATTACH;FMTTYPE=image/jpeg:https://caterinaproducciones.com/wp-content/uploads/2017/06/arte-1.jpg
END:VEVENT
BEGIN:VEVENT
DTSTART;VALUE=DATE:20170730
DTEND;VALUE=DATE:20170801
DTSTAMP:20260425T163917
CREATED:20221229T181717Z
LAST-MODIFIED:20221229T181717Z
UID:5060-1501376400-1501462799@caterinaproducciones.com
SUMMARY:Arte
DESCRIPTION:
URL:https://caterinaproducciones.com/evento/arte/2017-07-30/
LOCATION:EL PAVÓN TEATRO KAMIKAZE\, Madrid\, Madrid\, Madrid\, España
CATEGORIES:Arte
ATTACH;FMTTYPE=image/jpeg:https://caterinaproducciones.com/wp-content/uploads/2017/06/arte-1.jpg
END:VEVENT
BEGIN:VEVENT
DTSTART;VALUE=DATE:20170912
DTEND;VALUE=DATE:20170914
DTSTAMP:20260425T163917
CREATED:20221229T201348Z
LAST-MODIFIED:20221229T201348Z
UID:5480-1505178000-1505264399@caterinaproducciones.com
SUMMARY:Ensayo
DESCRIPTION:
URL:https://caterinaproducciones.com/evento/ensayo/2017-09-12/
LOCATION:EL PAVÓN TEATRO KAMIKAZE\, Madrid\, Madrid\, Madrid\, España
CATEGORIES:Ensayo
ATTACH;FMTTYPE=image/jpeg:https://caterinaproducciones.com/wp-content/uploads/2017/06/ensayo-1.jpg
END:VEVENT
BEGIN:VEVENT
DTSTART;VALUE=DATE:20170913
DTEND;VALUE=DATE:20170915
DTSTAMP:20260425T163917
CREATED:20221229T201348Z
LAST-MODIFIED:20221229T201348Z
UID:5482-1505264400-1505350799@caterinaproducciones.com
SUMMARY:Ensayo
DESCRIPTION:
URL:https://caterinaproducciones.com/evento/ensayo/2017-09-13/
LOCATION:EL PAVÓN TEATRO KAMIKAZE\, Madrid\, Madrid\, Madrid\, España
CATEGORIES:Ensayo
ATTACH;FMTTYPE=image/jpeg:https://caterinaproducciones.com/wp-content/uploads/2017/06/ensayo-1.jpg
END:VEVENT
BEGIN:VEVENT
DTSTART;VALUE=DATE:20170914
DTEND;VALUE=DATE:20170916
DTSTAMP:20260425T163917
CREATED:20221229T201348Z
LAST-MODIFIED:20221229T201348Z
UID:5483-1505350800-1505437199@caterinaproducciones.com
SUMMARY:Ensayo
DESCRIPTION:
URL:https://caterinaproducciones.com/evento/ensayo/2017-09-14/
LOCATION:EL PAVÓN TEATRO KAMIKAZE\, Madrid\, Madrid\, Madrid\, España
CATEGORIES:Ensayo
ATTACH;FMTTYPE=image/jpeg:https://caterinaproducciones.com/wp-content/uploads/2017/06/ensayo-1.jpg
END:VEVENT
END:VCALENDAR