BEGIN:VCALENDAR
VERSION:2.0
PRODID:-//CATERINA - ECPv5.16.4//NONSGML v1.0//EN
CALSCALE:GREGORIAN
METHOD:PUBLISH
X-WR-CALNAME:CATERINA
X-ORIGINAL-URL:https://caterinaproducciones.com
X-WR-CALDESC:Eventos para CATERINA
REFRESH-INTERVAL;VALUE=DURATION:PT1H
X-Robots-Tag:noindex
X-PUBLISHED-TTL:PT1H
BEGIN:VTIMEZONE
TZID:Europe/Madrid
BEGIN:DAYLIGHT
TZOFFSETFROM:+0100
TZOFFSETTO:+0200
TZNAME:CEST
DTSTART:20220327T010000
END:DAYLIGHT
BEGIN:STANDARD
TZOFFSETFROM:+0200
TZOFFSETTO:+0100
TZNAME:CET
DTSTART:20221030T010000
END:STANDARD
END:VTIMEZONE
BEGIN:VEVENT
DTSTART;VALUE=DATE:20220717
DTEND;VALUE=DATE:20220719
DTSTAMP:20260425T182837
CREATED:20221229T184920Z
LAST-MODIFIED:20221229T190300Z
UID:5195-1658019600-1658105999@caterinaproducciones.com
SUMMARY:Barbados\, etcétera
DESCRIPTION:
URL:https://caterinaproducciones.com/evento/barbados-etcetera-10/2022-07-17/
LOCATION:FESTIVAL GREC\, Barcelona\, Barcelona\, Barcelona\, España
CATEGORIES:Barbados, etcétera
ATTACH;FMTTYPE=image/jpeg:https://caterinaproducciones.com/wp-content/uploads/2022/07/barbados-etcetera-1.jpg
END:VEVENT
BEGIN:VEVENT
DTSTART;VALUE=DATE:20220718
DTEND;VALUE=DATE:20220720
DTSTAMP:20260425T182837
CREATED:20221229T184920Z
LAST-MODIFIED:20221229T184920Z
UID:5198-1658106000-1658192399@caterinaproducciones.com
SUMMARY:Barbados\, etcétera
DESCRIPTION:
URL:https://caterinaproducciones.com/evento/barbados-etcetera-10/2022-07-18/
LOCATION:FESTIVAL GREC\, Barcelona\, Barcelona\, Barcelona\, España
CATEGORIES:Barbados, etcétera
ATTACH;FMTTYPE=image/jpeg:https://caterinaproducciones.com/wp-content/uploads/2022/07/barbados-etcetera-1.jpg
END:VEVENT
END:VCALENDAR