BEGIN:VCALENDAR
VERSION:2.0
PRODID:-//CATERINA - ECPv5.16.4//NONSGML v1.0//EN
CALSCALE:GREGORIAN
METHOD:PUBLISH
X-ORIGINAL-URL:https://caterinaproducciones.com
X-WR-CALDESC:Eventos para CATERINA
REFRESH-INTERVAL;VALUE=DURATION:PT1H
X-Robots-Tag:noindex
X-PUBLISHED-TTL:PT1H
BEGIN:VTIMEZONE
TZID:Europe/Madrid
BEGIN:DAYLIGHT
TZOFFSETFROM:+0100
TZOFFSETTO:+0200
TZNAME:CEST
DTSTART:20210328T010000
END:DAYLIGHT
BEGIN:STANDARD
TZOFFSETFROM:+0200
TZOFFSETTO:+0100
TZNAME:CET
DTSTART:20211031T010000
END:STANDARD
BEGIN:DAYLIGHT
TZOFFSETFROM:+0100
TZOFFSETTO:+0200
TZNAME:CEST
DTSTART:20220327T010000
END:DAYLIGHT
BEGIN:STANDARD
TZOFFSETFROM:+0200
TZOFFSETTO:+0100
TZNAME:CET
DTSTART:20221030T010000
END:STANDARD
BEGIN:DAYLIGHT
TZOFFSETFROM:+0100
TZOFFSETTO:+0200
TZNAME:CEST
DTSTART:20230326T010000
END:DAYLIGHT
BEGIN:STANDARD
TZOFFSETFROM:+0200
TZOFFSETTO:+0100
TZNAME:CET
DTSTART:20231029T010000
END:STANDARD
END:VTIMEZONE
BEGIN:VEVENT
DTSTART;VALUE=DATE:20210422
DTEND;VALUE=DATE:20210424
DTSTAMP:20260425T044341
CREATED:20221217T144147Z
LAST-MODIFIED:20221217T145822Z
UID:4911-1619053200-1619139599@caterinaproducciones.com
SUMMARY:Las canciones
DESCRIPTION:
URL:https://caterinaproducciones.com/evento/las-canciones-8/2021-04-22/
LOCATION:TEATRE LLIURE\, Barcelona\, Barcelona\, Barcelona\, España
CATEGORIES:Las canciones
ATTACH;FMTTYPE=image/jpeg:https://caterinaproducciones.com/wp-content/uploads/2017/06/las-canciones-1.jpg
END:VEVENT
BEGIN:VEVENT
DTSTART;VALUE=DATE:20210423
DTEND;VALUE=DATE:20210425
DTSTAMP:20260425T044341
CREATED:20221217T144147Z
LAST-MODIFIED:20221217T144147Z
UID:4942-1619139600-1619225999@caterinaproducciones.com
SUMMARY:Las canciones
DESCRIPTION:
URL:https://caterinaproducciones.com/evento/las-canciones-8/2021-04-23/
LOCATION:TEATRE LLIURE\, Barcelona\, Barcelona\, Barcelona\, España
CATEGORIES:Las canciones
ATTACH;FMTTYPE=image/jpeg:https://caterinaproducciones.com/wp-content/uploads/2017/06/las-canciones-1.jpg
END:VEVENT
BEGIN:VEVENT
DTSTART;VALUE=DATE:20210424
DTEND;VALUE=DATE:20210426
DTSTAMP:20260425T044341
CREATED:20221217T144147Z
LAST-MODIFIED:20221217T144147Z
UID:4943-1619226000-1619312399@caterinaproducciones.com
SUMMARY:Las canciones
DESCRIPTION:
URL:https://caterinaproducciones.com/evento/las-canciones-8/2021-04-24/
LOCATION:TEATRE LLIURE\, Barcelona\, Barcelona\, Barcelona\, España
CATEGORIES:Las canciones
ATTACH;FMTTYPE=image/jpeg:https://caterinaproducciones.com/wp-content/uploads/2017/06/las-canciones-1.jpg
END:VEVENT
BEGIN:VEVENT
DTSTART;VALUE=DATE:20210425
DTEND;VALUE=DATE:20210427
DTSTAMP:20260425T044341
CREATED:20221217T144147Z
LAST-MODIFIED:20221217T144147Z
UID:4944-1619312400-1619398799@caterinaproducciones.com
SUMMARY:Las canciones
DESCRIPTION:
URL:https://caterinaproducciones.com/evento/las-canciones-8/2021-04-25/
LOCATION:TEATRE LLIURE\, Barcelona\, Barcelona\, Barcelona\, España
CATEGORIES:Las canciones
ATTACH;FMTTYPE=image/jpeg:https://caterinaproducciones.com/wp-content/uploads/2017/06/las-canciones-1.jpg
END:VEVENT
BEGIN:VEVENT
DTSTART;VALUE=DATE:20221228
DTEND;VALUE=DATE:20221230
DTSTAMP:20260425T044341
CREATED:20221230T163933Z
LAST-MODIFIED:20221230T164152Z
UID:6270-1672189200-1672275599@caterinaproducciones.com
SUMMARY:La voluntad de creer
DESCRIPTION:
URL:https://caterinaproducciones.com/evento/la-voluntad-de-creer-3/2022-12-28/
LOCATION:TEATRE LLIURE\, Barcelona\, Barcelona\, Barcelona\, España
CATEGORIES:La voluntad de creer
ATTACH;FMTTYPE=image/jpeg:https://caterinaproducciones.com/wp-content/uploads/2017/06/la-voluntad-de-creer-1.jpg
END:VEVENT
BEGIN:VEVENT
DTSTART;VALUE=DATE:20221229
DTEND;VALUE=DATE:20221231
DTSTAMP:20260425T044341
CREATED:20221230T163933Z
LAST-MODIFIED:20221230T163933Z
UID:6272-1672275600-1672361999@caterinaproducciones.com
SUMMARY:La voluntad de creer
DESCRIPTION:
URL:https://caterinaproducciones.com/evento/la-voluntad-de-creer-3/2022-12-29/
LOCATION:TEATRE LLIURE\, Barcelona\, Barcelona\, Barcelona\, España
CATEGORIES:La voluntad de creer
ATTACH;FMTTYPE=image/jpeg:https://caterinaproducciones.com/wp-content/uploads/2017/06/la-voluntad-de-creer-1.jpg
END:VEVENT
BEGIN:VEVENT
DTSTART;VALUE=DATE:20221230
DTEND;VALUE=DATE:20230101
DTSTAMP:20260425T044341
CREATED:20221230T163933Z
LAST-MODIFIED:20221230T163933Z
UID:6273-1672362000-1672448399@caterinaproducciones.com
SUMMARY:La voluntad de creer
DESCRIPTION:
URL:https://caterinaproducciones.com/evento/la-voluntad-de-creer-3/2022-12-30/
LOCATION:TEATRE LLIURE\, Barcelona\, Barcelona\, Barcelona\, España
CATEGORIES:La voluntad de creer
ATTACH;FMTTYPE=image/jpeg:https://caterinaproducciones.com/wp-content/uploads/2017/06/la-voluntad-de-creer-1.jpg
END:VEVENT
BEGIN:VEVENT
DTSTART;VALUE=DATE:20230102
DTEND;VALUE=DATE:20230104
DTSTAMP:20260425T044341
CREATED:20221230T163933Z
LAST-MODIFIED:20221230T163933Z
UID:6274-1672621200-1672707599@caterinaproducciones.com
SUMMARY:La voluntad de creer
DESCRIPTION:
URL:https://caterinaproducciones.com/evento/la-voluntad-de-creer-3/2023-01-02/
LOCATION:TEATRE LLIURE\, Barcelona\, Barcelona\, Barcelona\, España
CATEGORIES:La voluntad de creer
ATTACH;FMTTYPE=image/jpeg:https://caterinaproducciones.com/wp-content/uploads/2017/06/la-voluntad-de-creer-1.jpg
END:VEVENT
BEGIN:VEVENT
DTSTART;VALUE=DATE:20230103
DTEND;VALUE=DATE:20230105
DTSTAMP:20260425T044341
CREATED:20221230T163933Z
LAST-MODIFIED:20221230T163933Z
UID:6275-1672707600-1672793999@caterinaproducciones.com
SUMMARY:La voluntad de creer
DESCRIPTION:
URL:https://caterinaproducciones.com/evento/la-voluntad-de-creer-3/2023-01-03/
LOCATION:TEATRE LLIURE\, Barcelona\, Barcelona\, Barcelona\, España
CATEGORIES:La voluntad de creer
ATTACH;FMTTYPE=image/jpeg:https://caterinaproducciones.com/wp-content/uploads/2017/06/la-voluntad-de-creer-1.jpg
END:VEVENT
BEGIN:VEVENT
DTSTART;VALUE=DATE:20230104
DTEND;VALUE=DATE:20230106
DTSTAMP:20260425T044341
CREATED:20221230T163933Z
LAST-MODIFIED:20221230T163933Z
UID:6276-1672794000-1672880399@caterinaproducciones.com
SUMMARY:La voluntad de creer
DESCRIPTION:
URL:https://caterinaproducciones.com/evento/la-voluntad-de-creer-3/2023-01-04/
LOCATION:TEATRE LLIURE\, Barcelona\, Barcelona\, Barcelona\, España
CATEGORIES:La voluntad de creer
ATTACH;FMTTYPE=image/jpeg:https://caterinaproducciones.com/wp-content/uploads/2017/06/la-voluntad-de-creer-1.jpg
END:VEVENT
BEGIN:VEVENT
DTSTART;VALUE=DATE:20230107
DTEND;VALUE=DATE:20230109
DTSTAMP:20260425T044341
CREATED:20221230T163933Z
LAST-MODIFIED:20221230T163933Z
UID:6277-1673053200-1673139599@caterinaproducciones.com
SUMMARY:La voluntad de creer
DESCRIPTION:
URL:https://caterinaproducciones.com/evento/la-voluntad-de-creer-3/2023-01-07/
LOCATION:TEATRE LLIURE\, Barcelona\, Barcelona\, Barcelona\, España
CATEGORIES:La voluntad de creer
ATTACH;FMTTYPE=image/jpeg:https://caterinaproducciones.com/wp-content/uploads/2017/06/la-voluntad-de-creer-1.jpg
END:VEVENT
BEGIN:VEVENT
DTSTART;VALUE=DATE:20230108
DTEND;VALUE=DATE:20230110
DTSTAMP:20260425T044341
CREATED:20221230T163933Z
LAST-MODIFIED:20221230T163933Z
UID:6278-1673139600-1673225999@caterinaproducciones.com
SUMMARY:La voluntad de creer
DESCRIPTION:
URL:https://caterinaproducciones.com/evento/la-voluntad-de-creer-3/2023-01-08/
LOCATION:TEATRE LLIURE\, Barcelona\, Barcelona\, Barcelona\, España
CATEGORIES:La voluntad de creer
ATTACH;FMTTYPE=image/jpeg:https://caterinaproducciones.com/wp-content/uploads/2017/06/la-voluntad-de-creer-1.jpg
END:VEVENT
BEGIN:VEVENT
DTSTART;VALUE=DATE:20230110
DTEND;VALUE=DATE:20230112
DTSTAMP:20260425T044341
CREATED:20221230T163933Z
LAST-MODIFIED:20221230T163933Z
UID:6279-1673312400-1673398799@caterinaproducciones.com
SUMMARY:La voluntad de creer
DESCRIPTION:
URL:https://caterinaproducciones.com/evento/la-voluntad-de-creer-3/2023-01-10/
LOCATION:TEATRE LLIURE\, Barcelona\, Barcelona\, Barcelona\, España
CATEGORIES:La voluntad de creer
ATTACH;FMTTYPE=image/jpeg:https://caterinaproducciones.com/wp-content/uploads/2017/06/la-voluntad-de-creer-1.jpg
END:VEVENT
BEGIN:VEVENT
DTSTART;VALUE=DATE:20230111
DTEND;VALUE=DATE:20230113
DTSTAMP:20260425T044341
CREATED:20221230T163933Z
LAST-MODIFIED:20221230T163933Z
UID:6280-1673398800-1673485199@caterinaproducciones.com
SUMMARY:La voluntad de creer
DESCRIPTION:
URL:https://caterinaproducciones.com/evento/la-voluntad-de-creer-3/2023-01-11/
LOCATION:TEATRE LLIURE\, Barcelona\, Barcelona\, Barcelona\, España
CATEGORIES:La voluntad de creer
ATTACH;FMTTYPE=image/jpeg:https://caterinaproducciones.com/wp-content/uploads/2017/06/la-voluntad-de-creer-1.jpg
END:VEVENT
BEGIN:VEVENT
DTSTART;VALUE=DATE:20230112
DTEND;VALUE=DATE:20230114
DTSTAMP:20260425T044341
CREATED:20221230T163933Z
LAST-MODIFIED:20221230T163933Z
UID:6281-1673485200-1673571599@caterinaproducciones.com
SUMMARY:La voluntad de creer
DESCRIPTION:
URL:https://caterinaproducciones.com/evento/la-voluntad-de-creer-3/2023-01-12/
LOCATION:TEATRE LLIURE\, Barcelona\, Barcelona\, Barcelona\, España
CATEGORIES:La voluntad de creer
ATTACH;FMTTYPE=image/jpeg:https://caterinaproducciones.com/wp-content/uploads/2017/06/la-voluntad-de-creer-1.jpg
END:VEVENT
BEGIN:VEVENT
DTSTART;VALUE=DATE:20230113
DTEND;VALUE=DATE:20230115
DTSTAMP:20260425T044341
CREATED:20221230T163933Z
LAST-MODIFIED:20221230T163933Z
UID:6282-1673571600-1673657999@caterinaproducciones.com
SUMMARY:La voluntad de creer
DESCRIPTION:
URL:https://caterinaproducciones.com/evento/la-voluntad-de-creer-3/2023-01-13/
LOCATION:TEATRE LLIURE\, Barcelona\, Barcelona\, Barcelona\, España
CATEGORIES:La voluntad de creer
ATTACH;FMTTYPE=image/jpeg:https://caterinaproducciones.com/wp-content/uploads/2017/06/la-voluntad-de-creer-1.jpg
END:VEVENT
BEGIN:VEVENT
DTSTART;VALUE=DATE:20230114
DTEND;VALUE=DATE:20230116
DTSTAMP:20260425T044341
CREATED:20221230T163933Z
LAST-MODIFIED:20221230T163933Z
UID:6283-1673658000-1673744399@caterinaproducciones.com
SUMMARY:La voluntad de creer
DESCRIPTION:
URL:https://caterinaproducciones.com/evento/la-voluntad-de-creer-3/2023-01-14/
LOCATION:TEATRE LLIURE\, Barcelona\, Barcelona\, Barcelona\, España
CATEGORIES:La voluntad de creer
ATTACH;FMTTYPE=image/jpeg:https://caterinaproducciones.com/wp-content/uploads/2017/06/la-voluntad-de-creer-1.jpg
END:VEVENT
BEGIN:VEVENT
DTSTART;VALUE=DATE:20230115
DTEND;VALUE=DATE:20230117
DTSTAMP:20260425T044341
CREATED:20221230T163933Z
LAST-MODIFIED:20221230T163933Z
UID:6284-1673744400-1673830799@caterinaproducciones.com
SUMMARY:La voluntad de creer
DESCRIPTION:
URL:https://caterinaproducciones.com/evento/la-voluntad-de-creer-3/2023-01-15/
LOCATION:TEATRE LLIURE\, Barcelona\, Barcelona\, Barcelona\, España
CATEGORIES:La voluntad de creer
ATTACH;FMTTYPE=image/jpeg:https://caterinaproducciones.com/wp-content/uploads/2017/06/la-voluntad-de-creer-1.jpg
END:VEVENT
END:VCALENDAR