BEGIN:VCALENDAR
VERSION:2.0
PRODID:-//CATERINA - ECPv5.16.4//NONSGML v1.0//EN
CALSCALE:GREGORIAN
METHOD:PUBLISH
X-ORIGINAL-URL:https://caterinaproducciones.com
X-WR-CALDESC:Eventos para CATERINA
REFRESH-INTERVAL;VALUE=DURATION:PT1H
X-Robots-Tag:noindex
X-PUBLISHED-TTL:PT1H
BEGIN:VTIMEZONE
TZID:Europe/Madrid
BEGIN:DAYLIGHT
TZOFFSETFROM:+0100
TZOFFSETTO:+0200
TZNAME:CEST
DTSTART:20170326T010000
END:DAYLIGHT
BEGIN:STANDARD
TZOFFSETFROM:+0200
TZOFFSETTO:+0100
TZNAME:CET
DTSTART:20171029T010000
END:STANDARD
BEGIN:DAYLIGHT
TZOFFSETFROM:+0100
TZOFFSETTO:+0200
TZNAME:CEST
DTSTART:20180325T010000
END:DAYLIGHT
BEGIN:STANDARD
TZOFFSETFROM:+0200
TZOFFSETTO:+0100
TZNAME:CET
DTSTART:20181028T010000
END:STANDARD
BEGIN:DAYLIGHT
TZOFFSETFROM:+0100
TZOFFSETTO:+0200
TZNAME:CEST
DTSTART:20190331T010000
END:DAYLIGHT
BEGIN:STANDARD
TZOFFSETFROM:+0200
TZOFFSETTO:+0100
TZNAME:CET
DTSTART:20191027T010000
END:STANDARD
BEGIN:DAYLIGHT
TZOFFSETFROM:+0100
TZOFFSETTO:+0200
TZNAME:CEST
DTSTART:20200329T010000
END:DAYLIGHT
BEGIN:STANDARD
TZOFFSETFROM:+0200
TZOFFSETTO:+0100
TZNAME:CET
DTSTART:20201025T010000
END:STANDARD
BEGIN:DAYLIGHT
TZOFFSETFROM:+0100
TZOFFSETTO:+0200
TZNAME:CEST
DTSTART:20210328T010000
END:DAYLIGHT
BEGIN:STANDARD
TZOFFSETFROM:+0200
TZOFFSETTO:+0100
TZNAME:CET
DTSTART:20211031T010000
END:STANDARD
BEGIN:DAYLIGHT
TZOFFSETFROM:+0100
TZOFFSETTO:+0200
TZNAME:CEST
DTSTART:20220327T010000
END:DAYLIGHT
BEGIN:STANDARD
TZOFFSETFROM:+0200
TZOFFSETTO:+0100
TZNAME:CET
DTSTART:20221030T010000
END:STANDARD
BEGIN:DAYLIGHT
TZOFFSETFROM:+0100
TZOFFSETTO:+0200
TZNAME:CEST
DTSTART:20230326T010000
END:DAYLIGHT
BEGIN:STANDARD
TZOFFSETFROM:+0200
TZOFFSETTO:+0100
TZNAME:CET
DTSTART:20231029T010000
END:STANDARD
END:VTIMEZONE
BEGIN:VEVENT
DTSTART;VALUE=DATE:20170120
DTEND;VALUE=DATE:20170122
DTSTAMP:20260425T132652
CREATED:20230103T143029Z
LAST-MODIFIED:20230103T172530Z
UID:7063-1484874000-1484960399@caterinaproducciones.com
SUMMARY:Yo\, Feuerbach
DESCRIPTION:
URL:https://caterinaproducciones.com/evento/yo-feuerbach-6/2017-01-20/
LOCATION:TEATRO ALHAMBRA\, Granada\, Granada\, Granada\, España
CATEGORIES:Yo, Feuerbach
ATTACH;FMTTYPE=image/jpeg:https://caterinaproducciones.com/wp-content/uploads/2017/06/feuerbach-1.jpg
END:VEVENT
BEGIN:VEVENT
DTSTART;VALUE=DATE:20170121
DTEND;VALUE=DATE:20170123
DTSTAMP:20260425T132652
CREATED:20230103T143029Z
LAST-MODIFIED:20230103T172530Z
UID:7075-1484960400-1485046799@caterinaproducciones.com
SUMMARY:Yo\, Feuerbach
DESCRIPTION:
URL:https://caterinaproducciones.com/evento/yo-feuerbach-6/2017-01-21/
LOCATION:TEATRO ALHAMBRA\, Granada\, Granada\, Granada\, España
CATEGORIES:Yo, Feuerbach
ATTACH;FMTTYPE=image/jpeg:https://caterinaproducciones.com/wp-content/uploads/2017/06/feuerbach-1.jpg
END:VEVENT
BEGIN:VEVENT
DTSTART;VALUE=DATE:20171014
DTEND;VALUE=DATE:20171016
DTSTAMP:20260425T132652
CREATED:20230103T105914Z
LAST-MODIFIED:20230103T110811Z
UID:6316-1507942800-1508029199@caterinaproducciones.com
SUMMARY:Leyendo Lorca
DESCRIPTION:
URL:https://caterinaproducciones.com/evento/leyendo-lorca-7/
LOCATION:TEATRO ALHAMBRA\, Granada\, Granada\, Granada\, España
CATEGORIES:Leyendo Lorca
ATTACH;FMTTYPE=image/jpeg:https://caterinaproducciones.com/wp-content/uploads/2017/06/leyendo-lorca-1.jpg
END:VEVENT
BEGIN:VEVENT
DTSTART;VALUE=DATE:20180426
DTEND;VALUE=DATE:20180428
DTSTAMP:20260425T132652
CREATED:20221229T212152Z
LAST-MODIFIED:20221229T213047Z
UID:5773-1524704400-1524790799@caterinaproducciones.com
SUMMARY:Iphigenia en Vallecas
DESCRIPTION:
URL:https://caterinaproducciones.com/evento/iphigenia-en-vallecas-10/2018-04-26/
LOCATION:TEATRO ALHAMBRA\, Granada\, Granada\, Granada\, España
CATEGORIES:Iphigenia en Vallecas
ATTACH;FMTTYPE=image/jpeg:https://caterinaproducciones.com/wp-content/uploads/2017/06/iphigenia-en-vallecas-1.jpg
END:VEVENT
BEGIN:VEVENT
DTSTART;VALUE=DATE:20180427
DTEND;VALUE=DATE:20180429
DTSTAMP:20260425T132652
CREATED:20221229T212152Z
LAST-MODIFIED:20221229T212152Z
UID:5797-1524790800-1524877199@caterinaproducciones.com
SUMMARY:Iphigenia en Vallecas
DESCRIPTION:
URL:https://caterinaproducciones.com/evento/iphigenia-en-vallecas-10/2018-04-27/
LOCATION:TEATRO ALHAMBRA\, Granada\, Granada\, Granada\, España
CATEGORIES:Iphigenia en Vallecas
ATTACH;FMTTYPE=image/jpeg:https://caterinaproducciones.com/wp-content/uploads/2017/06/iphigenia-en-vallecas-1.jpg
END:VEVENT
BEGIN:VEVENT
DTSTART;VALUE=DATE:20180428
DTEND;VALUE=DATE:20180430
DTSTAMP:20260425T132652
CREATED:20221229T212152Z
LAST-MODIFIED:20221229T212152Z
UID:5798-1524877200-1524963599@caterinaproducciones.com
SUMMARY:Iphigenia en Vallecas
DESCRIPTION:
URL:https://caterinaproducciones.com/evento/iphigenia-en-vallecas-10/2018-04-28/
LOCATION:TEATRO ALHAMBRA\, Granada\, Granada\, Granada\, España
CATEGORIES:Iphigenia en Vallecas
ATTACH;FMTTYPE=image/jpeg:https://caterinaproducciones.com/wp-content/uploads/2017/06/iphigenia-en-vallecas-1.jpg
END:VEVENT
BEGIN:VEVENT
DTSTART;VALUE=DATE:20190118
DTEND;VALUE=DATE:20190120
DTSTAMP:20260425T132652
CREATED:20221229T195728Z
LAST-MODIFIED:20221229T200452Z
UID:5407-1547773200-1547859599@caterinaproducciones.com
SUMMARY:El tratamiento
DESCRIPTION:
URL:https://caterinaproducciones.com/evento/el-tratamiento-8/2019-01-18/
LOCATION:TEATRO ALHAMBRA\, Granada\, Granada\, Granada\, España
CATEGORIES:El tratamiento
ATTACH;FMTTYPE=image/jpeg:https://caterinaproducciones.com/wp-content/uploads/2017/06/el-tratamiento-1.jpg
END:VEVENT
BEGIN:VEVENT
DTSTART;VALUE=DATE:20190119
DTEND;VALUE=DATE:20190121
DTSTAMP:20260425T132652
CREATED:20221229T195728Z
LAST-MODIFIED:20221229T195728Z
UID:5464-1547859600-1547945999@caterinaproducciones.com
SUMMARY:El tratamiento
DESCRIPTION:
URL:https://caterinaproducciones.com/evento/el-tratamiento-8/2019-01-19/
LOCATION:TEATRO ALHAMBRA\, Granada\, Granada\, Granada\, España
CATEGORIES:El tratamiento
ATTACH;FMTTYPE=image/jpeg:https://caterinaproducciones.com/wp-content/uploads/2017/06/el-tratamiento-1.jpg
END:VEVENT
BEGIN:VEVENT
DTSTART;VALUE=DATE:20190201
DTEND;VALUE=DATE:20190203
DTSTAMP:20260425T132652
CREATED:20221230T151054Z
LAST-MODIFIED:20221230T151810Z
UID:5978-1548982800-1549069199@caterinaproducciones.com
SUMMARY:Jauría
DESCRIPTION:
URL:https://caterinaproducciones.com/evento/jauria-3/2019-02-01/
LOCATION:TEATRO ALHAMBRA\, Granada\, Granada\, Granada\, España
CATEGORIES:Jauría
ATTACH;FMTTYPE=image/jpeg:https://caterinaproducciones.com/wp-content/uploads/2017/06/jauria-1.jpg
END:VEVENT
BEGIN:VEVENT
DTSTART;VALUE=DATE:20190202
DTEND;VALUE=DATE:20190204
DTSTAMP:20260425T132652
CREATED:20221230T151054Z
LAST-MODIFIED:20221230T151054Z
UID:5985-1549069200-1549155599@caterinaproducciones.com
SUMMARY:Jauría
DESCRIPTION:
URL:https://caterinaproducciones.com/evento/jauria-3/2019-02-02/
LOCATION:TEATRO ALHAMBRA\, Granada\, Granada\, Granada\, España
CATEGORIES:Jauría
ATTACH;FMTTYPE=image/jpeg:https://caterinaproducciones.com/wp-content/uploads/2017/06/jauria-1.jpg
END:VEVENT
BEGIN:VEVENT
DTSTART;VALUE=DATE:20190517
DTEND;VALUE=DATE:20190519
DTSTAMP:20260425T132652
CREATED:20221229T203442Z
LAST-MODIFIED:20221229T204113Z
UID:5600-1558054800-1558141199@caterinaproducciones.com
SUMMARY:Hermanas (Bárbara e Irene)
DESCRIPTION:
URL:https://caterinaproducciones.com/evento/hermanas-barbara-e-irene-11/2019-05-17/
LOCATION:TEATRO ALHAMBRA\, Granada\, Granada\, Granada\, España
CATEGORIES:Hermanas (Bárbara e Irene)
ATTACH;FMTTYPE=image/jpeg:https://caterinaproducciones.com/wp-content/uploads/2017/06/hermanas-1.jpg
END:VEVENT
BEGIN:VEVENT
DTSTART;VALUE=DATE:20190517
DTEND;VALUE=DATE:20190519
DTSTAMP:20260425T132652
CREATED:20221229T190755Z
LAST-MODIFIED:20221229T191743Z
UID:5230-1558054800-1558141199@caterinaproducciones.com
SUMMARY:Blackbird
DESCRIPTION:
URL:https://caterinaproducciones.com/evento/blackbird-8/2019-05-17/
LOCATION:TEATRO ALHAMBRA\, Granada\, Granada\, Granada\, España
CATEGORIES:Blackbird
ATTACH;FMTTYPE=image/jpeg:https://caterinaproducciones.com/wp-content/uploads/2017/06/blackbird-1.jpg
END:VEVENT
BEGIN:VEVENT
DTSTART;VALUE=DATE:20190518
DTEND;VALUE=DATE:20190520
DTSTAMP:20260425T132652
CREATED:20221229T203442Z
LAST-MODIFIED:20221229T203442Z
UID:5617-1558141200-1558227599@caterinaproducciones.com
SUMMARY:Hermanas (Bárbara e Irene)
DESCRIPTION:
URL:https://caterinaproducciones.com/evento/hermanas-barbara-e-irene-11/2019-05-18/
LOCATION:TEATRO ALHAMBRA\, Granada\, Granada\, Granada\, España
CATEGORIES:Hermanas (Bárbara e Irene)
ATTACH;FMTTYPE=image/jpeg:https://caterinaproducciones.com/wp-content/uploads/2017/06/hermanas-1.jpg
END:VEVENT
BEGIN:VEVENT
DTSTART;VALUE=DATE:20190518
DTEND;VALUE=DATE:20190520
DTSTAMP:20260425T132652
CREATED:20221229T190755Z
LAST-MODIFIED:20221229T190755Z
UID:5246-1558141200-1558227599@caterinaproducciones.com
SUMMARY:Blackbird
DESCRIPTION:
URL:https://caterinaproducciones.com/evento/blackbird-8/2019-05-18/
LOCATION:TEATRO ALHAMBRA\, Granada\, Granada\, Granada\, España
CATEGORIES:Blackbird
ATTACH;FMTTYPE=image/jpeg:https://caterinaproducciones.com/wp-content/uploads/2017/06/blackbird-1.jpg
END:VEVENT
BEGIN:VEVENT
DTSTART;VALUE=DATE:20201023
DTEND;VALUE=DATE:20201025
DTSTAMP:20260425T132652
CREATED:20230103T121344Z
LAST-MODIFIED:20230103T123135Z
UID:6544-1603414800-1603501199@caterinaproducciones.com
SUMMARY:Ricardo III
DESCRIPTION:
URL:https://caterinaproducciones.com/evento/ricardo-iii-10/2020-10-23/
LOCATION:TEATRO ALHAMBRA\, Granada\, Granada\, Granada\, España
CATEGORIES:Ricardo III
ATTACH;FMTTYPE=image/jpeg:https://caterinaproducciones.com/wp-content/uploads/2017/06/ricardo-3-1.jpg
END:VEVENT
BEGIN:VEVENT
DTSTART;VALUE=DATE:20201024
DTEND;VALUE=DATE:20201026
DTSTAMP:20260425T132652
CREATED:20230103T121344Z
LAST-MODIFIED:20230103T121344Z
UID:6560-1603501200-1603587599@caterinaproducciones.com
SUMMARY:Ricardo III
DESCRIPTION:
URL:https://caterinaproducciones.com/evento/ricardo-iii-10/2020-10-24/
LOCATION:TEATRO ALHAMBRA\, Granada\, Granada\, Granada\, España
CATEGORIES:Ricardo III
ATTACH;FMTTYPE=image/jpeg:https://caterinaproducciones.com/wp-content/uploads/2017/06/ricardo-3-1.jpg
END:VEVENT
BEGIN:VEVENT
DTSTART;VALUE=DATE:20210314
DTEND;VALUE=DATE:20210316
DTSTAMP:20260425T132652
CREATED:20221229T192925Z
LAST-MODIFIED:20221229T193912Z
UID:5285-1615683600-1615769999@caterinaproducciones.com
SUMMARY:Doña Rosita\, anotada
DESCRIPTION:
URL:https://caterinaproducciones.com/evento/dona-rosita-anotada-8/
LOCATION:TEATRO ALHAMBRA\, Granada\, Granada\, Granada\, España
CATEGORIES:Doña Rosita, anotada
ATTACH;FMTTYPE=image/jpeg:https://caterinaproducciones.com/wp-content/uploads/2017/06/dona-rosita-1.jpg
END:VEVENT
BEGIN:VEVENT
DTSTART;VALUE=DATE:20210507
DTEND;VALUE=DATE:20210509
DTSTAMP:20260425T132652
CREATED:20221217T144147Z
LAST-MODIFIED:20221217T144848Z
UID:4898-1620349200-1620435599@caterinaproducciones.com
SUMMARY:Las canciones
DESCRIPTION:
URL:https://caterinaproducciones.com/evento/las-canciones-7/2021-05-07/
LOCATION:TEATRO ALHAMBRA\, Granada\, Granada\, Granada\, España
CATEGORIES:Las canciones
ATTACH;FMTTYPE=image/jpeg:https://caterinaproducciones.com/wp-content/uploads/2017/06/las-canciones-1.jpg
END:VEVENT
BEGIN:VEVENT
DTSTART;VALUE=DATE:20210508
DTEND;VALUE=DATE:20210510
DTSTAMP:20260425T132652
CREATED:20221217T144147Z
LAST-MODIFIED:20221217T144147Z
UID:4909-1620435600-1620521999@caterinaproducciones.com
SUMMARY:Las canciones
DESCRIPTION:
URL:https://caterinaproducciones.com/evento/las-canciones-7/2021-05-08/
LOCATION:TEATRO ALHAMBRA\, Granada\, Granada\, Granada\, España
CATEGORIES:Las canciones
ATTACH;FMTTYPE=image/jpeg:https://caterinaproducciones.com/wp-content/uploads/2017/06/las-canciones-1.jpg
END:VEVENT
BEGIN:VEVENT
DTSTART;VALUE=DATE:20221021
DTEND;VALUE=DATE:20221023
DTSTAMP:20260425T132652
CREATED:20230103T112147Z
LAST-MODIFIED:20230103T112417Z
UID:6378-1666314000-1666400399@caterinaproducciones.com
SUMMARY:Los farsantes
DESCRIPTION:
URL:https://caterinaproducciones.com/evento/los-farsantes-3/2022-10-21/
LOCATION:TEATRO ALHAMBRA\, Granada\, Granada\, Granada\, España
CATEGORIES:Los farsantes
ATTACH;FMTTYPE=image/jpeg:https://caterinaproducciones.com/wp-content/uploads/2017/06/los-farsantes-1b.jpg
END:VEVENT
BEGIN:VEVENT
DTSTART;VALUE=DATE:20221022
DTEND;VALUE=DATE:20221024
DTSTAMP:20260425T132652
CREATED:20230103T112147Z
LAST-MODIFIED:20230103T112147Z
UID:6388-1666400400-1666486799@caterinaproducciones.com
SUMMARY:Los farsantes
DESCRIPTION:
URL:https://caterinaproducciones.com/evento/los-farsantes-3/2022-10-22/
LOCATION:TEATRO ALHAMBRA\, Granada\, Granada\, Granada\, España
CATEGORIES:Los farsantes
ATTACH;FMTTYPE=image/jpeg:https://caterinaproducciones.com/wp-content/uploads/2017/06/los-farsantes-1b.jpg
END:VEVENT
BEGIN:VEVENT
DTSTART;VALUE=DATE:20230324
DTEND;VALUE=DATE:20230326
DTSTAMP:20260425T132652
CREATED:20221229T195520Z
LAST-MODIFIED:20221229T195520Z
UID:5401-1679619600-1679705999@caterinaproducciones.com
SUMMARY:El mal de la montaña
DESCRIPTION:
URL:https://caterinaproducciones.com/evento/el-mal-de-la-montana-4/2023-03-24/
LOCATION:TEATRO ALHAMBRA\, Granada\, Granada\, Granada\, España
CATEGORIES:El mal de la montaña
ATTACH;FMTTYPE=image/jpeg:https://caterinaproducciones.com/wp-content/uploads/2017/06/el-mal-de-la-montana-1.jpg
END:VEVENT
BEGIN:VEVENT
DTSTART;VALUE=DATE:20230325
DTEND;VALUE=DATE:20230327
DTSTAMP:20260425T132652
CREATED:20221229T195520Z
LAST-MODIFIED:20221229T195520Z
UID:5403-1679706000-1679792399@caterinaproducciones.com
SUMMARY:El mal de la montaña
DESCRIPTION:
URL:https://caterinaproducciones.com/evento/el-mal-de-la-montana-4/2023-03-25/
LOCATION:TEATRO ALHAMBRA\, Granada\, Granada\, Granada\, España
CATEGORIES:El mal de la montaña
ATTACH;FMTTYPE=image/jpeg:https://caterinaproducciones.com/wp-content/uploads/2017/06/el-mal-de-la-montana-1.jpg
END:VEVENT
END:VCALENDAR