BEGIN:VCALENDAR
VERSION:2.0
PRODID:-//CATERINA - ECPv5.16.4//NONSGML v1.0//EN
CALSCALE:GREGORIAN
METHOD:PUBLISH
X-ORIGINAL-URL:https://caterinaproducciones.com
X-WR-CALDESC:Eventos para CATERINA
REFRESH-INTERVAL;VALUE=DURATION:PT1H
X-Robots-Tag:noindex
X-PUBLISHED-TTL:PT1H
BEGIN:VTIMEZONE
TZID:Europe/Madrid
BEGIN:DAYLIGHT
TZOFFSETFROM:+0100
TZOFFSETTO:+0200
TZNAME:CEST
DTSTART:20160327T010000
END:DAYLIGHT
BEGIN:STANDARD
TZOFFSETFROM:+0200
TZOFFSETTO:+0100
TZNAME:CET
DTSTART:20161030T010000
END:STANDARD
BEGIN:DAYLIGHT
TZOFFSETFROM:+0100
TZOFFSETTO:+0200
TZNAME:CEST
DTSTART:20170326T010000
END:DAYLIGHT
BEGIN:STANDARD
TZOFFSETFROM:+0200
TZOFFSETTO:+0100
TZNAME:CET
DTSTART:20171029T010000
END:STANDARD
BEGIN:DAYLIGHT
TZOFFSETFROM:+0100
TZOFFSETTO:+0200
TZNAME:CEST
DTSTART:20180325T010000
END:DAYLIGHT
BEGIN:STANDARD
TZOFFSETFROM:+0200
TZOFFSETTO:+0100
TZNAME:CET
DTSTART:20181028T010000
END:STANDARD
BEGIN:DAYLIGHT
TZOFFSETFROM:+0100
TZOFFSETTO:+0200
TZNAME:CEST
DTSTART:20190331T010000
END:DAYLIGHT
BEGIN:STANDARD
TZOFFSETFROM:+0200
TZOFFSETTO:+0100
TZNAME:CET
DTSTART:20191027T010000
END:STANDARD
BEGIN:DAYLIGHT
TZOFFSETFROM:+0100
TZOFFSETTO:+0200
TZNAME:CEST
DTSTART:20200329T010000
END:DAYLIGHT
BEGIN:STANDARD
TZOFFSETFROM:+0200
TZOFFSETTO:+0100
TZNAME:CET
DTSTART:20201025T010000
END:STANDARD
BEGIN:DAYLIGHT
TZOFFSETFROM:+0100
TZOFFSETTO:+0200
TZNAME:CEST
DTSTART:20210328T010000
END:DAYLIGHT
BEGIN:STANDARD
TZOFFSETFROM:+0200
TZOFFSETTO:+0100
TZNAME:CET
DTSTART:20211031T010000
END:STANDARD
BEGIN:DAYLIGHT
TZOFFSETFROM:+0100
TZOFFSETTO:+0200
TZNAME:CEST
DTSTART:20220327T010000
END:DAYLIGHT
BEGIN:STANDARD
TZOFFSETFROM:+0200
TZOFFSETTO:+0100
TZNAME:CET
DTSTART:20221030T010000
END:STANDARD
BEGIN:DAYLIGHT
TZOFFSETFROM:+0100
TZOFFSETTO:+0200
TZNAME:CEST
DTSTART:20230326T010000
END:DAYLIGHT
BEGIN:STANDARD
TZOFFSETFROM:+0200
TZOFFSETTO:+0100
TZNAME:CET
DTSTART:20231029T010000
END:STANDARD
END:VTIMEZONE
BEGIN:VEVENT
DTSTART;VALUE=DATE:20161031
DTEND;VALUE=DATE:20161102
DTSTAMP:20260425T061510
CREATED:20230103T143029Z
LAST-MODIFIED:20230103T143247Z
UID:7033-1477875600-1477961999@caterinaproducciones.com
SUMMARY:Yo\, Feuerbach
DESCRIPTION:
URL:https://caterinaproducciones.com/evento/yo-feuerbach/
LOCATION:TEATRO BRETÓN\, Logroño\, Logroño\, Logroño\, España
CATEGORIES:Yo, Feuerbach
ATTACH;FMTTYPE=image/jpeg:https://caterinaproducciones.com/wp-content/uploads/2017/06/feuerbach-1.jpg
END:VEVENT
BEGIN:VEVENT
DTSTART;VALUE=DATE:20170120
DTEND;VALUE=DATE:20170122
DTSTAMP:20260425T061510
CREATED:20221229T205857Z
LAST-MODIFIED:20221229T205857Z
UID:5718-1484874000-1484960399@caterinaproducciones.com
SUMMARY:Idiota
DESCRIPTION:
URL:https://caterinaproducciones.com/evento/idiota-4/
LOCATION:TEATRO BRETÓN\, Logroño\, Logroño\, Logroño\, España
CATEGORIES:Idiota
ATTACH;FMTTYPE=image/jpeg:https://caterinaproducciones.com/wp-content/uploads/2017/06/idiota-1.jpg
END:VEVENT
BEGIN:VEVENT
DTSTART;VALUE=DATE:20171027
DTEND;VALUE=DATE:20171029
DTSTAMP:20260425T061510
CREATED:20230103T131820Z
LAST-MODIFIED:20230103T132608Z
UID:6671-1509066000-1509152399@caterinaproducciones.com
SUMMARY:Todo el tiempo del mundo
DESCRIPTION:
URL:https://caterinaproducciones.com/evento/todo-el-tiempo-del-mundo-9/
LOCATION:TEATRO BRETÓN\, Logroño\, Logroño\, Logroño\, España
CATEGORIES:Todo el tiempo del mundo
ATTACH;FMTTYPE=image/jpeg:https://caterinaproducciones.com/wp-content/uploads/2017/06/todo-el-tiempo-del-mundo-1.jpg
END:VEVENT
BEGIN:VEVENT
DTSTART;VALUE=DATE:20171124
DTEND;VALUE=DATE:20171126
DTSTAMP:20260425T061510
CREATED:20230103T124800Z
LAST-MODIFIED:20230103T125123Z
UID:6587-1511485200-1511571599@caterinaproducciones.com
SUMMARY:Tebas Land
DESCRIPTION:
URL:https://caterinaproducciones.com/evento/tebas-land-3/
LOCATION:TEATRO BRETÓN\, Logroño\, Logroño\, Logroño\, España
CATEGORIES:Tebas Land
ATTACH;FMTTYPE=image/jpeg:https://caterinaproducciones.com/wp-content/uploads/2017/06/tebas-1.jpg
END:VEVENT
BEGIN:VEVENT
DTSTART;VALUE=DATE:20180113
DTEND;VALUE=DATE:20180115
DTSTAMP:20260425T061510
CREATED:20221229T182723Z
LAST-MODIFIED:20221229T182723Z
UID:5111-1515805200-1515891599@caterinaproducciones.com
SUMMARY:Arte
DESCRIPTION:
URL:https://caterinaproducciones.com/evento/arte-7/
LOCATION:TEATRO BRETÓN\, Logroño\, Logroño\, Logroño\, España
CATEGORIES:Arte
ATTACH;FMTTYPE=image/jpeg:https://caterinaproducciones.com/wp-content/uploads/2017/06/arte-1.jpg
END:VEVENT
BEGIN:VEVENT
DTSTART;VALUE=DATE:20180223
DTEND;VALUE=DATE:20180225
DTSTAMP:20260425T061510
CREATED:20221229T184920Z
LAST-MODIFIED:20221229T185739Z
UID:5182-1519347600-1519433999@caterinaproducciones.com
SUMMARY:Barbados\, etcétera
DESCRIPTION:
URL:https://caterinaproducciones.com/evento/barbados-etcetera-6/
LOCATION:TEATRO BRETÓN\, Logroño\, Logroño\, Logroño\, España
CATEGORIES:Barbados, etcétera
ATTACH;FMTTYPE=image/jpeg:https://caterinaproducciones.com/wp-content/uploads/2022/07/barbados-etcetera-1.jpg
END:VEVENT
BEGIN:VEVENT
DTSTART;VALUE=DATE:20180316
DTEND;VALUE=DATE:20180318
DTSTAMP:20260425T061510
CREATED:20221229T212152Z
LAST-MODIFIED:20221229T212620Z
UID:5777-1521162000-1521248399@caterinaproducciones.com
SUMMARY:Iphigenia en Vallecas
DESCRIPTION:
URL:https://caterinaproducciones.com/evento/iphigenia-en-vallecas-6/
LOCATION:TEATRO BRETÓN\, Logroño\, Logroño\, Logroño\, España
CATEGORIES:Iphigenia en Vallecas
ATTACH;FMTTYPE=image/jpeg:https://caterinaproducciones.com/wp-content/uploads/2017/06/iphigenia-en-vallecas-1.jpg
END:VEVENT
BEGIN:VEVENT
DTSTART;VALUE=DATE:20181014
DTEND;VALUE=DATE:20181016
DTSTAMP:20260425T061510
CREATED:20221229T212152Z
LAST-MODIFIED:20221229T213805Z
UID:5811-1539478800-1539565199@caterinaproducciones.com
SUMMARY:Iphigenia en Vallecas
DESCRIPTION:
URL:https://caterinaproducciones.com/evento/iphigenia-en-vallecas-14/
LOCATION:TEATRO BRETÓN\, Logroño\, Logroño\, Logroño\, España
CATEGORIES:Iphigenia en Vallecas
ATTACH;FMTTYPE=image/jpeg:https://caterinaproducciones.com/wp-content/uploads/2017/06/iphigenia-en-vallecas-1.jpg
END:VEVENT
BEGIN:VEVENT
DTSTART;VALUE=DATE:20181031
DTEND;VALUE=DATE:20181102
DTSTAMP:20260425T061510
CREATED:20221229T195728Z
LAST-MODIFIED:20221229T200227Z
UID:5409-1540947600-1541033999@caterinaproducciones.com
SUMMARY:El tratamiento
DESCRIPTION:
URL:https://caterinaproducciones.com/evento/el-tratamiento-6/
LOCATION:TEATRO BRETÓN\, Logroño\, Logroño\, Logroño\, España
CATEGORIES:El tratamiento
ATTACH;FMTTYPE=image/jpeg:https://caterinaproducciones.com/wp-content/uploads/2017/06/el-tratamiento-1.jpg
END:VEVENT
BEGIN:VEVENT
DTSTART;VALUE=DATE:20181124
DTEND;VALUE=DATE:20181126
DTSTAMP:20260425T061510
CREATED:20230103T134323Z
LAST-MODIFIED:20230103T134718Z
UID:6768-1543021200-1543107599@caterinaproducciones.com
SUMMARY:Un enemigo del pueblo (Ágora)
DESCRIPTION:
URL:https://caterinaproducciones.com/evento/un-enemigo-del-pueblo-agora-8/
LOCATION:TEATRO BRETÓN\, Logroño\, Logroño\, Logroño\, España
CATEGORIES:Un enemigo del pueblo (Ágora)
ATTACH;FMTTYPE=image/jpeg:https://caterinaproducciones.com/wp-content/uploads/2017/06/un-enemigo-1.jpg
END:VEVENT
BEGIN:VEVENT
DTSTART;VALUE=DATE:20190302
DTEND;VALUE=DATE:20190304
DTSTAMP:20260425T061510
CREATED:20221229T203442Z
LAST-MODIFIED:20221229T203713Z
UID:5605-1551488400-1551574799@caterinaproducciones.com
SUMMARY:Hermanas (Bárbara e Irene)
DESCRIPTION:
URL:https://caterinaproducciones.com/evento/hermanas-barbara-e-irene-6/
LOCATION:TEATRO BRETÓN\, Logroño\, Logroño\, Logroño\, España
CATEGORIES:Hermanas (Bárbara e Irene)
ATTACH;FMTTYPE=image/jpeg:https://caterinaproducciones.com/wp-content/uploads/2017/06/hermanas-1.jpg
END:VEVENT
BEGIN:VEVENT
DTSTART;VALUE=DATE:20191108
DTEND;VALUE=DATE:20191110
DTSTAMP:20260425T061510
CREATED:20221230T151054Z
LAST-MODIFIED:20221230T153127Z
UID:6051-1573174800-1573261199@caterinaproducciones.com
SUMMARY:Jauría
DESCRIPTION:
URL:https://caterinaproducciones.com/evento/jauria-18/
LOCATION:TEATRO BRETÓN\, Logroño\, Logroño\, Logroño\, España
CATEGORIES:Jauría
ATTACH;FMTTYPE=image/jpeg:https://caterinaproducciones.com/wp-content/uploads/2017/06/jauria-1.jpg
END:VEVENT
BEGIN:VEVENT
DTSTART;VALUE=DATE:20200208
DTEND;VALUE=DATE:20200210
DTSTAMP:20260425T061510
CREATED:20221229T192925Z
LAST-MODIFIED:20221229T193134Z
UID:5283-1581123600-1581209999@caterinaproducciones.com
SUMMARY:Doña Rosita\, anotada
DESCRIPTION:
URL:https://caterinaproducciones.com/evento/dona-rosita-anotada-3/
LOCATION:TEATRO BRETÓN\, Logroño\, Logroño\, Logroño\, España
CATEGORIES:Doña Rosita, anotada
ATTACH;FMTTYPE=image/jpeg:https://caterinaproducciones.com/wp-content/uploads/2017/06/dona-rosita-1.jpg
END:VEVENT
BEGIN:VEVENT
DTSTART;VALUE=DATE:20201009
DTEND;VALUE=DATE:20201011
DTSTAMP:20260425T061510
CREATED:20230103T121344Z
LAST-MODIFIED:20230103T123013Z
UID:6546-1602205200-1602291599@caterinaproducciones.com
SUMMARY:Ricardo III
DESCRIPTION:
URL:https://caterinaproducciones.com/evento/ricardo-iii-8/
LOCATION:TEATRO BRETÓN\, Logroño\, Logroño\, Logroño\, España
CATEGORIES:Ricardo III
ATTACH;FMTTYPE=image/jpeg:https://caterinaproducciones.com/wp-content/uploads/2017/06/ricardo-3-1.jpg
END:VEVENT
BEGIN:VEVENT
DTSTART;VALUE=DATE:20201107
DTEND;VALUE=DATE:20201109
DTSTAMP:20260425T061510
CREATED:20230103T142450Z
LAST-MODIFIED:20230103T142700Z
UID:6959-1604710800-1604797199@caterinaproducciones.com
SUMMARY:Traición
DESCRIPTION:
URL:https://caterinaproducciones.com/evento/traicion-4/
LOCATION:TEATRO BRETÓN\, Logroño\, Logroño\, Logroño\, España
CATEGORIES:Traición
ATTACH;FMTTYPE=image/jpeg:https://caterinaproducciones.com/wp-content/uploads/2017/06/traicion-1.jpg
END:VEVENT
BEGIN:VEVENT
DTSTART;VALUE=DATE:20201113
DTEND;VALUE=DATE:20201115
DTSTAMP:20260425T061510
CREATED:20221217T144147Z
LAST-MODIFIED:20221217T145943Z
UID:4950-1605229200-1605315599@caterinaproducciones.com
SUMMARY:Las canciones
DESCRIPTION:
URL:https://caterinaproducciones.com/evento/las-canciones-12/
LOCATION:TEATRO BRETÓN\, Logroño\, Logroño\, Logroño\, España
CATEGORIES:Las canciones
ATTACH;FMTTYPE=image/jpeg:https://caterinaproducciones.com/wp-content/uploads/2017/06/las-canciones-1.jpg
END:VEVENT
BEGIN:VEVENT
DTSTART;VALUE=DATE:20210227
DTEND;VALUE=DATE:20210301
DTSTAMP:20260425T061510
CREATED:20230103T114024Z
LAST-MODIFIED:20230103T114725Z
UID:6447-1614387600-1614473999@caterinaproducciones.com
SUMMARY:Matar cansa
DESCRIPTION:
URL:https://caterinaproducciones.com/evento/matar-cansa-3/
LOCATION:TEATRO BRETÓN\, Logroño\, Logroño\, Logroño\, España
CATEGORIES:Matar cansa
ATTACH;FMTTYPE=image/jpeg:https://caterinaproducciones.com/wp-content/uploads/2017/06/matar-cansa-1.jpg
END:VEVENT
BEGIN:VEVENT
DTSTART;VALUE=DATE:20210305
DTEND;VALUE=DATE:20210307
DTSTAMP:20260425T061510
CREATED:20221217T134926Z
LAST-MODIFIED:20221217T141232Z
UID:4810-1614906000-1614992399@caterinaproducciones.com
SUMMARY:Sueños y visiones de Rodrigo Rato
DESCRIPTION:
URL:https://caterinaproducciones.com/evento/suenos-y-visiones-de-rodrigo-rato-14/
LOCATION:TEATRO BRETÓN\, Logroño\, Logroño\, Logroño\, España
CATEGORIES:Sueños y visiones de Rodrigo Rato
ATTACH;FMTTYPE=image/jpeg:https://caterinaproducciones.com/wp-content/uploads/2017/06/suenos-visiones-rodrigo-rato-7.jpeg
END:VEVENT
BEGIN:VEVENT
DTSTART;VALUE=DATE:20221125
DTEND;VALUE=DATE:20221127
DTSTAMP:20260425T061510
CREATED:20221229T202232Z
LAST-MODIFIED:20221229T202517Z
UID:5551-1669338000-1669424399@caterinaproducciones.com
SUMMARY:Finlandia
DESCRIPTION:
URL:https://caterinaproducciones.com/evento/finlandia-4/
LOCATION:TEATRO BRETÓN\, Logroño\, Logroño\, Logroño\, España
CATEGORIES:Finlandia
ATTACH;FMTTYPE=image/jpeg:https://caterinaproducciones.com/wp-content/uploads/2017/06/finlandia-1.jpg
END:VEVENT
BEGIN:VEVENT
DTSTART;VALUE=DATE:20230112
DTEND;VALUE=DATE:20230114
DTSTAMP:20260425T061510
CREATED:20230103T112147Z
LAST-MODIFIED:20230103T113127Z
UID:6401-1673485200-1673571599@caterinaproducciones.com
SUMMARY:Los farsantes
DESCRIPTION:
URL:https://caterinaproducciones.com/evento/los-farsantes-15/2023-01-12/
LOCATION:TEATRO BRETÓN\, Logroño\, Logroño\, Logroño\, España
CATEGORIES:Los farsantes
ATTACH;FMTTYPE=image/jpeg:https://caterinaproducciones.com/wp-content/uploads/2017/06/los-farsantes-1b.jpg
END:VEVENT
BEGIN:VEVENT
DTSTART;VALUE=DATE:20230113
DTEND;VALUE=DATE:20230115
DTSTAMP:20260425T061510
CREATED:20230103T112147Z
LAST-MODIFIED:20230103T112147Z
UID:6414-1673571600-1673657999@caterinaproducciones.com
SUMMARY:Los farsantes
DESCRIPTION:
URL:https://caterinaproducciones.com/evento/los-farsantes-15/2023-01-13/
LOCATION:TEATRO BRETÓN\, Logroño\, Logroño\, Logroño\, España
CATEGORIES:Los farsantes
ATTACH;FMTTYPE=image/jpeg:https://caterinaproducciones.com/wp-content/uploads/2017/06/los-farsantes-1b.jpg
END:VEVENT
END:VCALENDAR