BEGIN:VCALENDAR
VERSION:2.0
PRODID:-//CATERINA - ECPv5.16.4//NONSGML v1.0//EN
CALSCALE:GREGORIAN
METHOD:PUBLISH
X-ORIGINAL-URL:https://caterinaproducciones.com
X-WR-CALDESC:Eventos para CATERINA
REFRESH-INTERVAL;VALUE=DURATION:PT1H
X-Robots-Tag:noindex
X-PUBLISHED-TTL:PT1H
BEGIN:VTIMEZONE
TZID:Europe/Madrid
BEGIN:DAYLIGHT
TZOFFSETFROM:+0100
TZOFFSETTO:+0200
TZNAME:CEST
DTSTART:20170326T010000
END:DAYLIGHT
BEGIN:STANDARD
TZOFFSETFROM:+0200
TZOFFSETTO:+0100
TZNAME:CET
DTSTART:20171029T010000
END:STANDARD
BEGIN:DAYLIGHT
TZOFFSETFROM:+0100
TZOFFSETTO:+0200
TZNAME:CEST
DTSTART:20180325T010000
END:DAYLIGHT
BEGIN:STANDARD
TZOFFSETFROM:+0200
TZOFFSETTO:+0100
TZNAME:CET
DTSTART:20181028T010000
END:STANDARD
BEGIN:DAYLIGHT
TZOFFSETFROM:+0100
TZOFFSETTO:+0200
TZNAME:CEST
DTSTART:20190331T010000
END:DAYLIGHT
BEGIN:STANDARD
TZOFFSETFROM:+0200
TZOFFSETTO:+0100
TZNAME:CET
DTSTART:20191027T010000
END:STANDARD
BEGIN:DAYLIGHT
TZOFFSETFROM:+0100
TZOFFSETTO:+0200
TZNAME:CEST
DTSTART:20200329T010000
END:DAYLIGHT
BEGIN:STANDARD
TZOFFSETFROM:+0200
TZOFFSETTO:+0100
TZNAME:CET
DTSTART:20201025T010000
END:STANDARD
BEGIN:DAYLIGHT
TZOFFSETFROM:+0100
TZOFFSETTO:+0200
TZNAME:CEST
DTSTART:20210328T010000
END:DAYLIGHT
BEGIN:STANDARD
TZOFFSETFROM:+0200
TZOFFSETTO:+0100
TZNAME:CET
DTSTART:20211031T010000
END:STANDARD
BEGIN:DAYLIGHT
TZOFFSETFROM:+0100
TZOFFSETTO:+0200
TZNAME:CEST
DTSTART:20220327T010000
END:DAYLIGHT
BEGIN:STANDARD
TZOFFSETFROM:+0200
TZOFFSETTO:+0100
TZNAME:CET
DTSTART:20221030T010000
END:STANDARD
END:VTIMEZONE
BEGIN:VEVENT
DTSTART;VALUE=DATE:20171006
DTEND;VALUE=DATE:20171008
DTSTAMP:20260425T043910
CREATED:20221229T182112Z
LAST-MODIFIED:20221229T182112Z
UID:5066-1507251600-1507337999@caterinaproducciones.com
SUMMARY:Arte
DESCRIPTION:
URL:https://caterinaproducciones.com/evento/arte-3/2017-10-06/
LOCATION:TEATRO CUYÁS\, Las Palmas\, Las Palmas de Gran Canaria\, Las Palmas\, España
CATEGORIES:Arte
ATTACH;FMTTYPE=image/jpeg:https://caterinaproducciones.com/wp-content/uploads/2017/06/arte-1.jpg
END:VEVENT
BEGIN:VEVENT
DTSTART;VALUE=DATE:20171007
DTEND;VALUE=DATE:20171009
DTSTAMP:20260425T043910
CREATED:20221229T182112Z
LAST-MODIFIED:20221229T182112Z
UID:5069-1507338000-1507424399@caterinaproducciones.com
SUMMARY:Arte
DESCRIPTION:
URL:https://caterinaproducciones.com/evento/arte-3/2017-10-07/
LOCATION:TEATRO CUYÁS\, Las Palmas\, Las Palmas de Gran Canaria\, Las Palmas\, España
CATEGORIES:Arte
ATTACH;FMTTYPE=image/jpeg:https://caterinaproducciones.com/wp-content/uploads/2017/06/arte-1.jpg
END:VEVENT
BEGIN:VEVENT
DTSTART;VALUE=DATE:20201127
DTEND;VALUE=DATE:20201129
DTSTAMP:20260425T043910
CREATED:20221230T151054Z
LAST-MODIFIED:20221230T155909Z
UID:6180-1606438800-1606525199@caterinaproducciones.com
SUMMARY:Jauría
DESCRIPTION:
URL:https://caterinaproducciones.com/evento/jauria-54/2020-11-27/
LOCATION:TEATRO CUYÁS\, Las Palmas\, Las Palmas de Gran Canaria\, Las Palmas\, España
CATEGORIES:Jauría
ATTACH;FMTTYPE=image/jpeg:https://caterinaproducciones.com/wp-content/uploads/2017/06/jauria-1.jpg
END:VEVENT
BEGIN:VEVENT
DTSTART;VALUE=DATE:20201128
DTEND;VALUE=DATE:20201130
DTSTAMP:20260425T043910
CREATED:20221230T151054Z
LAST-MODIFIED:20221230T151054Z
UID:6206-1606525200-1606611599@caterinaproducciones.com
SUMMARY:Jauría
DESCRIPTION:
URL:https://caterinaproducciones.com/evento/jauria-54/2020-11-28/
LOCATION:TEATRO CUYÁS\, Las Palmas\, Las Palmas de Gran Canaria\, Las Palmas\, España
CATEGORIES:Jauría
ATTACH;FMTTYPE=image/jpeg:https://caterinaproducciones.com/wp-content/uploads/2017/06/jauria-1.jpg
END:VEVENT
BEGIN:VEVENT
DTSTART;VALUE=DATE:20221216
DTEND;VALUE=DATE:20221218
DTSTAMP:20260425T043910
CREATED:20230103T112147Z
LAST-MODIFIED:20230103T113057Z
UID:6402-1671152400-1671238799@caterinaproducciones.com
SUMMARY:Los farsantes
DESCRIPTION:
URL:https://caterinaproducciones.com/evento/los-farsantes-14/2022-12-16/
LOCATION:TEATRO CUYÁS\, Las Palmas\, Las Palmas de Gran Canaria\, Las Palmas\, España
CATEGORIES:Los farsantes
ATTACH;FMTTYPE=image/jpeg:https://caterinaproducciones.com/wp-content/uploads/2017/06/los-farsantes-1b.jpg
END:VEVENT
BEGIN:VEVENT
DTSTART;VALUE=DATE:20221217
DTEND;VALUE=DATE:20221219
DTSTAMP:20260425T043910
CREATED:20230103T112147Z
LAST-MODIFIED:20230103T112147Z
UID:6412-1671238800-1671325199@caterinaproducciones.com
SUMMARY:Los farsantes
DESCRIPTION:
URL:https://caterinaproducciones.com/evento/los-farsantes-14/2022-12-17/
LOCATION:TEATRO CUYÁS\, Las Palmas\, Las Palmas de Gran Canaria\, Las Palmas\, España
CATEGORIES:Los farsantes
ATTACH;FMTTYPE=image/jpeg:https://caterinaproducciones.com/wp-content/uploads/2017/06/los-farsantes-1b.jpg
END:VEVENT
END:VCALENDAR