BEGIN:VCALENDAR
VERSION:2.0
PRODID:-//CATERINA - ECPv5.16.4//NONSGML v1.0//EN
CALSCALE:GREGORIAN
METHOD:PUBLISH
X-WR-CALNAME:CATERINA
X-ORIGINAL-URL:https://caterinaproducciones.com
X-WR-CALDESC:Eventos para CATERINA
REFRESH-INTERVAL;VALUE=DURATION:PT1H
X-Robots-Tag:noindex
X-PUBLISHED-TTL:PT1H
BEGIN:VTIMEZONE
TZID:Europe/Madrid
BEGIN:DAYLIGHT
TZOFFSETFROM:+0100
TZOFFSETTO:+0200
TZNAME:CEST
DTSTART:20180325T010000
END:DAYLIGHT
BEGIN:STANDARD
TZOFFSETFROM:+0200
TZOFFSETTO:+0100
TZNAME:CET
DTSTART:20181028T010000
END:STANDARD
BEGIN:DAYLIGHT
TZOFFSETFROM:+0100
TZOFFSETTO:+0200
TZNAME:CEST
DTSTART:20190331T010000
END:DAYLIGHT
BEGIN:STANDARD
TZOFFSETFROM:+0200
TZOFFSETTO:+0100
TZNAME:CET
DTSTART:20191027T010000
END:STANDARD
BEGIN:DAYLIGHT
TZOFFSETFROM:+0100
TZOFFSETTO:+0200
TZNAME:CEST
DTSTART:20200329T010000
END:DAYLIGHT
BEGIN:STANDARD
TZOFFSETFROM:+0200
TZOFFSETTO:+0100
TZNAME:CET
DTSTART:20201025T010000
END:STANDARD
END:VTIMEZONE
BEGIN:VEVENT
DTSTART;VALUE=DATE:20180407
DTEND;VALUE=DATE:20180409
DTSTAMP:20260425T181249
CREATED:20221229T183918Z
LAST-MODIFIED:20221229T183918Z
UID:5131-1523062800-1523149199@caterinaproducciones.com
SUMMARY:Arte
DESCRIPTION:
URL:https://caterinaproducciones.com/evento/arte-15/2018-04-07/
LOCATION:TEATRO SALÓN CERVANTES\, Alcalá de Henares\, Alcalá de Henares\, Madrid\, España
CATEGORIES:Arte
ATTACH;FMTTYPE=image/jpeg:https://caterinaproducciones.com/wp-content/uploads/2017/06/arte-1.jpg
END:VEVENT
BEGIN:VEVENT
DTSTART;VALUE=DATE:20180408
DTEND;VALUE=DATE:20180410
DTSTAMP:20260425T181249
CREATED:20221229T183918Z
LAST-MODIFIED:20221229T183918Z
UID:5134-1523149200-1523235599@caterinaproducciones.com
SUMMARY:Arte
DESCRIPTION:
URL:https://caterinaproducciones.com/evento/arte-15/2018-04-08/
LOCATION:TEATRO SALÓN CERVANTES\, Alcalá de Henares\, Alcalá de Henares\, Madrid\, España
CATEGORIES:Arte
ATTACH;FMTTYPE=image/jpeg:https://caterinaproducciones.com/wp-content/uploads/2017/06/arte-1.jpg
END:VEVENT
BEGIN:VEVENT
DTSTART;VALUE=DATE:20201003
DTEND;VALUE=DATE:20201005
DTSTAMP:20260425T181249
CREATED:20221230T151054Z
LAST-MODIFIED:20221230T155145Z
UID:6172-1601686800-1601773199@caterinaproducciones.com
SUMMARY:Jauría
DESCRIPTION:
URL:https://caterinaproducciones.com/evento/jauria-43/2020-10-03/
LOCATION:TEATRO SALÓN CERVANTES\, Alcalá de Henares\, Alcalá de Henares\, Madrid\, España
CATEGORIES:Jauría
ATTACH;FMTTYPE=image/jpeg:https://caterinaproducciones.com/wp-content/uploads/2017/06/jauria-1.jpg
END:VEVENT
BEGIN:VEVENT
DTSTART;VALUE=DATE:20201004
DTEND;VALUE=DATE:20201006
DTSTAMP:20260425T181249
CREATED:20221230T151054Z
LAST-MODIFIED:20221230T151054Z
UID:6189-1601773200-1601859599@caterinaproducciones.com
SUMMARY:Jauría
DESCRIPTION:
URL:https://caterinaproducciones.com/evento/jauria-43/2020-10-04/
LOCATION:TEATRO SALÓN CERVANTES\, Alcalá de Henares\, Alcalá de Henares\, Madrid\, España
CATEGORIES:Jauría
ATTACH;FMTTYPE=image/jpeg:https://caterinaproducciones.com/wp-content/uploads/2017/06/jauria-1.jpg
END:VEVENT
END:VCALENDAR