BEGIN:VCALENDAR
VERSION:2.0
PRODID:-//CATERINA - ECPv5.16.4//NONSGML v1.0//EN
CALSCALE:GREGORIAN
METHOD:PUBLISH
X-ORIGINAL-URL:https://caterinaproducciones.com
X-WR-CALDESC:Eventos para CATERINA
REFRESH-INTERVAL;VALUE=DURATION:PT1H
X-Robots-Tag:noindex
X-PUBLISHED-TTL:PT1H
BEGIN:VTIMEZONE
TZID:Europe/Madrid
BEGIN:DAYLIGHT
TZOFFSETFROM:+0100
TZOFFSETTO:+0200
TZNAME:CEST
DTSTART:20190331T010000
END:DAYLIGHT
BEGIN:STANDARD
TZOFFSETFROM:+0200
TZOFFSETTO:+0100
TZNAME:CET
DTSTART:20191027T010000
END:STANDARD
END:VTIMEZONE
BEGIN:VEVENT
DTSTART;VALUE=DATE:20190202
DTEND;VALUE=DATE:20190204
DTSTAMP:20260425T153429
CREATED:20230103T140406Z
LAST-MODIFIED:20230103T140406Z
UID:6838-1549069200-1549155599@caterinaproducciones.com
SUMMARY:La resistencia
DESCRIPTION:
URL:https://caterinaproducciones.com/evento/la-resistencia-2/2019-02-02/
LOCATION:TEATROS DEL CANAL\, Madrid\, Madrid\, Madrid\, España
CATEGORIES:La resistencia
ATTACH;FMTTYPE=image/jpeg:https://caterinaproducciones.com/wp-content/uploads/2017/06/la-resistencia-1.jpg
END:VEVENT
BEGIN:VEVENT
DTSTART;VALUE=DATE:20190203
DTEND;VALUE=DATE:20190205
DTSTAMP:20260425T153429
CREATED:20230103T140406Z
LAST-MODIFIED:20230103T140406Z
UID:6839-1549155600-1549241999@caterinaproducciones.com
SUMMARY:La resistencia
DESCRIPTION:
URL:https://caterinaproducciones.com/evento/la-resistencia-2/2019-02-03/
LOCATION:TEATROS DEL CANAL\, Madrid\, Madrid\, Madrid\, España
CATEGORIES:La resistencia
ATTACH;FMTTYPE=image/jpeg:https://caterinaproducciones.com/wp-content/uploads/2017/06/la-resistencia-1.jpg
END:VEVENT
BEGIN:VEVENT
DTSTART;VALUE=DATE:20190205
DTEND;VALUE=DATE:20190207
DTSTAMP:20260425T153429
CREATED:20230103T140406Z
LAST-MODIFIED:20230103T140406Z
UID:6840-1549328400-1549414799@caterinaproducciones.com
SUMMARY:La resistencia
DESCRIPTION:
URL:https://caterinaproducciones.com/evento/la-resistencia-2/2019-02-05/
LOCATION:TEATROS DEL CANAL\, Madrid\, Madrid\, Madrid\, España
CATEGORIES:La resistencia
ATTACH;FMTTYPE=image/jpeg:https://caterinaproducciones.com/wp-content/uploads/2017/06/la-resistencia-1.jpg
END:VEVENT
BEGIN:VEVENT
DTSTART;VALUE=DATE:20190206
DTEND;VALUE=DATE:20190208
DTSTAMP:20260425T153429
CREATED:20230103T140406Z
LAST-MODIFIED:20230103T140406Z
UID:6841-1549414800-1549501199@caterinaproducciones.com
SUMMARY:La resistencia
DESCRIPTION:
URL:https://caterinaproducciones.com/evento/la-resistencia-2/2019-02-06/
LOCATION:TEATROS DEL CANAL\, Madrid\, Madrid\, Madrid\, España
CATEGORIES:La resistencia
ATTACH;FMTTYPE=image/jpeg:https://caterinaproducciones.com/wp-content/uploads/2017/06/la-resistencia-1.jpg
END:VEVENT
BEGIN:VEVENT
DTSTART;VALUE=DATE:20190207
DTEND;VALUE=DATE:20190209
DTSTAMP:20260425T153429
CREATED:20230103T140406Z
LAST-MODIFIED:20230103T140406Z
UID:6842-1549501200-1549587599@caterinaproducciones.com
SUMMARY:La resistencia
DESCRIPTION:
URL:https://caterinaproducciones.com/evento/la-resistencia-2/2019-02-07/
LOCATION:TEATROS DEL CANAL\, Madrid\, Madrid\, Madrid\, España
CATEGORIES:La resistencia
ATTACH;FMTTYPE=image/jpeg:https://caterinaproducciones.com/wp-content/uploads/2017/06/la-resistencia-1.jpg
END:VEVENT
BEGIN:VEVENT
DTSTART;VALUE=DATE:20190208
DTEND;VALUE=DATE:20190210
DTSTAMP:20260425T153429
CREATED:20230103T140406Z
LAST-MODIFIED:20230103T140406Z
UID:6843-1549587600-1549673999@caterinaproducciones.com
SUMMARY:La resistencia
DESCRIPTION:
URL:https://caterinaproducciones.com/evento/la-resistencia-2/2019-02-08/
LOCATION:TEATROS DEL CANAL\, Madrid\, Madrid\, Madrid\, España
CATEGORIES:La resistencia
ATTACH;FMTTYPE=image/jpeg:https://caterinaproducciones.com/wp-content/uploads/2017/06/la-resistencia-1.jpg
END:VEVENT
BEGIN:VEVENT
DTSTART;VALUE=DATE:20190209
DTEND;VALUE=DATE:20190211
DTSTAMP:20260425T153429
CREATED:20230103T140406Z
LAST-MODIFIED:20230103T140406Z
UID:6844-1549674000-1549760399@caterinaproducciones.com
SUMMARY:La resistencia
DESCRIPTION:
URL:https://caterinaproducciones.com/evento/la-resistencia-2/2019-02-09/
LOCATION:TEATROS DEL CANAL\, Madrid\, Madrid\, Madrid\, España
CATEGORIES:La resistencia
ATTACH;FMTTYPE=image/jpeg:https://caterinaproducciones.com/wp-content/uploads/2017/06/la-resistencia-1.jpg
END:VEVENT
BEGIN:VEVENT
DTSTART;VALUE=DATE:20190210
DTEND;VALUE=DATE:20190212
DTSTAMP:20260425T153429
CREATED:20230103T140406Z
LAST-MODIFIED:20230103T140406Z
UID:6845-1549760400-1549846799@caterinaproducciones.com
SUMMARY:La resistencia
DESCRIPTION:
URL:https://caterinaproducciones.com/evento/la-resistencia-2/2019-02-10/
LOCATION:TEATROS DEL CANAL\, Madrid\, Madrid\, Madrid\, España
CATEGORIES:La resistencia
ATTACH;FMTTYPE=image/jpeg:https://caterinaproducciones.com/wp-content/uploads/2017/06/la-resistencia-1.jpg
END:VEVENT
BEGIN:VEVENT
DTSTART;VALUE=DATE:20190212
DTEND;VALUE=DATE:20190214
DTSTAMP:20260425T153429
CREATED:20230103T140406Z
LAST-MODIFIED:20230103T140406Z
UID:6846-1549933200-1550019599@caterinaproducciones.com
SUMMARY:La resistencia
DESCRIPTION:
URL:https://caterinaproducciones.com/evento/la-resistencia-2/2019-02-12/
LOCATION:TEATROS DEL CANAL\, Madrid\, Madrid\, Madrid\, España
CATEGORIES:La resistencia
ATTACH;FMTTYPE=image/jpeg:https://caterinaproducciones.com/wp-content/uploads/2017/06/la-resistencia-1.jpg
END:VEVENT
BEGIN:VEVENT
DTSTART;VALUE=DATE:20190213
DTEND;VALUE=DATE:20190215
DTSTAMP:20260425T153429
CREATED:20230103T140406Z
LAST-MODIFIED:20230103T140406Z
UID:6847-1550019600-1550105999@caterinaproducciones.com
SUMMARY:La resistencia
DESCRIPTION:
URL:https://caterinaproducciones.com/evento/la-resistencia-2/2019-02-13/
LOCATION:TEATROS DEL CANAL\, Madrid\, Madrid\, Madrid\, España
CATEGORIES:La resistencia
ATTACH;FMTTYPE=image/jpeg:https://caterinaproducciones.com/wp-content/uploads/2017/06/la-resistencia-1.jpg
END:VEVENT
BEGIN:VEVENT
DTSTART;VALUE=DATE:20190214
DTEND;VALUE=DATE:20190216
DTSTAMP:20260425T153429
CREATED:20230103T140406Z
LAST-MODIFIED:20230103T140406Z
UID:6848-1550106000-1550192399@caterinaproducciones.com
SUMMARY:La resistencia
DESCRIPTION:
URL:https://caterinaproducciones.com/evento/la-resistencia-2/2019-02-14/
LOCATION:TEATROS DEL CANAL\, Madrid\, Madrid\, Madrid\, España
CATEGORIES:La resistencia
ATTACH;FMTTYPE=image/jpeg:https://caterinaproducciones.com/wp-content/uploads/2017/06/la-resistencia-1.jpg
END:VEVENT
BEGIN:VEVENT
DTSTART;VALUE=DATE:20190215
DTEND;VALUE=DATE:20190217
DTSTAMP:20260425T153429
CREATED:20230103T140406Z
LAST-MODIFIED:20230103T140406Z
UID:6849-1550192400-1550278799@caterinaproducciones.com
SUMMARY:La resistencia
DESCRIPTION:
URL:https://caterinaproducciones.com/evento/la-resistencia-2/2019-02-15/
LOCATION:TEATROS DEL CANAL\, Madrid\, Madrid\, Madrid\, España
CATEGORIES:La resistencia
ATTACH;FMTTYPE=image/jpeg:https://caterinaproducciones.com/wp-content/uploads/2017/06/la-resistencia-1.jpg
END:VEVENT
BEGIN:VEVENT
DTSTART;VALUE=DATE:20190216
DTEND;VALUE=DATE:20190218
DTSTAMP:20260425T153429
CREATED:20230103T140406Z
LAST-MODIFIED:20230103T140406Z
UID:6850-1550278800-1550365199@caterinaproducciones.com
SUMMARY:La resistencia
DESCRIPTION:
URL:https://caterinaproducciones.com/evento/la-resistencia-2/2019-02-16/
LOCATION:TEATROS DEL CANAL\, Madrid\, Madrid\, Madrid\, España
CATEGORIES:La resistencia
ATTACH;FMTTYPE=image/jpeg:https://caterinaproducciones.com/wp-content/uploads/2017/06/la-resistencia-1.jpg
END:VEVENT
BEGIN:VEVENT
DTSTART;VALUE=DATE:20190217
DTEND;VALUE=DATE:20190219
DTSTAMP:20260425T153429
CREATED:20230103T140406Z
LAST-MODIFIED:20230103T140406Z
UID:6851-1550365200-1550451599@caterinaproducciones.com
SUMMARY:La resistencia
DESCRIPTION:
URL:https://caterinaproducciones.com/evento/la-resistencia-2/2019-02-17/
LOCATION:TEATROS DEL CANAL\, Madrid\, Madrid\, Madrid\, España
CATEGORIES:La resistencia
ATTACH;FMTTYPE=image/jpeg:https://caterinaproducciones.com/wp-content/uploads/2017/06/la-resistencia-1.jpg
END:VEVENT
BEGIN:VEVENT
DTSTART;VALUE=DATE:20190505
DTEND;VALUE=DATE:20190507
DTSTAMP:20260425T153429
CREATED:20230103T105914Z
LAST-MODIFIED:20230103T111144Z
UID:6312-1557018000-1557104399@caterinaproducciones.com
SUMMARY:Leyendo Lorca
DESCRIPTION:
URL:https://caterinaproducciones.com/evento/leyendo-lorca-11/
LOCATION:TEATROS DEL CANAL\, Madrid\, Madrid\, Madrid\, España
CATEGORIES:Leyendo Lorca
ATTACH;FMTTYPE=image/jpeg:https://caterinaproducciones.com/wp-content/uploads/2017/06/leyendo-lorca-1.jpg
END:VEVENT
BEGIN:VEVENT
DTSTART;VALUE=DATE:20191206
DTEND;VALUE=DATE:20191208
DTSTAMP:20260425T153429
CREATED:20221229T192925Z
LAST-MODIFIED:20221229T194710Z
UID:5278-1575594000-1575680399@caterinaproducciones.com
SUMMARY:Doña Rosita\, anotada
DESCRIPTION:
URL:https://caterinaproducciones.com/evento/dona-rosita-anotada/2019-12-06/
LOCATION:TEATROS DEL CANAL\, Madrid\, Madrid\, Madrid\, España
CATEGORIES:Doña Rosita, anotada
ATTACH;FMTTYPE=image/jpeg:https://caterinaproducciones.com/wp-content/uploads/2017/06/dona-rosita-1.jpg
END:VEVENT
BEGIN:VEVENT
DTSTART;VALUE=DATE:20191207
DTEND;VALUE=DATE:20191209
DTSTAMP:20260425T153429
CREATED:20221229T192925Z
LAST-MODIFIED:20221229T192925Z
UID:5330-1575680400-1575766799@caterinaproducciones.com
SUMMARY:Doña Rosita\, anotada
DESCRIPTION:
URL:https://caterinaproducciones.com/evento/dona-rosita-anotada/2019-12-07/
LOCATION:TEATROS DEL CANAL\, Madrid\, Madrid\, Madrid\, España
CATEGORIES:Doña Rosita, anotada
ATTACH;FMTTYPE=image/jpeg:https://caterinaproducciones.com/wp-content/uploads/2017/06/dona-rosita-1.jpg
END:VEVENT
BEGIN:VEVENT
DTSTART;VALUE=DATE:20191208
DTEND;VALUE=DATE:20191210
DTSTAMP:20260425T153429
CREATED:20221229T192925Z
LAST-MODIFIED:20221229T192925Z
UID:5331-1575766800-1575853199@caterinaproducciones.com
SUMMARY:Doña Rosita\, anotada
DESCRIPTION:
URL:https://caterinaproducciones.com/evento/dona-rosita-anotada/2019-12-08/
LOCATION:TEATROS DEL CANAL\, Madrid\, Madrid\, Madrid\, España
CATEGORIES:Doña Rosita, anotada
ATTACH;FMTTYPE=image/jpeg:https://caterinaproducciones.com/wp-content/uploads/2017/06/dona-rosita-1.jpg
END:VEVENT
BEGIN:VEVENT
DTSTART;VALUE=DATE:20191210
DTEND;VALUE=DATE:20191212
DTSTAMP:20260425T153429
CREATED:20221229T192925Z
LAST-MODIFIED:20221229T192925Z
UID:5332-1575939600-1576025999@caterinaproducciones.com
SUMMARY:Doña Rosita\, anotada
DESCRIPTION:
URL:https://caterinaproducciones.com/evento/dona-rosita-anotada/2019-12-10/
LOCATION:TEATROS DEL CANAL\, Madrid\, Madrid\, Madrid\, España
CATEGORIES:Doña Rosita, anotada
ATTACH;FMTTYPE=image/jpeg:https://caterinaproducciones.com/wp-content/uploads/2017/06/dona-rosita-1.jpg
END:VEVENT
BEGIN:VEVENT
DTSTART;VALUE=DATE:20191211
DTEND;VALUE=DATE:20191213
DTSTAMP:20260425T153429
CREATED:20221229T192925Z
LAST-MODIFIED:20221229T192925Z
UID:5333-1576026000-1576112399@caterinaproducciones.com
SUMMARY:Doña Rosita\, anotada
DESCRIPTION:
URL:https://caterinaproducciones.com/evento/dona-rosita-anotada/2019-12-11/
LOCATION:TEATROS DEL CANAL\, Madrid\, Madrid\, Madrid\, España
CATEGORIES:Doña Rosita, anotada
ATTACH;FMTTYPE=image/jpeg:https://caterinaproducciones.com/wp-content/uploads/2017/06/dona-rosita-1.jpg
END:VEVENT
BEGIN:VEVENT
DTSTART;VALUE=DATE:20191212
DTEND;VALUE=DATE:20191214
DTSTAMP:20260425T153429
CREATED:20221229T192925Z
LAST-MODIFIED:20221229T192925Z
UID:5334-1576112400-1576198799@caterinaproducciones.com
SUMMARY:Doña Rosita\, anotada
DESCRIPTION:
URL:https://caterinaproducciones.com/evento/dona-rosita-anotada/2019-12-12/
LOCATION:TEATROS DEL CANAL\, Madrid\, Madrid\, Madrid\, España
CATEGORIES:Doña Rosita, anotada
ATTACH;FMTTYPE=image/jpeg:https://caterinaproducciones.com/wp-content/uploads/2017/06/dona-rosita-1.jpg
END:VEVENT
BEGIN:VEVENT
DTSTART;VALUE=DATE:20191213
DTEND;VALUE=DATE:20191215
DTSTAMP:20260425T153429
CREATED:20221229T192925Z
LAST-MODIFIED:20221229T192925Z
UID:5335-1576198800-1576285199@caterinaproducciones.com
SUMMARY:Doña Rosita\, anotada
DESCRIPTION:
URL:https://caterinaproducciones.com/evento/dona-rosita-anotada/2019-12-13/
LOCATION:TEATROS DEL CANAL\, Madrid\, Madrid\, Madrid\, España
CATEGORIES:Doña Rosita, anotada
ATTACH;FMTTYPE=image/jpeg:https://caterinaproducciones.com/wp-content/uploads/2017/06/dona-rosita-1.jpg
END:VEVENT
BEGIN:VEVENT
DTSTART;VALUE=DATE:20191214
DTEND;VALUE=DATE:20191216
DTSTAMP:20260425T153429
CREATED:20221229T192925Z
LAST-MODIFIED:20221229T192925Z
UID:5336-1576285200-1576371599@caterinaproducciones.com
SUMMARY:Doña Rosita\, anotada
DESCRIPTION:
URL:https://caterinaproducciones.com/evento/dona-rosita-anotada/2019-12-14/
LOCATION:TEATROS DEL CANAL\, Madrid\, Madrid\, Madrid\, España
CATEGORIES:Doña Rosita, anotada
ATTACH;FMTTYPE=image/jpeg:https://caterinaproducciones.com/wp-content/uploads/2017/06/dona-rosita-1.jpg
END:VEVENT
BEGIN:VEVENT
DTSTART;VALUE=DATE:20191215
DTEND;VALUE=DATE:20191217
DTSTAMP:20260425T153429
CREATED:20221229T192925Z
LAST-MODIFIED:20221229T192925Z
UID:5337-1576371600-1576457999@caterinaproducciones.com
SUMMARY:Doña Rosita\, anotada
DESCRIPTION:
URL:https://caterinaproducciones.com/evento/dona-rosita-anotada/2019-12-15/
LOCATION:TEATROS DEL CANAL\, Madrid\, Madrid\, Madrid\, España
CATEGORIES:Doña Rosita, anotada
ATTACH;FMTTYPE=image/jpeg:https://caterinaproducciones.com/wp-content/uploads/2017/06/dona-rosita-1.jpg
END:VEVENT
BEGIN:VEVENT
DTSTART;VALUE=DATE:20191217
DTEND;VALUE=DATE:20191219
DTSTAMP:20260425T153429
CREATED:20221229T192925Z
LAST-MODIFIED:20221229T192925Z
UID:5338-1576544400-1576630799@caterinaproducciones.com
SUMMARY:Doña Rosita\, anotada
DESCRIPTION:
URL:https://caterinaproducciones.com/evento/dona-rosita-anotada/2019-12-17/
LOCATION:TEATROS DEL CANAL\, Madrid\, Madrid\, Madrid\, España
CATEGORIES:Doña Rosita, anotada
ATTACH;FMTTYPE=image/jpeg:https://caterinaproducciones.com/wp-content/uploads/2017/06/dona-rosita-1.jpg
END:VEVENT
BEGIN:VEVENT
DTSTART;VALUE=DATE:20191218
DTEND;VALUE=DATE:20191220
DTSTAMP:20260425T153429
CREATED:20221229T192925Z
LAST-MODIFIED:20221229T192925Z
UID:5339-1576630800-1576717199@caterinaproducciones.com
SUMMARY:Doña Rosita\, anotada
DESCRIPTION:
URL:https://caterinaproducciones.com/evento/dona-rosita-anotada/2019-12-18/
LOCATION:TEATROS DEL CANAL\, Madrid\, Madrid\, Madrid\, España
CATEGORIES:Doña Rosita, anotada
ATTACH;FMTTYPE=image/jpeg:https://caterinaproducciones.com/wp-content/uploads/2017/06/dona-rosita-1.jpg
END:VEVENT
BEGIN:VEVENT
DTSTART;VALUE=DATE:20191219
DTEND;VALUE=DATE:20191221
DTSTAMP:20260425T153429
CREATED:20221229T192925Z
LAST-MODIFIED:20221229T192925Z
UID:5340-1576717200-1576803599@caterinaproducciones.com
SUMMARY:Doña Rosita\, anotada
DESCRIPTION:
URL:https://caterinaproducciones.com/evento/dona-rosita-anotada/2019-12-19/
LOCATION:TEATROS DEL CANAL\, Madrid\, Madrid\, Madrid\, España
CATEGORIES:Doña Rosita, anotada
ATTACH;FMTTYPE=image/jpeg:https://caterinaproducciones.com/wp-content/uploads/2017/06/dona-rosita-1.jpg
END:VEVENT
BEGIN:VEVENT
DTSTART;VALUE=DATE:20191220
DTEND;VALUE=DATE:20191222
DTSTAMP:20260425T153429
CREATED:20221229T192925Z
LAST-MODIFIED:20221229T192925Z
UID:5341-1576803600-1576889999@caterinaproducciones.com
SUMMARY:Doña Rosita\, anotada
DESCRIPTION:
URL:https://caterinaproducciones.com/evento/dona-rosita-anotada/2019-12-20/
LOCATION:TEATROS DEL CANAL\, Madrid\, Madrid\, Madrid\, España
CATEGORIES:Doña Rosita, anotada
ATTACH;FMTTYPE=image/jpeg:https://caterinaproducciones.com/wp-content/uploads/2017/06/dona-rosita-1.jpg
END:VEVENT
BEGIN:VEVENT
DTSTART;VALUE=DATE:20191221
DTEND;VALUE=DATE:20191223
DTSTAMP:20260425T153429
CREATED:20221229T192925Z
LAST-MODIFIED:20221229T192925Z
UID:5342-1576890000-1576976399@caterinaproducciones.com
SUMMARY:Doña Rosita\, anotada
DESCRIPTION:
URL:https://caterinaproducciones.com/evento/dona-rosita-anotada/2019-12-21/
LOCATION:TEATROS DEL CANAL\, Madrid\, Madrid\, Madrid\, España
CATEGORIES:Doña Rosita, anotada
ATTACH;FMTTYPE=image/jpeg:https://caterinaproducciones.com/wp-content/uploads/2017/06/dona-rosita-1.jpg
END:VEVENT
BEGIN:VEVENT
DTSTART;VALUE=DATE:20191222
DTEND;VALUE=DATE:20191224
DTSTAMP:20260425T153429
CREATED:20221229T192925Z
LAST-MODIFIED:20221229T192925Z
UID:5343-1576976400-1577062799@caterinaproducciones.com
SUMMARY:Doña Rosita\, anotada
DESCRIPTION:
URL:https://caterinaproducciones.com/evento/dona-rosita-anotada/2019-12-22/
LOCATION:TEATROS DEL CANAL\, Madrid\, Madrid\, Madrid\, España
CATEGORIES:Doña Rosita, anotada
ATTACH;FMTTYPE=image/jpeg:https://caterinaproducciones.com/wp-content/uploads/2017/06/dona-rosita-1.jpg
END:VEVENT
END:VCALENDAR