BEGIN:VCALENDAR
VERSION:2.0
PRODID:-//CATERINA - ECPv5.16.4//NONSGML v1.0//EN
CALSCALE:GREGORIAN
METHOD:PUBLISH
X-ORIGINAL-URL:https://caterinaproducciones.com
X-WR-CALDESC:Eventos para CATERINA
REFRESH-INTERVAL;VALUE=DURATION:PT1H
X-Robots-Tag:noindex
X-PUBLISHED-TTL:PT1H
BEGIN:VTIMEZONE
TZID:Europe/Madrid
BEGIN:DAYLIGHT
TZOFFSETFROM:+0100
TZOFFSETTO:+0200
TZNAME:CEST
DTSTART:20190331T010000
END:DAYLIGHT
BEGIN:STANDARD
TZOFFSETFROM:+0200
TZOFFSETTO:+0100
TZNAME:CET
DTSTART:20191027T010000
END:STANDARD
BEGIN:DAYLIGHT
TZOFFSETFROM:+0100
TZOFFSETTO:+0200
TZNAME:CEST
DTSTART:20200329T010000
END:DAYLIGHT
BEGIN:STANDARD
TZOFFSETFROM:+0200
TZOFFSETTO:+0100
TZNAME:CET
DTSTART:20201025T010000
END:STANDARD
BEGIN:DAYLIGHT
TZOFFSETFROM:+0100
TZOFFSETTO:+0200
TZNAME:CEST
DTSTART:20210328T010000
END:DAYLIGHT
BEGIN:STANDARD
TZOFFSETFROM:+0200
TZOFFSETTO:+0100
TZNAME:CET
DTSTART:20211031T010000
END:STANDARD
BEGIN:DAYLIGHT
TZOFFSETFROM:+0100
TZOFFSETTO:+0200
TZNAME:CEST
DTSTART:20220327T010000
END:DAYLIGHT
BEGIN:STANDARD
TZOFFSETFROM:+0200
TZOFFSETTO:+0100
TZNAME:CET
DTSTART:20221030T010000
END:STANDARD
END:VTIMEZONE
BEGIN:VEVENT
DTSTART;VALUE=DATE:20191217
DTEND;VALUE=DATE:20191219
DTSTAMP:20260425T172514
CREATED:20221229T192925Z
LAST-MODIFIED:20221229T192925Z
UID:5338-1576544400-1576630799@caterinaproducciones.com
SUMMARY:Doña Rosita\, anotada
DESCRIPTION:
URL:https://caterinaproducciones.com/evento/dona-rosita-anotada/2019-12-17/
LOCATION:TEATROS DEL CANAL\, Madrid\, Madrid\, Madrid\, España
CATEGORIES:Doña Rosita, anotada
ATTACH;FMTTYPE=image/jpeg:https://caterinaproducciones.com/wp-content/uploads/2017/06/dona-rosita-1.jpg
END:VEVENT
BEGIN:VEVENT
DTSTART;VALUE=DATE:20191218
DTEND;VALUE=DATE:20191220
DTSTAMP:20260425T172514
CREATED:20221229T192925Z
LAST-MODIFIED:20221229T192925Z
UID:5339-1576630800-1576717199@caterinaproducciones.com
SUMMARY:Doña Rosita\, anotada
DESCRIPTION:
URL:https://caterinaproducciones.com/evento/dona-rosita-anotada/2019-12-18/
LOCATION:TEATROS DEL CANAL\, Madrid\, Madrid\, Madrid\, España
CATEGORIES:Doña Rosita, anotada
ATTACH;FMTTYPE=image/jpeg:https://caterinaproducciones.com/wp-content/uploads/2017/06/dona-rosita-1.jpg
END:VEVENT
BEGIN:VEVENT
DTSTART;VALUE=DATE:20191219
DTEND;VALUE=DATE:20191221
DTSTAMP:20260425T172514
CREATED:20221229T192925Z
LAST-MODIFIED:20221229T192925Z
UID:5340-1576717200-1576803599@caterinaproducciones.com
SUMMARY:Doña Rosita\, anotada
DESCRIPTION:
URL:https://caterinaproducciones.com/evento/dona-rosita-anotada/2019-12-19/
LOCATION:TEATROS DEL CANAL\, Madrid\, Madrid\, Madrid\, España
CATEGORIES:Doña Rosita, anotada
ATTACH;FMTTYPE=image/jpeg:https://caterinaproducciones.com/wp-content/uploads/2017/06/dona-rosita-1.jpg
END:VEVENT
BEGIN:VEVENT
DTSTART;VALUE=DATE:20191220
DTEND;VALUE=DATE:20191222
DTSTAMP:20260425T172514
CREATED:20221229T192925Z
LAST-MODIFIED:20221229T192925Z
UID:5341-1576803600-1576889999@caterinaproducciones.com
SUMMARY:Doña Rosita\, anotada
DESCRIPTION:
URL:https://caterinaproducciones.com/evento/dona-rosita-anotada/2019-12-20/
LOCATION:TEATROS DEL CANAL\, Madrid\, Madrid\, Madrid\, España
CATEGORIES:Doña Rosita, anotada
ATTACH;FMTTYPE=image/jpeg:https://caterinaproducciones.com/wp-content/uploads/2017/06/dona-rosita-1.jpg
END:VEVENT
BEGIN:VEVENT
DTSTART;VALUE=DATE:20191221
DTEND;VALUE=DATE:20191223
DTSTAMP:20260425T172514
CREATED:20221229T192925Z
LAST-MODIFIED:20221229T192925Z
UID:5342-1576890000-1576976399@caterinaproducciones.com
SUMMARY:Doña Rosita\, anotada
DESCRIPTION:
URL:https://caterinaproducciones.com/evento/dona-rosita-anotada/2019-12-21/
LOCATION:TEATROS DEL CANAL\, Madrid\, Madrid\, Madrid\, España
CATEGORIES:Doña Rosita, anotada
ATTACH;FMTTYPE=image/jpeg:https://caterinaproducciones.com/wp-content/uploads/2017/06/dona-rosita-1.jpg
END:VEVENT
BEGIN:VEVENT
DTSTART;VALUE=DATE:20191222
DTEND;VALUE=DATE:20191224
DTSTAMP:20260425T172514
CREATED:20221229T192925Z
LAST-MODIFIED:20221229T192925Z
UID:5343-1576976400-1577062799@caterinaproducciones.com
SUMMARY:Doña Rosita\, anotada
DESCRIPTION:
URL:https://caterinaproducciones.com/evento/dona-rosita-anotada/2019-12-22/
LOCATION:TEATROS DEL CANAL\, Madrid\, Madrid\, Madrid\, España
CATEGORIES:Doña Rosita, anotada
ATTACH;FMTTYPE=image/jpeg:https://caterinaproducciones.com/wp-content/uploads/2017/06/dona-rosita-1.jpg
END:VEVENT
BEGIN:VEVENT
DTSTART;VALUE=DATE:20191226
DTEND;VALUE=DATE:20191228
DTSTAMP:20260425T172514
CREATED:20221229T192925Z
LAST-MODIFIED:20221229T192925Z
UID:5344-1577322000-1577408399@caterinaproducciones.com
SUMMARY:Doña Rosita\, anotada
DESCRIPTION:
URL:https://caterinaproducciones.com/evento/dona-rosita-anotada/2019-12-26/
LOCATION:TEATROS DEL CANAL\, Madrid\, Madrid\, Madrid\, España
CATEGORIES:Doña Rosita, anotada
ATTACH;FMTTYPE=image/jpeg:https://caterinaproducciones.com/wp-content/uploads/2017/06/dona-rosita-1.jpg
END:VEVENT
BEGIN:VEVENT
DTSTART;VALUE=DATE:20191227
DTEND;VALUE=DATE:20191229
DTSTAMP:20260425T172514
CREATED:20221229T192925Z
LAST-MODIFIED:20221229T192925Z
UID:5345-1577408400-1577494799@caterinaproducciones.com
SUMMARY:Doña Rosita\, anotada
DESCRIPTION:
URL:https://caterinaproducciones.com/evento/dona-rosita-anotada/2019-12-27/
LOCATION:TEATROS DEL CANAL\, Madrid\, Madrid\, Madrid\, España
CATEGORIES:Doña Rosita, anotada
ATTACH;FMTTYPE=image/jpeg:https://caterinaproducciones.com/wp-content/uploads/2017/06/dona-rosita-1.jpg
END:VEVENT
BEGIN:VEVENT
DTSTART;VALUE=DATE:20191228
DTEND;VALUE=DATE:20191230
DTSTAMP:20260425T172514
CREATED:20221229T192925Z
LAST-MODIFIED:20221229T192925Z
UID:5346-1577494800-1577581199@caterinaproducciones.com
SUMMARY:Doña Rosita\, anotada
DESCRIPTION:
URL:https://caterinaproducciones.com/evento/dona-rosita-anotada/2019-12-28/
LOCATION:TEATROS DEL CANAL\, Madrid\, Madrid\, Madrid\, España
CATEGORIES:Doña Rosita, anotada
ATTACH;FMTTYPE=image/jpeg:https://caterinaproducciones.com/wp-content/uploads/2017/06/dona-rosita-1.jpg
END:VEVENT
BEGIN:VEVENT
DTSTART;VALUE=DATE:20191229
DTEND;VALUE=DATE:20191231
DTSTAMP:20260425T172514
CREATED:20221229T192925Z
LAST-MODIFIED:20221229T192925Z
UID:5347-1577581200-1577667599@caterinaproducciones.com
SUMMARY:Doña Rosita\, anotada
DESCRIPTION:
URL:https://caterinaproducciones.com/evento/dona-rosita-anotada/2019-12-29/
LOCATION:TEATROS DEL CANAL\, Madrid\, Madrid\, Madrid\, España
CATEGORIES:Doña Rosita, anotada
ATTACH;FMTTYPE=image/jpeg:https://caterinaproducciones.com/wp-content/uploads/2017/06/dona-rosita-1.jpg
END:VEVENT
BEGIN:VEVENT
DTSTART;VALUE=DATE:20201016
DTEND;VALUE=DATE:20201018
DTSTAMP:20260425T172514
CREATED:20230103T185231Z
LAST-MODIFIED:20230103T185231Z
UID:7262-1602810000-1602896399@caterinaproducciones.com
SUMMARY:Dos de Gala
DESCRIPTION:
URL:https://caterinaproducciones.com/evento/dos-de-gala-2/2020-10-16/
LOCATION:TEATROS DEL CANAL\, Madrid\, Madrid\, Madrid\, España
CATEGORIES:Dos de Gala
ATTACH;FMTTYPE=image/jpeg:https://caterinaproducciones.com/wp-content/uploads/2017/06/dos-de-gala-1.jpg
END:VEVENT
BEGIN:VEVENT
DTSTART;VALUE=DATE:20201017
DTEND;VALUE=DATE:20201019
DTSTAMP:20260425T172514
CREATED:20230103T185231Z
LAST-MODIFIED:20230103T185231Z
UID:7264-1602896400-1602982799@caterinaproducciones.com
SUMMARY:Dos de Gala
DESCRIPTION:
URL:https://caterinaproducciones.com/evento/dos-de-gala-2/2020-10-17/
LOCATION:TEATROS DEL CANAL\, Madrid\, Madrid\, Madrid\, España
CATEGORIES:Dos de Gala
ATTACH;FMTTYPE=image/jpeg:https://caterinaproducciones.com/wp-content/uploads/2017/06/dos-de-gala-1.jpg
END:VEVENT
BEGIN:VEVENT
DTSTART;VALUE=DATE:20211126
DTEND;VALUE=DATE:20211128
DTSTAMP:20260425T172514
CREATED:20221229T192447Z
LAST-MODIFIED:20221229T192447Z
UID:5267-1637888400-1637974799@caterinaproducciones.com
SUMMARY:Cuerpo de baile
DESCRIPTION:
URL:https://caterinaproducciones.com/evento/cuerpo-de-baile/2021-11-26/
LOCATION:TEATROS DEL CANAL\, Madrid\, Madrid\, Madrid\, España
CATEGORIES:Cuerpo de baile
ATTACH;FMTTYPE=image/jpeg:https://caterinaproducciones.com/wp-content/uploads/2017/06/cuerpo-de-baile-1.jpg
END:VEVENT
BEGIN:VEVENT
DTSTART;VALUE=DATE:20211127
DTEND;VALUE=DATE:20211129
DTSTAMP:20260425T172514
CREATED:20221229T192447Z
LAST-MODIFIED:20221229T192447Z
UID:5270-1637974800-1638061199@caterinaproducciones.com
SUMMARY:Cuerpo de baile
DESCRIPTION:
URL:https://caterinaproducciones.com/evento/cuerpo-de-baile/2021-11-27/
LOCATION:TEATROS DEL CANAL\, Madrid\, Madrid\, Madrid\, España
CATEGORIES:Cuerpo de baile
ATTACH;FMTTYPE=image/jpeg:https://caterinaproducciones.com/wp-content/uploads/2017/06/cuerpo-de-baile-1.jpg
END:VEVENT
BEGIN:VEVENT
DTSTART;VALUE=DATE:20211128
DTEND;VALUE=DATE:20211130
DTSTAMP:20260425T172514
CREATED:20221229T192447Z
LAST-MODIFIED:20221229T192447Z
UID:5271-1638061200-1638147599@caterinaproducciones.com
SUMMARY:Cuerpo de baile
DESCRIPTION:
URL:https://caterinaproducciones.com/evento/cuerpo-de-baile/2021-11-28/
LOCATION:TEATROS DEL CANAL\, Madrid\, Madrid\, Madrid\, España
CATEGORIES:Cuerpo de baile
ATTACH;FMTTYPE=image/jpeg:https://caterinaproducciones.com/wp-content/uploads/2017/06/cuerpo-de-baile-1.jpg
END:VEVENT
BEGIN:VEVENT
DTSTART;VALUE=DATE:20220421
DTEND;VALUE=DATE:20220423
DTSTAMP:20260425T172514
CREATED:20230103T185615Z
LAST-MODIFIED:20230103T185615Z
UID:7265-1650502800-1650589199@caterinaproducciones.com
SUMMARY:Precipitados
DESCRIPTION:
URL:https://caterinaproducciones.com/evento/precipitados/2022-04-21/
LOCATION:TEATROS DEL CANAL\, Madrid\, Madrid\, Madrid\, España
CATEGORIES:Precipitados
ATTACH;FMTTYPE=image/jpeg:https://caterinaproducciones.com/wp-content/uploads/2017/06/precipitados-1.jpg
END:VEVENT
BEGIN:VEVENT
DTSTART;VALUE=DATE:20220422
DTEND;VALUE=DATE:20220424
DTSTAMP:20260425T172514
CREATED:20230103T185615Z
LAST-MODIFIED:20230103T185615Z
UID:7267-1650589200-1650675599@caterinaproducciones.com
SUMMARY:Precipitados
DESCRIPTION:
URL:https://caterinaproducciones.com/evento/precipitados/2022-04-22/
LOCATION:TEATROS DEL CANAL\, Madrid\, Madrid\, Madrid\, España
CATEGORIES:Precipitados
ATTACH;FMTTYPE=image/jpeg:https://caterinaproducciones.com/wp-content/uploads/2017/06/precipitados-1.jpg
END:VEVENT
BEGIN:VEVENT
DTSTART;VALUE=DATE:20220423
DTEND;VALUE=DATE:20220425
DTSTAMP:20260425T172514
CREATED:20230103T185615Z
LAST-MODIFIED:20230103T185615Z
UID:7268-1650675600-1650761999@caterinaproducciones.com
SUMMARY:Precipitados
DESCRIPTION:
URL:https://caterinaproducciones.com/evento/precipitados/2022-04-23/
LOCATION:TEATROS DEL CANAL\, Madrid\, Madrid\, Madrid\, España
CATEGORIES:Precipitados
ATTACH;FMTTYPE=image/jpeg:https://caterinaproducciones.com/wp-content/uploads/2017/06/precipitados-1.jpg
END:VEVENT
BEGIN:VEVENT
DTSTART;VALUE=DATE:20220424
DTEND;VALUE=DATE:20220426
DTSTAMP:20260425T172514
CREATED:20230103T185615Z
LAST-MODIFIED:20230103T185615Z
UID:7269-1650762000-1650848399@caterinaproducciones.com
SUMMARY:Precipitados
DESCRIPTION:
URL:https://caterinaproducciones.com/evento/precipitados/2022-04-24/
LOCATION:TEATROS DEL CANAL\, Madrid\, Madrid\, Madrid\, España
CATEGORIES:Precipitados
ATTACH;FMTTYPE=image/jpeg:https://caterinaproducciones.com/wp-content/uploads/2017/06/precipitados-1.jpg
END:VEVENT
BEGIN:VEVENT
DTSTART;VALUE=DATE:20220426
DTEND;VALUE=DATE:20220428
DTSTAMP:20260425T172514
CREATED:20230103T185615Z
LAST-MODIFIED:20230103T185615Z
UID:7270-1650934800-1651021199@caterinaproducciones.com
SUMMARY:Precipitados
DESCRIPTION:
URL:https://caterinaproducciones.com/evento/precipitados/2022-04-26/
LOCATION:TEATROS DEL CANAL\, Madrid\, Madrid\, Madrid\, España
CATEGORIES:Precipitados
ATTACH;FMTTYPE=image/jpeg:https://caterinaproducciones.com/wp-content/uploads/2017/06/precipitados-1.jpg
END:VEVENT
BEGIN:VEVENT
DTSTART;VALUE=DATE:20220427
DTEND;VALUE=DATE:20220429
DTSTAMP:20260425T172514
CREATED:20230103T185615Z
LAST-MODIFIED:20230103T185615Z
UID:7271-1651021200-1651107599@caterinaproducciones.com
SUMMARY:Precipitados
DESCRIPTION:
URL:https://caterinaproducciones.com/evento/precipitados/2022-04-27/
LOCATION:TEATROS DEL CANAL\, Madrid\, Madrid\, Madrid\, España
CATEGORIES:Precipitados
ATTACH;FMTTYPE=image/jpeg:https://caterinaproducciones.com/wp-content/uploads/2017/06/precipitados-1.jpg
END:VEVENT
BEGIN:VEVENT
DTSTART;VALUE=DATE:20220428
DTEND;VALUE=DATE:20220430
DTSTAMP:20260425T172514
CREATED:20230103T185615Z
LAST-MODIFIED:20230103T185615Z
UID:7272-1651107600-1651193999@caterinaproducciones.com
SUMMARY:Precipitados
DESCRIPTION:
URL:https://caterinaproducciones.com/evento/precipitados/2022-04-28/
LOCATION:TEATROS DEL CANAL\, Madrid\, Madrid\, Madrid\, España
CATEGORIES:Precipitados
ATTACH;FMTTYPE=image/jpeg:https://caterinaproducciones.com/wp-content/uploads/2017/06/precipitados-1.jpg
END:VEVENT
BEGIN:VEVENT
DTSTART;VALUE=DATE:20220429
DTEND;VALUE=DATE:20220501
DTSTAMP:20260425T172514
CREATED:20230103T185615Z
LAST-MODIFIED:20230103T185615Z
UID:7273-1651194000-1651280399@caterinaproducciones.com
SUMMARY:Precipitados
DESCRIPTION:
URL:https://caterinaproducciones.com/evento/precipitados/2022-04-29/
LOCATION:TEATROS DEL CANAL\, Madrid\, Madrid\, Madrid\, España
CATEGORIES:Precipitados
ATTACH;FMTTYPE=image/jpeg:https://caterinaproducciones.com/wp-content/uploads/2017/06/precipitados-1.jpg
END:VEVENT
BEGIN:VEVENT
DTSTART;VALUE=DATE:20220430
DTEND;VALUE=DATE:20220502
DTSTAMP:20260425T172514
CREATED:20230103T185615Z
LAST-MODIFIED:20230103T185615Z
UID:7274-1651280400-1651366799@caterinaproducciones.com
SUMMARY:Precipitados
DESCRIPTION:
URL:https://caterinaproducciones.com/evento/precipitados/2022-04-30/
LOCATION:TEATROS DEL CANAL\, Madrid\, Madrid\, Madrid\, España
CATEGORIES:Precipitados
ATTACH;FMTTYPE=image/jpeg:https://caterinaproducciones.com/wp-content/uploads/2017/06/precipitados-1.jpg
END:VEVENT
BEGIN:VEVENT
DTSTART;VALUE=DATE:20220501
DTEND;VALUE=DATE:20220503
DTSTAMP:20260425T172514
CREATED:20230103T185615Z
LAST-MODIFIED:20230103T185615Z
UID:7275-1651366800-1651453199@caterinaproducciones.com
SUMMARY:Precipitados
DESCRIPTION:
URL:https://caterinaproducciones.com/evento/precipitados/2022-05-01/
LOCATION:TEATROS DEL CANAL\, Madrid\, Madrid\, Madrid\, España
CATEGORIES:Precipitados
ATTACH;FMTTYPE=image/jpeg:https://caterinaproducciones.com/wp-content/uploads/2017/06/precipitados-1.jpg
END:VEVENT
END:VCALENDAR